Workbook

Sheet KSK U 17 feb
D1: Spelad | E1: IM | H1: Varning | I1: Utvisning
A2: Casper Lönn | D2: 1 | E2: 2 | J2: Hela matchen
E3: Mål | F3: Ass | G3: Poäng | H3: Varning | I3: Utvisning | J3: Notering
A4: Noa Hedlund | D4: 1 | G4: =E4+F4 -> 0 | J4: Mittback ( hb ca 15) totalt ca 65
A5: Willhelm Lövgren Olofsson | D5: 1 | G5: =E5+F5 -> 0 | J5: Mittback totalt ca 65
A6: Mohammed Hassan | D6: 1 | G6: =E6+F6 -> 0 | J6: Mittback 45
A7: Albin Fager | D7: 1 | G7: =E7+F7 -> 0 | J7: Högerback 45 samt 20 min mb
A8: Christoffer Kalayjian | D8: 1 | G8: 0 | J8: vänsterback 45
A9: Samir Mustafa | D9: 1 | G9: 0 | J9: vänsterback 45
A10: Besnik Hyseni | D10: 1 | E10: 0 | G10: =E10+F10 -> 0 | J10: Ytterforward 45
A11: Joel Eriksson | D11: 1 | F11: 0 | G11: =E11+F11 -> 0 | J11: offensiv mf 45
A12: Ludwig Claesson | D12: 1 | F12: 0 | G12: =E12+F12 -> 0 | J12: offensiv mf 45
A13: Andreas Larsson | D13: 1 | F13: 0 | G13: =E13+F13 -> 0 | J13: Defensiv mf 55
A14: Ruben Lindahl | D14: 1 | G14: =E14+F14 -> 0 | J14: vänster forward 45, ytterback 25
A15: David Orescovic | D15: 1 | E15: 0 | G15: =E15+F15 -> 0 | J15: centralforward 45 20 defensiv mf
A16: Dejan Jovanovic | D16: 1 | G16: 0 | J16: Ytterforward 45
A17: Robert Sardi | D17: 1 | G17: 0 | J17: Ytterforward 45
A18: Fredric Oreskovic | D18: 1 | G18: 0 | J18: mittfältare defensiv 45
A19: Isak Östergren | D19: 1 | G19: 0 | J19: Mittforward 45
A20: Mohamed Hamada | D20: 1 | G20: 0 | J20: Mittfältare defensiv 60
A30: KSK U | C30: 0 | D30: - | E30: 2

Sheet EGOIF
D1: Spelad | E1: IM | H1: Varning | I1: Utvisning
A2: William Sjöstrand | D2: 1 | E2: 0
E3: Mål | F3: Ass | G3: Poäng | H3: Varning | I3: Utvisning | J3: Notering
A4: Noa Hedlund | D4: 1 | E4: 1 | G4: =E4+F4 -> 1
A5: Willhelm Lövgren Olofsson | D5: 1 | F5: 1 | G5: =E5+F5 -> 1
A6: Isak Ekholm | D6: 1 | G6: =E6+F6 -> 0
A7: Nils Rytter | D7: 1 | E7: 1 | G7: =E7+F7 -> 1
A8: David Wangefors | D8: 1 | F8: 1 | G8: =E8+F8 -> 1
A9: Hampus Sjöblom | D9: 1 | E9: 1 | G9: =E9+F9 -> 1
A10: Robert Sardi | D10: 1 | E10: 1 | G10: =E10+F10 -> 1
A11: Dejan Jovanovic | D11: 1 | F11: 2 | G11: =E11+F11 -> 2
A12: Samir Mustafa | D12: 1 | G12: =E12+F12 -> 0
A13: David Oreskovic | D13: 1 | E13: 2 | G13: =E13+F13 -> 2
A14: Ruben Lindahl | D14: 1 | E14: 1 | F14: 1 | G14: =E14+F14 -> 2
A15: Isak Östergren | D15: 1 | G15: =E15+F15 -> 0
A20: Björkvik | C20: 7 | D20: - | E20: 0

Sheet VFC A
D1: Spelad | E1: IM | H1: Varning | I1: Utvisning
A2: William Sjöstrand | D2: 1 | E2: 3
E3: Mål | F3: Ass | G3: Poäng | H3: Varning | I3: Utvisning | J3: Notering
A4: Noa Hedlund | D4: 1 | G4: =E4+F4 -> 0
A5: Willhelm Lövgren Olofsson | D5: 1 | G5: =E5+F5 -> 0
A6: Konrad Emanuelsson | D6: 1 | G6: =E6+F6 -> 0
A7: Albin Fager | D7: 1 | G7: =E7+F7 -> 0
A8: David Wangefors | D8: 1 | G8: =E8+F8 -> 0
A9: Hampus Sjöblom | D9: 1 | G9: =E9+F9 -> 0 | H9: 1
A10: Besnik Hyseni | D10: 1 | G10: =E10+F10 -> 0
A11: Joel Eriksson | D11: 1 | G11: =E11+F11 -> 0
A12: Dejan Jovanovic | D12: 1 | E12: 1 | G12: =E12+F12 -> 1 | J12: Bonuststraff
A13: Olof Hammarström | D13: 1 | G13: =E13+F13 -> 0
A14: Ruben Lindahl | D14: 1 | G14: =E14+F14 -> 0
A15: Gustav Danielsson | D15: 1 | E15: 2 | G15: =E15+F15 -> 2 | J15: 2 Bonusstraff
A20: VFC | C20: 3 | D20: - | E20: 3

Sheet Byle
D1: Spelad | E1: IM | H1: Varning | I1: Utvisning
A2: William Sjöstrand | D2: 1 | E2: 1
E3: Mål | F3: Ass | G3: Poäng | H3: Varning | I3: Utvisning | J3: Notering
A4: Noa Hedlund | D4: 1 | E4: 1 | G4: =E4+F4 -> 1
A5: Willhelm Lövgren Olofsson | D5: 1 | G5: =E5+F5 -> 0 | H5: 1
A6: Konrad Emanuelsson | D6: 1 | G6: =E6+F6 -> 0
A7: Albin Fager | D7: 1 | F7: 1 | G7: =E7+F7 -> 1
A8: David Wangefors | D8: 1 | F8: 1 | G8: =E8+F8 -> 1
A9: Hampus Sjöblom | D9: 1 | G9: =E9+F9 -> 0
A10: Besnik Hyseni | D10: 1 | F10: 1 | G10: =E10+F10 -> 1
A11: Joel Eriksson | D11: 1 | G11: =E11+F11 -> 0
A12: Dejan Jovanovic | D12: 1 | E12: 1 | G12: =E12+F12 -> 1 | J12: bonusstraff
A13: David Oreskovic | D13: 1 | E13: 1 | G13: =E13+F13 -> 1
A14: Ruben Lindahl | D14: 1 | E14: 1 | G14: =E14+F14 -> 1 | H14: 1
A15: Gustav Danielsson | D15: 1 | E15: 1 | F15: 1 | G15: =E15+F15 -> 2
A20: Marsjö/Byle | C20: 5 | D20: - | E20: 1

Sheet VFC U kvart
D1: Spelad | E1: IM | H1: Varning | I1: Utvisning
A2: William Sjöstrand | D2: 1 | E2: 2
E3: Mål | F3: Ass | G3: Poäng | H3: Varning | I3: Utvisning | J3: Notering
A4: Noa Hedlund | D4: 1 | G4: =E4+F4 -> 0
A5: Isak Östergren | D5: 1 | E5: 1 | G5: =E5+F5 -> 1
A6: Konrad Emanuelsson | D6: 1 | E6: 1 | G6: =E6+F6 -> 1
A7: Albin Fager | D7: 1 | G7: =E7+F7 -> 0
A8: Nils Rytter | D8: 1 | G8: =E8+F8 -> 0
A9: Hampus Sjöblom | D9: 1 | F9: 1 | G9: =E9+F9 -> 1
A10: Robin Gustafsson | D10: 1 | E10: 1 | G10: =E10+F10 -> 1
A11: Joel Eriksson | D11: 1 | G11: =E11+F11 -> 0
A12: Dejan Jovanovic | D12: 1 | E12: 1 | F12: 2 | G12: =E12+F12 -> 3 | J12: bonusstraff
A13: David Oreskovic | D13: 1 | F13: 1 | G13: =E13+F13 -> 1
A14: Ruben Lindahl | D14: 1 | E14: 2 | G14: =E14+F14 -> 2 | H14: 1
A15: Gustav Danielsson | D15: 1 | E15: 1 | G15: =E15+F15 -> 1 | J15: bonusstraff
A20: VFC U | C20: 7 | D20: - | E20: 2

Sheet VFC A Semi
D1: Spelad | E1: IM | H1: Varning | I1: Utvisning
A2: William Sjöstrand | D2: 1 | E2: 7
E3: Mål | F3: Ass | G3: Poäng | H3: Varning | I3: Utvisning | J3: Notering
A4: Noa Hedlund | D4: 1 | G4: =E4+F4 -> 0
A5: Isak Östergren | D5: 1 | G5: =E5+F5 -> 0
A6: Konrad Emanuelsson | D6: 1 | G6: =E6+F6 -> 0
A7: Albin Fager | D7: 1 | G7: =E7+F7 -> 0
A8: Nils Rytter | D8: 1 | G8: =E8+F8 -> 0
A9: Hampus Sjöblom | D9: 1 | G9: =E9+F9 -> 0
A10: Robin Gustafsson | D10: 1 | G10: =E10+F10 -> 0
A11: Joel Eriksson | D11: 1 | G11: =E11+F11 -> 0
A12: Besnik Hyseni | D12: 1 | G12: =E12+F12 -> 0
A13: David Oreskovic | D13: 1 | E13: 1 | G13: =E13+F13 -> 1 | J13: bonusstraff
A14: Olof Hammarström | D14: 1 | G14: =E14+F14 -> 0
A15: Gustav Danielsson | D15: 1 | E15: 1 | G15: =E15+F15 -> 1 | J15: bonusstraff
A20: VFC A | D20: -
A21: 2 | B21: - | C21: 7

Sheet Vingåker 3_4
D1: Spelad | E1: IM | H1: Varning | I1: Utvisning
A2: William Sjöstrand | D2: 1 | E2: 6
E3: Mål | F3: Ass | G3: Poäng | H3: Varning | I3: Utvisning | J3: Notering
A4: Noa Hedlund | D4: 1 | G4: =E4+F4 -> 0
A5: Isak Östergren | D5: 1 | G5: =E5+F5 -> 0
A6: Konrad Emanuelsson | D6: 1 | G6: =E6+F6 -> 0
A7: Albin Fager | D7: 1 | E7: 1 | G7: =E7+F7 -> 1
A8: Nils Rytter | D8: 1 | G8: =E8+F8 -> 0
A9: Hampus Sjöblom | D9: 1 | E9: 1 | G9: =E9+F9 -> 1
A10: Robert Sardi | D10: 1 | F10: 1 | G10: =E10+F10 -> 1
A11: Besnik Hyseini | D11: 1 | F11: 1 | G11: =E11+F11 -> 1
A12: David Oreskovic | D12: 1 | F12: 1 | G12: =E12+F12 -> 1
A13: Ruben Lindahl | D13: 1 | G13: =E13+F13 -> 0
A14: Gustav Danielsson | D14: 1 | E14: 1 | G14: =E14+F14 -> 1
A15: Olof Hammarström | D15: 1 | E15: 0 | F15: 0 | G15: =E15+F15 -> 0
A16: Vingåker
A17: 3 | B17: - | C17: 6
D19: -

Sheet Totalt 
A1: Gjorda mål | B1: ='KSK U 17 feb'!C21+EGOIF!C20+'VFC A'!C20+Byle!C20+'VFC U kvart'!C20+'VFC A Semi'!A21+'Vingåker 3_4'!A17 -> 27 | D1: Varav bonusstraffar | G1: =1+3+1+2+2 -> 9
A2: Insläppta mål | B2: ='KSK U 17 feb'!E21+EGOIF!E20+'VFC A'!E20+Byle!E20+'VFC U kvart'!E20+'VFC A Semi'!C21+'Vingåker 3_4'!C17 -> 19
B4: Spelad | C4: IM | F4: Varning | G4: Utvisning
A5: William Sjöstrand | B5: ='KSK U 17 feb'!D2+EGOIF!D2+'VFC A'!D2+Byle!D2+'VFC U kvart'!D2+'VFC A Semi'!D2+'Vingåker 3_4'!D2 -> 7 | C5: ='KSK U 17 feb'!E2+EGOIF!E2+'VFC A'!E2+Byle!E2+'VFC U kvart'!E2+'VFC A Semi'!E2+'Vingåker 3_4'!E2 -> 21 | F5: ='KSK U 17 feb'!H2+EGOIF!H2+'VFC A'!H2+Byle!H2+'VFC U kvart'!H2+'VFC A Semi'!H2+'Vingåker 3_4'!H2 -> 0 | G5: ='KSK U 17 feb'!I2+EGOIF!I2+'VFC A'!I2+Byle!I2+'VFC U kvart'!I2+'VFC A Semi'!I2+'Vingåker 3_4'!I2 -> 0
C7: Mål | D7: Ass | E7: Poäng | F7: Varning | G7: Utvisning | H7: Notering
A8: Noa Hedlund | B8: ='KSK U 17 feb'!D4+EGOIF!D4+'VFC A'!D4+Byle!D4+'VFC U kvart'!D4+'VFC A Semi'!D4+'Vingåker 3_4'!D4 -> 7 | C8: ='KSK U 17 feb'!E4+EGOIF!E4+'VFC A'!E4+Byle!E4+'VFC U kvart'!E4+'VFC A Semi'!E4+'Vingåker 3_4'!E4 -> 2 | D8: ='KSK U 17 feb'!F4+EGOIF!F4+'VFC A'!F4+Byle!F4+'VFC U kvart'!F4+'VFC A Semi'!F4+'Vingåker 3_4'!F4 -> 0 | E8: ='KSK U 17 feb'!G4+EGOIF!G4+'VFC A'!G4+Byle!G4+'VFC U kvart'!G4+'VFC A Semi'!G4+'Vingåker 3_4'!G4 -> 2 | F8: ='KSK U 17 feb'!H4+EGOIF!H4+'VFC A'!H4+Byle!H4+'VFC U kvart'!H4+'VFC A Semi'!H4+'Vingåker 3_4'!H4 -> 0 | G8: ='KSK U 17 feb'!I4+EGOIF!I4+'VFC A'!I4+Byle!I4+'VFC U kvart'!I4+'VFC A Semi'!I4+'Vingåker 3_4'!I4 -> 0
A9: Willhelm Lövgren Olofsson | B9: ='KSK U 17 feb'!D5+EGOIF!D5+'VFC A'!D5+Byle!D5 -> 4 | C9: ='KSK U 17 feb'!E5+EGOIF!E5+'VFC A'!E5+Byle!E5 -> 0 | D9: ='KSK U 17 feb'!F5+EGOIF!F5+'VFC A'!F5+Byle!F5 -> 1 | E9: ='KSK U 17 feb'!G5+EGOIF!G5+'VFC A'!G5+Byle!G5 -> 1 | F9: ='KSK U 17 feb'!H5+EGOIF!H5+'VFC A'!H5+Byle!H5 -> 1 | G9: ='KSK U 17 feb'!I5+EGOIF!I5+'VFC A'!I5+Byle!I5 -> 0
A10: Konrad Emanuelsson | B10: ='KSK U 17 feb'!D6+'VFC A'!D6+Byle!D6+'VFC U kvart'!D6+'VFC A Semi'!D6+'Vingåker 3_4'!D6 -> 6 | C10: ='KSK U 17 feb'!E6+EGOIF!E6+'VFC A'!E6+Byle!E6+'VFC U kvart'!E6+'VFC A Semi'!E6+'Vingåker 3_4'!E6 -> 1 | D10: ='KSK U 17 feb'!F6+EGOIF!F6+'VFC A'!F6+Byle!F6+'VFC U kvart'!F6+'VFC A Semi'!F6+'Vingåker 3_4'!F6 -> 0 | E10: ='KSK U 17 feb'!G6+EGOIF!G6+'VFC A'!G6+Byle!G6+'VFC U kvart'!G6+'VFC A Semi'!G6+'Vingåker 3_4'!G6 -> 1 | F10: ='KSK U 17 feb'!H6+EGOIF!H6+'VFC A'!H6+Byle!H6+'VFC U kvart'!H6+'VFC A Semi'!H6+'Vingåker 3_4'!H6 -> 0 | G10: ='KSK U 17 feb'!I6+EGOIF!I6+'VFC A'!I6+Byle!I6+'VFC U kvart'!I6+'VFC A Semi'!I6+'Vingåker 3_4'!I6 -> 0
A11: Albin Fager | B11: ='KSK U 17 feb'!D7+'VFC A'!D7+Byle!D7+'VFC U kvart'!D7+'VFC A Semi'!D7+'Vingåker 3_4'!D7 -> 6 | C11: ='KSK U 17 feb'!E7+'VFC A'!E7+Byle!E7+'VFC U kvart'!E7+'VFC A Semi'!E7+'Vingåker 3_4'!E7 -> 1 | D11: ='KSK U 17 feb'!F7+'VFC A'!F7+Byle!F7+'VFC U kvart'!F7+'VFC A Semi'!F7+'Vingåker 3_4'!F7 -> 1 | E11: ='KSK U 17 feb'!G7+'VFC A'!G7+Byle!G7+'VFC U kvart'!G7+'VFC A Semi'!G7+'Vingåker 3_4'!G7 -> 2 | F11: ='KSK U 17 feb'!H7+'VFC A'!H7+Byle!H7+'VFC U kvart'!H7+'VFC A Semi'!H7+'Vingåker 3_4'!H7 -> 0 | G11: ='KSK U 17 feb'!I7+'VFC A'!I7+Byle!I7+'VFC U kvart'!I7+'VFC A Semi'!I7+'Vingåker 3_4'!I7 -> 0
A12: David Wangefors | B12: ='KSK U 17 feb'!D8+EGOIF!D8+'VFC A'!D8+Byle!D8 -> 4 | C12: ='KSK U 17 feb'!E8+EGOIF!E8+'VFC A'!E8+Byle!E8 -> 0 | D12: ='KSK U 17 feb'!F8+EGOIF!F8+'VFC A'!F8+Byle!F8 -> 2 | E12: ='KSK U 17 feb'!G8+EGOIF!G8+'VFC A'!G8+Byle!G8 -> 2 | F12: ='KSK U 17 feb'!H8+EGOIF!H8+'VFC A'!H8+Byle!H8 -> 0 | G12: ='KSK U 17 feb'!I8+EGOIF!I8+'VFC A'!I8+Byle!I8 -> 0
A13: Hampus Sjöblom | B13: ='KSK U 17 feb'!D9+EGOIF!D9+'VFC A'!D9+Byle!D9+'VFC U kvart'!D9+'VFC A Semi'!D9+'Vingåker 3_4'!D9 -> 7 | C13: ='KSK U 17 feb'!E9+EGOIF!E9+'VFC A'!E9+Byle!E9+'VFC U kvart'!E9+'VFC A Semi'!E9+'Vingåker 3_4'!E9 -> 2 | D13: ='KSK U 17 feb'!F9+EGOIF!F9+'VFC A'!F9+Byle!F9+'VFC U kvart'!F9+'VFC A Semi'!F9+'Vingåker 3_4'!F9 -> 1 | E13: ='KSK U 17 feb'!G9+EGOIF!G9+'VFC A'!G9+Byle!G9+'VFC U kvart'!G9+'VFC A Semi'!G9+'Vingåker 3_4'!G9 -> 3 | F13: ='KSK U 17 feb'!H9+EGOIF!H9+'VFC A'!H9+Byle!H9+'VFC U kvart'!H9+'VFC A Semi'!H9+'Vingåker 3_4'!H9 -> 1 | G13: ='KSK U 17 feb'!I9+EGOIF!I9+'VFC A'!I9+Byle!I9+'VFC U kvart'!I9+'VFC A Semi'!I9+'Vingåker 3_4'!I9 -> 0
A14: Besnik Hyseni | B14: ='KSK U 17 feb'!D10+'VFC A'!D10+Byle!D10+'VFC A Semi'!D12+'Vingåker 3_4'!D11 -> 5 | C14: ='KSK U 17 feb'!E10+'VFC A'!E10+Byle!E10+'VFC A Semi'!E12+'Vingåker 3_4'!E11 -> 0 | D14: ='KSK U 17 feb'!F10+'VFC A'!F10+Byle!F10+'VFC A Semi'!F12+'Vingåker 3_4'!F11 -> 2 | E14: ='KSK U 17 feb'!G10+'VFC A'!G10+Byle!G10+'VFC A Semi'!G12+'Vingåker 3_4'!G11 -> 2 | F14: ='KSK U 17 feb'!H10+'VFC A'!H10+Byle!H10+'VFC A Semi'!H12+'Vingåker 3_4'!H11 -> 0 | G14: ='KSK U 17 feb'!I10+'VFC A'!I10+Byle!I10+'VFC A Semi'!I12+'Vingåker 3_4'!I11 -> 0
A15: Joel Eriksson | B15: ='KSK U 17 feb'!D11+'VFC A'!D11+Byle!D11+'VFC U kvart'!D11+'VFC A Semi'!D11 -> 5 | C15: ='KSK U 17 feb'!E11+'VFC A'!E11+Byle!E11+'VFC U kvart'!E11+'VFC A Semi'!E11 -> 0 | D15: ='KSK U 17 feb'!F11+'VFC A'!F11+Byle!F11+'VFC U kvart'!F11+'VFC A Semi'!F11 -> 0 | E15: ='KSK U 17 feb'!G11+'VFC A'!G11+Byle!G11+'VFC U kvart'!G11+'VFC A Semi'!G11 -> 0 | F15: ='KSK U 17 feb'!H11+'VFC A'!H11+Byle!H11+'VFC U kvart'!H11+'VFC A Semi'!H11 -> 0 | G15: ='KSK U 17 feb'!I11+'VFC A'!I11+Byle!I11+'VFC U kvart'!I11+'VFC A Semi'!I11 -> 0
A16: Ludwig Claesson | B16: ='KSK U 17 feb'!D12 -> 1 | C16: ='KSK U 17 feb'!E12 -> 0 | D16: ='KSK U 17 feb'!F12 -> 0 | E16: ='KSK U 17 feb'!G12 -> 0 | F16: ='KSK U 17 feb'!H12 -> 0 | G16: ='KSK U 17 feb'!I12 -> 0
A17: Olof Hammarström | B17: ='KSK U 17 feb'!D13+'VFC A'!D13+'VFC A Semi'!D14+'Vingåker 3_4'!D15 -> 4 | C17: ='KSK U 17 feb'!E13+'VFC A'!E13+'VFC A Semi'!E14 -> 0 | D17: ='KSK U 17 feb'!F13+'VFC A'!F13+'VFC A Semi'!F14 -> 0 | E17: ='KSK U 17 feb'!G13+'VFC A'!G13+'VFC A Semi'!G14 -> 0 | F17: ='KSK U 17 feb'!H13+'VFC A'!H13+'VFC A Semi'!H14 -> 0 | G17: ='KSK U 17 feb'!I13+'VFC A'!I13+'VFC A Semi'!I14 -> 0
A18: Ruben Lindahl | B18: ='KSK U 17 feb'!D14+EGOIF!D14+'VFC A'!D14+Byle!D14+'VFC U kvart'!D14+'Vingåker 3_4'!D13 -> 6 | C18: ='KSK U 17 feb'!E14+EGOIF!E14+'VFC A'!E14+Byle!E14+'VFC U kvart'!E14+'Vingåker 3_4'!E13 -> 4 | D18: ='KSK U 17 feb'!F14+EGOIF!F14+'VFC A'!F14+Byle!F14+'VFC U kvart'!F14+'Vingåker 3_4'!F13 -> 1 | E18: ='KSK U 17 feb'!G14+EGOIF!G14+'VFC A'!G14+Byle!G14+'VFC U kvart'!G14+'Vingåker 3_4'!G13 -> 5 | F18: ='KSK U 17 feb'!H14+EGOIF!H14+'VFC A'!H14+Byle!H14+'VFC U kvart'!H14+'Vingåker 3_4'!H13 -> 2 | G18: ='KSK U 17 feb'!I14+EGOIF!I14+'VFC A'!I14+Byle!I14+'VFC U kvart'!I14+'Vingåker 3_4'!I13 -> 0
A19: David Oreskovic | B19: ='KSK U 17 feb'!D15+EGOIF!D13+Byle!D13+'VFC U kvart'!D13+'VFC A Semi'!D13+'Vingåker 3_4'!D12 -> 6 | C19: ='KSK U 17 feb'!E15+EGOIF!E13+Byle!E13+'VFC U kvart'!E13+'VFC A Semi'!E13+'Vingåker 3_4'!E12 -> 4 | D19: ='KSK U 17 feb'!F15+EGOIF!F13+Byle!F13+'VFC U kvart'!F13+'VFC A Semi'!F13+'Vingåker 3_4'!F12 -> 2 | E19: ='KSK U 17 feb'!G15+EGOIF!G13+Byle!G13+'VFC U kvart'!G13+'VFC A Semi'!G13+'Vingåker 3_4'!G12 -> 6 | F19: ='KSK U 17 feb'!H15+EGOIF!H13+Byle!H13+'VFC U kvart'!H13+'VFC A Semi'!H13+'Vingåker 3_4'!H12 -> 0 | G19: ='KSK U 17 feb'!I15+EGOIF!I13+Byle!I13+'VFC U kvart'!I13+'VFC A Semi'!I13+'Vingåker 3_4'!I12 -> 0 | H19: 2 bonusstraff
A20: Robin Gustafsson | B20: ='VFC U kvart'!D10+'VFC A Semi'!D10 -> 2 | C20: ='VFC U kvart'!E10+'VFC A Semi'!E10+'Vingåker 3_4'!E10 -> 1 | D20: ='VFC U kvart'!F10+'VFC A Semi'!F10+'Vingåker 3_4'!F10 -> 1 | E20: ='VFC U kvart'!G10+'VFC A Semi'!G10+'Vingåker 3_4'!G10 -> 2 | F20: ='VFC U kvart'!H10+'VFC A Semi'!H10+'Vingåker 3_4'!H10 -> 0 | G20: ='VFC U kvart'!I10+'VFC A Semi'!I10+'Vingåker 3_4'!I10 -> 0
A21: Isak Östergren | B21: =EGOIF!D15+'VFC U kvart'!D5+'VFC A Semi'!D5+'Vingåker 3_4'!D5 -> 4 | C21: =EGOIF!E15+'VFC U kvart'!E5+'VFC A Semi'!E5+'Vingåker 3_4'!E5 -> 1 | D21: =EGOIF!F15+'VFC U kvart'!F5+'VFC A Semi'!F5+'Vingåker 3_4'!F5 -> 0 | E21: =EGOIF!G15+'VFC U kvart'!G5+'VFC A Semi'!G5+'Vingåker 3_4'!G5 -> 1 | F21: =EGOIF!H15+'VFC U kvart'!H5+'VFC A Semi'!H5+'Vingåker 3_4'!H5 -> 0 | G21: =EGOIF!I15+'VFC U kvart'!I5+'VFC A Semi'!I5+'Vingåker 3_4'!I5 -> 0
A22: Isak Ekholm | B22: =EGOIF!D6 -> 1 | C22: =EGOIF!E6 -> 0 | D22: =EGOIF!F6 -> 0 | E22: =EGOIF!G6 -> 0 | F22: =EGOIF!H6 -> 0 | G22: =EGOIF!I6 -> 0
A23: Nils Rytter | B23: =EGOIF!D7+'VFC U kvart'!D8+'VFC A Semi'!D8+'Vingåker 3_4'!D8 -> 4 | C23: =EGOIF!E7+'VFC U kvart'!E8+'VFC A Semi'!E8+'Vingåker 3_4'!E8 -> 1 | D23: =EGOIF!F7+'VFC U kvart'!F8+'VFC A Semi'!F8+'Vingåker 3_4'!F8 -> 0 | E23: =EGOIF!G7+'VFC U kvart'!G8+'VFC A Semi'!G8+'Vingåker 3_4'!G8 -> 1 | F23: =EGOIF!H7+'VFC U kvart'!H8+'VFC A Semi'!H8+'Vingåker 3_4'!H8 -> 0 | G23: =EGOIF!I7+'VFC U kvart'!I8+'VFC A Semi'!I8+'Vingåker 3_4'!I8 -> 0
A24: Robert Sardi | B24: =EGOIF!D10+'Vingåker 3_4'!D10 -> 2 | C24: =EGOIF!E10 -> 1 | D24: ='Vingåker 3_4'!F10 -> 1 | E24: =EGOIF!G10+'Vingåker 3_4'!G10 -> 2 | F24: =EGOIF!H10 -> 0 | G24: =EGOIF!I10 -> 0
A25: Dejan Jovanovic | B25: =EGOIF!D11+'VFC A'!D12+Byle!D12+'VFC U kvart'!D12 -> 4 | C25: =EGOIF!E11+'VFC A'!E12+Byle!E12+'VFC U kvart'!E12 -> 3 | D25: =EGOIF!F11+'VFC A'!F12+Byle!F12+'VFC U kvart'!F12 -> 4 | E25: =EGOIF!G11+'VFC A'!G12+Byle!G12+'VFC U kvart'!G12 -> 7 | F25: =EGOIF!H11+'VFC A'!H12+Byle!H12+'VFC U kvart'!H12 -> 0 | G25: =EGOIF!I11+'VFC A'!I12+Byle!I12+'VFC U kvart'!I12 -> 0 | H25: 3 bonusstraffar
A26: Samir Mustafa | B26: =EGOIF!D12 -> 1 | C26: =EGOIF!E12 -> 0 | D26: =EGOIF!F12 -> 0 | E26: =EGOIF!G12 -> 0 | F26: =EGOIF!H12 -> 0 | G26: =EGOIF!I12 -> 0
A27: ='VFC A'!A15 -> Gustav Danielsson | B27: ='VFC A'!D15+Byle!D15+'VFC U kvart'!D15+'VFC A Semi'!D15+'Vingåker 3_4'!D14 -> 5 | C27: ='VFC A'!E15+Byle!E15+'VFC U kvart'!E15+'VFC A Semi'!E15+'Vingåker 3_4'!E14 -> 6 | D27: ='VFC A'!F15+Byle!F15+'VFC U kvart'!F15+'VFC A Semi'!F15+'Vingåker 3_4'!F14 -> 1 | E27: ='VFC A'!G15+Byle!G15+'VFC U kvart'!G15+'VFC A Semi'!G15+'Vingåker 3_4'!G14 -> 7 | F27: ='VFC A'!H15+Byle!H15+'VFC U kvart'!H15+'VFC A Semi'!H15+'Vingåker 3_4'!H14 -> 0 | G27: ='VFC A'!I15+Byle!I15+'VFC U kvart'!I15+'VFC A Semi'!I15+'Vingåker 3_4'!I14 -> 0 | H27: 4 bonusstraffar
A29: Totalt
C30: =SUM(C8:C29) -> 27 | D30: =SUM(D8:D29) -> 17 | E30: =SUM(E8:E29) -> 44 | F30: =SUM(F8:F29) -> 4 | G30: =SUM(G8:G29) -> 0
