Workbook

Sheet KSK u 
D1: Spelad | E1: IM | H1: Varning | I1: Utvisning
A2: Robert Karlsson | D2: 1 | E2: 0
E3: Mål | F3: Ass | G3: Poäng | H3: Varning | I3: Utvisning | J3: Notering
A4: Noa Hedlund | D4: 1 | G4: =E4+F4 -> 0
A5: Abduaziz Aldahi | D5: 1 | F5: 1 | G5: =E5+F5 -> 1
A6: Abdullah Abdullah | D6: 1 | G6: =E6+F6 -> 0
A7: Albin Fager | D7: 1 | G7: =E7+F7 -> 0
A8: Dejan Jovanovic | D8: 1 | E8: 2 | G8: =E8+F8 -> 2 | J8: 1 Bonusstraff
A9: Isak Östergren | D9: 1 | G9: =E9+F9 -> 0 | H9: 1
A10: Besnik Hyseni | D10: 1 | E10: 1 | G10: =E10+F10 -> 1
A11: Joel Eriksson | D11: 1 | G11: =E11+F11 -> 0
A12: Nils Rytter | D12: 1 | G12: =E12+F12 -> 0
A13: Rasmus Rytter Carpma | D13: 1 | G13: =E13+F13 -> 0
A14: Ruben Lindahl | D14: 1 | G14: =E14+F14 -> 0
A15: Robert Sardi | D15: 1 | G15: =E15+F15 -> 0
A20: KSK | C20: 3 | D20: - | E20: 0

Sheet Hälleforsnäs
D1: Spelad | E1: IM | H1: Varning | I1: Utvisning
A2: Robert Karlsson | D2: 1 | E2: 1
E3: Mål | F3: Ass | G3: Poäng | H3: Varning | I3: Utvisning | J3: Notering
A4: Noa Hedlund | D4: 1 | G4: =E4+F4 -> 0
A5: Abduaziz Aldahi | D5: 1 | E5: 1 | F5: 1 | G5: =E5+F5 -> 2
A6: Gustav Danielsson | D6: 1 | G6: =E6+F6 -> 0
A7: Albin Fager | D7: 1 | G7: =E7+F7 -> 0
A8: Dejan Jovanovic | D8: 1 | E8: 1 | G8: =E8+F8 -> 1
A9: Isak Östergren | D9: 1 | F9: 1 | G9: =E9+F9 -> 1
A10: Besnik Hyseni | D10: 1 | G10: =E10+F10 -> 0
A11: Konrad Emanuelsson | D11: 1 | G11: =E11+F11 -> 0
A12: Nils Rytter | D12: 1 | G12: =E12+F12 -> 0
A13: Rasmus Rytter Carpmans | D13: 1 | G13: =E13+F13 -> 0
A14: Robin Gustafsson | D14: 1 | G14: =E14+F14 -> 0
A15: Robert Sardi | D15: 1 | G15: =E15+F15 -> 0
A20: Hälleforsnäs | C20: 2 | D20: - | E20: 1

Sheet Malmköping
D1: Spelad | E1: IM | H1: Varning | I1: Utvisning
A2: Robert Karlsson | D2: 1 | E2: 2
E3: Mål | F3: Ass | G3: Poäng | H3: Varning | I3: Utvisning | J3: Notering
A4: Noa Hedlund | D4: 1 | G4: =E4+F4 -> 0
A5: David Oreskovic | D5: 1 | G5: 0
A6: Gustaf Danielsson | D6: 1 | F6: 1 | G6: =E6+F6 -> 1
A7: Albin Fager | D7: 1 | F7: 1 | G7: =E7+F7 -> 1
A8: Dejan Jovanovic | D8: 1 | E8: 1 | G8: =E8+F8 -> 1
A9: Robin Gustafsson | D9: 1 | F9: 1 | G9: =E9+F9 -> 1
A10: Besnik Hyseni | D10: 1 | E10: 2 | F10: 1 | G10: =E10+F10 -> 3 | H10: 1
A11: Joel Eriksson | D11: 1 | G11: =E11+F11 -> 0
A12: Nils Rytter | D12: 1 | G12: =E12+F12 -> 0
A13: Rasmus Rytter Carpmans | D13: 1 | G13: =E13+F13 -> 0
A14: David Wangefors | D14: 1 | E14: 1 | G14: =E14+F14 -> 1
A15: Robert Sardi | D15: 1 | G15: =E15+F15 -> 0
A20: Malmköping | C20: 4 | D20: - | E20: 2

Sheet VFC A kvart
D1: Spelad | E1: IM | H1: Varning | I1: Utvisning
A2: Robert Karlsson | D2: 1 | E2: 3
E3: Mål | F3: Ass | G3: Poäng | H3: Varning | I3: Utvisning | J3: Notering
A4: Noa Hedlund | D4: 1 | G4: =E4+F4 -> 0
A5: Abduaziz Aldahi | D5: 1 | G5: =E5+F5 -> 0
A6: Konrad Emanuelsson | D6: 1 | G6: =E6+F6 -> 0
A7: Albin Fager | D7: 1 | G7: =E7+F7 -> 0
A8: Robin Gustavsson | D8: 1 | G8: =E8+F8 -> 0 | H8: 1
A9: Rasmus Rytter- Carpman | D9: 1 | G9: =E9+F9 -> 0
A10: Robert Sardi | D10: 1 | G10: =E10+F10 -> 0
A11: Joel Eriksson | D11: 1 | G11: =E11+F11 -> 0
A12: Dejan Jovanovic | D12: 1 | E12: 3 | G12: =E12+F12 -> 3 | J12: 3 Bonusstraffar
A13: Olof Hammarström | D13: 1 | G13: =E13+F13 -> 0
A14: Isak Östergren | D14: 1 | G14: =E14+F14 -> 0
A15: Gustav Danielsson | D15: 1 | E15: 1 | G15: =E15+F15 -> 1
A20: Värmbols FC | D20: 4 | E20: 3

Sheet Banadir semi
D1: Spelad | E1: IM | H1: Varning | I1: Utvisning
A2: Robert Karlsson | D2: 1 | E2: 3
E3: Mål | F3: Ass | G3: Poäng | H3: Varning | I3: Utvisning | J3: Notering
A4: Noa Hedlund | D4: 1 | G4: =E4+F4 -> 0
A6: Konrad Emanuelsson | D6: 1 | G6: =E6+F6 -> 0
A7: Albin Fager | D7: 1 | G7: =E7+F7 -> 0
A8: Robin Gustavsson | D8: 1 | G8: =E8+F8 -> 0 | H8: 1
A9: Rasmus Rytter- Carpman | D9: 1 | F9: 1 | G9: =E9+F9 -> 1
A10: Robert Sardi | D10: 1 | G10: =E10+F10 -> 0
A11: Joel Eriksson | D11: 1 | G11: =E11+F11 -> 0
A12: Dejan Jovanovic | D12: 1 | G12: =E12+F12 -> 0
A13: Olof Hammarström | D13: 1 | G13: =E13+F13 -> 0
A14: Isak Östergren | D14: 1 | G14: =E14+F14 -> 0
A15: David Wangefors | D15: 1 | G15: =E15+F15 -> 0
A16: Besnik Hyseni | D16: 1 | E16: 1 | G16: =E16+F16 -> 1
A20: Banadir IK | D20: 1 | E20: 3

Sheet Högsjö Final
D1: Spelad | E1: IM | H1: Varning | I1: Utvisning
A2: Robert Karlsson | D2: 1 | E2: 7
E3: Mål | F3: Ass | G3: Poäng | H3: Varning | I3: Utvisning | J3: Notering
A4: Noa Hedlund | D4: 1 | G4: =E4+F4 -> 0
A5: Abduaziz Aldahi | D5: 1 | F5: 1 | G5: =E5+F5 -> 1
A6: Konrad Emanuelsson | D6: 1 | G6: =E6+F6 -> 0
A7: Albin Fager | D7: 1 | E7: 1 | G7: =E7+F7 -> 1
A9: Rasmus Rytter- Carpman | D9: 1 | G9: =E9+F9 -> 0
A10: Robert Sardi | D10: 1 | G10: =E10+F10 -> 0
A11: Joel Eriksson | D11: 1 | G11: =E11+F11 -> 0
A12: Dejan Jovanovic | D12: 1 | G12: =E12+F12 -> 0
A13: Olof Hammarström | D13: 1 | G13: =E13+F13 -> 0
A14: Isak Östergren | D14: 1 | E14: 1 | G14: =E14+F14 -> 1
A15: David Wangefors | D15: 1 | F15: 1 | G15: =E15+F15 -> 1
A16: Besnik Hyseni | D16: 1 | G16: 0
A20: Hälleforsnäs | D20: 2 | E20: 7

Sheet Totalt 
A1: Gjorda mål | B1: ='KSK u '!C20+Hälleforsnäs!C20+Malmköping!C20+'VFC A kvart'!D20+'Banadir semi'!D20+'Högsjö Final'!D20 -> 16 | D1: Varav bonusstraffar | G1: 4
A2: Insläppta mål | B2: ='KSK u '!E20+Hälleforsnäs!E20+Malmköping!E20+'VFC A kvart'!E20+'Banadir semi'!E20+'Högsjö Final'!E20 -> 16
B4: Spelad | C4: IM | F4: Varning | G4: Utvisning
A5: ='KSK u '!A2 -> Robert Karlsson | B5: ='KSK u '!D2+Hälleforsnäs!D2+Malmköping!D2+'VFC A kvart'!D2+'Banadir semi'!D2 -> 5 | C5: ='KSK u '!E2+Hälleforsnäs!E2+Malmköping!E2+'VFC A kvart'!E2+'Banadir semi'!E2+'Högsjö Final'!E2 -> 16 | D5: ='KSK u '!F2+Hälleforsnäs!F2+Malmköping!F2+'VFC A kvart'!F2+'Banadir semi'!F2 -> 0 | E5: ='KSK u '!G2+Hälleforsnäs!G2+Malmköping!G2+'VFC A kvart'!G2+'Banadir semi'!G2 -> 0 | F5: ='KSK u '!H2+Hälleforsnäs!H2+Malmköping!H2+'VFC A kvart'!H2+'Banadir semi'!H2 -> 0 | G5: ='KSK u '!I2+Hälleforsnäs!I2+Malmköping!I2+'VFC A kvart'!I2+'Banadir semi'!I2 -> 0
C7: Mål | D7: Ass | E7: Poäng | F7: Varning | G7: Utvisning | H7: Notering
A8: Noa Hedlund | B8: ='KSK u '!D4+Hälleforsnäs!D4+Malmköping!D4+'VFC A kvart'!D4+'Banadir semi'!D4+'Högsjö Final'!D4 -> 6 | C8: ='KSK u '!E4+Hälleforsnäs!E4+Malmköping!E4+'VFC A kvart'!E4+'Banadir semi'!E4+'Högsjö Final'!E4 -> 0 | D8: ='KSK u '!F4+Hälleforsnäs!F4+Malmköping!F4+'VFC A kvart'!F4+'Banadir semi'!F4+'Högsjö Final'!F4 -> 0 | E8: ='KSK u '!G4+Hälleforsnäs!G4+Malmköping!G4+'VFC A kvart'!G4+'Banadir semi'!G4+'Högsjö Final'!G4 -> 0 | F8: ='KSK u '!H4+Hälleforsnäs!H4+Malmköping!H4+'VFC A kvart'!H4+'Banadir semi'!H4+'Högsjö Final'!H4 -> 0 | G8: ='KSK u '!I4+Hälleforsnäs!I4+Malmköping!I4+'VFC A kvart'!I4+'Banadir semi'!I4+'Högsjö Final'!I4 -> 0
A9: ='KSK u '!A13 -> Rasmus Rytter Carpma | B9: ='KSK u '!D13+Hälleforsnäs!D13+Malmköping!D13+'VFC A kvart'!D9+'Banadir semi'!D9+'Högsjö Final'!D9 -> 6 | C9: ='KSK u '!E13+Hälleforsnäs!E13+Malmköping!E13+'VFC A kvart'!E9+'Banadir semi'!E9+'Högsjö Final'!E9 -> 0 | D9: ='KSK u '!F13+Hälleforsnäs!F13+Malmköping!F13+'VFC A kvart'!F9+'Banadir semi'!F9+'Högsjö Final'!F9 -> 1 | E9: ='KSK u '!G13+Hälleforsnäs!G13+Malmköping!G13+'VFC A kvart'!G9+'Banadir semi'!G9+'Högsjö Final'!G9 -> 1 | F9: ='KSK u '!H13+Hälleforsnäs!H13+Malmköping!H13+'VFC A kvart'!H9+'Banadir semi'!H9+'Högsjö Final'!H9 -> 0 | G9: ='KSK u '!I13+Hälleforsnäs!I13+Malmköping!I13+'VFC A kvart'!I9+'Banadir semi'!I9+'Högsjö Final'!I9 -> 0
A10: Konrad Emanuelsson | B10: =Hälleforsnäs!D11+'VFC A kvart'!D6+'Banadir semi'!D6+'Högsjö Final'!D6 -> 4 | C10: =Hälleforsnäs!E11+'VFC A kvart'!E6+'Banadir semi'!E6+'Högsjö Final'!E6 -> 0 | D10: =Hälleforsnäs!F11+'VFC A kvart'!F6+'Banadir semi'!F6+'Högsjö Final'!F6 -> 0 | E10: =Hälleforsnäs!G11+'VFC A kvart'!G6+'Banadir semi'!G6+'Högsjö Final'!G6 -> 0 | F10: =Hälleforsnäs!H11+'VFC A kvart'!H6+'Banadir semi'!H6+'Högsjö Final'!H6 -> 0 | G10: =Hälleforsnäs!I11+'VFC A kvart'!I6+'Banadir semi'!I6+'Högsjö Final'!I6 -> 0
A11: Albin Fager | B11: ='KSK u '!D7+Hälleforsnäs!D7+Malmköping!D7+'VFC A kvart'!D7+'Banadir semi'!D7+'Högsjö Final'!D7 -> 6 | C11: ='KSK u '!E7+Hälleforsnäs!E7+Malmköping!E7+'VFC A kvart'!E7 -> 0 | D11: ='KSK u '!F7+Hälleforsnäs!F7+Malmköping!F7+'VFC A kvart'!F7 -> 1 | E11: ='KSK u '!G7+Hälleforsnäs!G7+Malmköping!G7+'VFC A kvart'!G7 -> 1 | F11: ='KSK u '!H7+Hälleforsnäs!H7+Malmköping!H7+'VFC A kvart'!H7 -> 0 | G11: ='KSK u '!I7+Hälleforsnäs!I7+Malmköping!I7+'VFC A kvart'!I7 -> 0
A12: David Wangefors | B12: =Malmköping!D14+'Banadir semi'!D15+'Högsjö Final'!D15 -> 3 | C12: =Malmköping!E14 -> 1 | D12: =Malmköping!F14 -> 0 | E12: =Malmköping!G14 -> 1 | F12: =Malmköping!H14 -> 0 | G12: =Malmköping!I14 -> 0
A13: ='KSK u '!A5 -> Abduaziz Aldahi | B13: ='KSK u '!D5+Hälleforsnäs!D5+'VFC A kvart'!D5+'Banadir semi'!D5+'Högsjö Final'!D5 -> 4 | C13: ='KSK u '!E5+Hälleforsnäs!E5+'VFC A kvart'!E5+'Banadir semi'!E5+'Högsjö Final'!E5 -> 1 | D13: ='KSK u '!F5+Hälleforsnäs!F5+'VFC A kvart'!F5+'Banadir semi'!F5+'Högsjö Final'!F5 -> 3 | E13: ='KSK u '!G5+Hälleforsnäs!G5+'VFC A kvart'!G5+'Banadir semi'!G5+'Högsjö Final'!G5 -> 4 | F13: ='KSK u '!H5+Hälleforsnäs!H5+'VFC A kvart'!H5+'Banadir semi'!H5+'Högsjö Final'!H5 -> 0 | G13: ='KSK u '!I5+Hälleforsnäs!I5+'VFC A kvart'!I5+'Banadir semi'!I5+'Högsjö Final'!I5 -> 0
A14: Besnik Hyseni | B14: ='KSK u '!D10+Hälleforsnäs!D10+Malmköping!D10+'Banadir semi'!D16+'Högsjö Final'!D16 -> 5 | C14: ='KSK u '!E10+Hälleforsnäs!E10+Malmköping!E10+'Banadir semi'!E16+'Högsjö Final'!E16 -> 4 | D14: ='KSK u '!F10+Hälleforsnäs!F10+Malmköping!F10+'Banadir semi'!F16+'Högsjö Final'!F16 -> 1 | E14: ='KSK u '!G10+Hälleforsnäs!G10+Malmköping!G10+'Banadir semi'!G16+'Högsjö Final'!G16 -> 5 | F14: ='KSK u '!H10+Hälleforsnäs!H10+Malmköping!H10+'Banadir semi'!H16+'Högsjö Final'!H16 -> 1 | G14: ='KSK u '!I10+Hälleforsnäs!I10+Malmköping!I10+'Banadir semi'!I16+'Högsjö Final'!I16 -> 0
A15: Joel Eriksson | B15: ='KSK u '!D11+Malmköping!D11+'VFC A kvart'!D11+'Banadir semi'!D11+'Högsjö Final'!D11 -> 5 | C15: ='KSK u '!E11+Malmköping!E11+'VFC A kvart'!E11+'Banadir semi'!E11+'Högsjö Final'!E11 -> 0 | D15: ='KSK u '!F11+Malmköping!F11+'VFC A kvart'!F11+'Banadir semi'!F11+'Högsjö Final'!F11 -> 0 | E15: ='KSK u '!G11+Malmköping!G11+'VFC A kvart'!G11+'Banadir semi'!G11+'Högsjö Final'!G11 -> 0 | F15: ='KSK u '!H11+Malmköping!H11+'VFC A kvart'!H11+'Banadir semi'!H11+'Högsjö Final'!H11 -> 0 | G15: ='KSK u '!I11+Malmköping!I11+'VFC A kvart'!I11+'Banadir semi'!I11+'Högsjö Final'!I11 -> 0
A16: ='KSK u '!A6 -> Abdullah Abdullah | B16: ='KSK u '!D6 -> 1 | C16: ='KSK u '!E6 -> 0 | D16: ='KSK u '!F6 -> 0 | E16: ='KSK u '!G6 -> 0 | F16: ='KSK u '!H6 -> 0 | G16: ='KSK u '!I6 -> 0
A17: Olof Hammarström | B17: ='VFC A kvart'!D13+'Banadir semi'!D13+'Högsjö Final'!D13 -> 3 | C17: ='VFC A kvart'!E13 -> 0 | D17: ='VFC A kvart'!F13 -> 0 | E17: ='VFC A kvart'!G13 -> 0 | F17: ='VFC A kvart'!H13 -> 0 | G17: ='VFC A kvart'!I13 -> 0
A18: Ruben Lindahl | B18: ='KSK u '!D14 -> 1 | C18: ='KSK u '!E14 -> 0 | D18: ='KSK u '!F14 -> 0 | E18: ='KSK u '!G14 -> 0 | F18: ='KSK u '!H14 -> 0 | G18: ='KSK u '!I14 -> 0
A19: David Oreskovic | B19: =Malmköping!D5 -> 1 | C19: =Malmköping!E5 -> 0 | D19: =Malmköping!F5 -> 0 | E19: =Malmköping!G5 -> 0 | F19: =Malmköping!H5 -> 0 | G19: =Malmköping!I5 -> 0
A20: Robin Gustafsson | B20: =Hälleforsnäs!D14+Malmköping!D9+'VFC A kvart'!D8+'Banadir semi'!D8+'Högsjö Final'!D8 -> 4 | C20: =Hälleforsnäs!E14+Malmköping!E9+'VFC A kvart'!E8+'Banadir semi'!E8+'Högsjö Final'!E8 -> 0 | D20: =Hälleforsnäs!F14+Malmköping!F9+'VFC A kvart'!F8+'Banadir semi'!F8+'Högsjö Final'!F8 -> 1 | E20: =Hälleforsnäs!G14+Malmköping!G9+'VFC A kvart'!G8+'Banadir semi'!G8+'Högsjö Final'!G8 -> 1 | F20: =Hälleforsnäs!H14+Malmköping!H9+'VFC A kvart'!H8+'Banadir semi'!H8+'Högsjö Final'!H8 -> 2 | G20: =Hälleforsnäs!I14+Malmköping!I9+'VFC A kvart'!I8+'Banadir semi'!I8+'Högsjö Final'!I8 -> 0
A21: Isak Östergren | B21: ='KSK u '!D9+Hälleforsnäs!D9+'VFC A kvart'!D14+'Banadir semi'!D14+'Högsjö Final'!D14 -> 5 | C21: ='KSK u '!E9+Hälleforsnäs!E9+'VFC A kvart'!E14 -> 0 | D21: ='KSK u '!F9+Hälleforsnäs!F9+'VFC A kvart'!F14 -> 1 | E21: ='KSK u '!G9+Hälleforsnäs!G9+'VFC A kvart'!G14 -> 1 | F21: ='KSK u '!H9+Hälleforsnäs!H9+'VFC A kvart'!H14 -> 1 | G21: ='KSK u '!I9+Hälleforsnäs!I9+'VFC A kvart'!I14 -> 0
A22: Nils Rytter | B22: ='KSK u '!D12+Hälleforsnäs!D12+Malmköping!D12+'Banadir semi'!D17+'Högsjö Final'!D17 -> 3 | C22: ='KSK u '!E12+Hälleforsnäs!E12+Malmköping!E12 -> 0 | D22: ='KSK u '!F12+Hälleforsnäs!F12+Malmköping!F12 -> 0 | E22: ='KSK u '!G12+Hälleforsnäs!G12+Malmköping!G12 -> 0 | F22: ='KSK u '!H12+Hälleforsnäs!H12+Malmköping!H12 -> 0 | G22: ='KSK u '!I12+Hälleforsnäs!I12+Malmköping!I12 -> 0
A23: Robert Sardi | B23: ='KSK u '!D15+Hälleforsnäs!D15+Malmköping!D15+'VFC A kvart'!D10+'Banadir semi'!D10+'Högsjö Final'!D10 -> 6 | C23: ='KSK u '!E15+Hälleforsnäs!E15+Malmköping!E15+'VFC A kvart'!E10 -> 0 | D23: ='KSK u '!F15+Hälleforsnäs!F15+Malmköping!F15+'VFC A kvart'!F10 -> 0 | E23: ='KSK u '!G15+Hälleforsnäs!G15+Malmköping!G15+'VFC A kvart'!G10 -> 0 | F23: ='KSK u '!H15+Hälleforsnäs!H15+Malmköping!H15+'VFC A kvart'!H10 -> 0 | G23: ='KSK u '!I15+Hälleforsnäs!I15+Malmköping!I15+'VFC A kvart'!I10 -> 0
A24: Dejan Jovanovic | B24: ='KSK u '!D8+Hälleforsnäs!D8+Malmköping!D8+'VFC A kvart'!D12+'Banadir semi'!D12+'Högsjö Final'!D12 -> 6 | C24: ='KSK u '!E8+Hälleforsnäs!E8+Malmköping!E8+'VFC A kvart'!E12 -> 7 | D24: ='KSK u '!F8+Hälleforsnäs!F8+Malmköping!F8+'VFC A kvart'!F12 -> 0 | E24: ='KSK u '!G8+Hälleforsnäs!G8+Malmköping!G8+'VFC A kvart'!G12 -> 7 | F24: ='KSK u '!H8+Hälleforsnäs!H8+Malmköping!H8+'VFC A kvart'!H12 -> 0 | G24: ='KSK u '!I8+Hälleforsnäs!I8+Malmköping!I8+'VFC A kvart'!I12 -> 0 | H24: 4 bonusstraff
A25: Gustav Danielsson | B25: =Hälleforsnäs!D6+Malmköping!D6+'VFC A kvart'!D15 -> 3 | C25: =Hälleforsnäs!E6+Malmköping!E6+'VFC A kvart'!E15 -> 1 | D25: =Hälleforsnäs!F6+Malmköping!F6+'VFC A kvart'!F15 -> 1 | E25: =Hälleforsnäs!G6+Malmköping!G6+'VFC A kvart'!G15 -> 2 | F25: =Hälleforsnäs!H6+Malmköping!H6+'VFC A kvart'!H15 -> 0 | G25: =Hälleforsnäs!I6+Malmköping!I6+'VFC A kvart'!I15 -> 0
A27: Totalt | C27: =SUM(C8:C26) -> 14 | D27: =SUM(D8:D26) -> 9 | E27: =SUM(E8:E26) -> 23 | F27: =SUM(F8:F26) -> 4 | G27: =SUM(G8:G26) -> 0
