Workbook

Sheet Hemmamatcher (2025-11-12)
A1: Matchnr | B1: Datum | C1: Dag | D1: Tid | E1: Hemmalag | F1: Bortalag | G1: Spelplats | H1: Fika (Bakning) | I1: Fika (Bakning) | J1: Matchvärd (Varma mackor) | K1: Filmning | N1: Fika | O1: Matchvörd | P1: Filmning hemma | Q1: Filmning borta | R1: Totalt antal pass
A2: N/A | B2: 45909 | C2: Tisdag | D2: 0.8125 | E2: VästeråsIrsta HF (träningsmatch) | F2: Enköpings HF -11/12 | G2: Irstahallen | K2: Milina | M2: Alice | N2: =COUNTIF(H2:I27,"Alice") -> 2 | O2: =COUNTIF(J2:J27,"Alice") -> 1 | P2: =COUNTIF(K2:K27,"Alice") -> 1 | Q2: =VLOOKUP(M2,'Bortamatcher (2025-11-12)'!J:K,2,FALSE) -> 2 | R2: =SUM(N2:Q2) -> 6
A3: 25 2 1341 003 | B3: 2025-09-21 | C3: Söndag | D3: 13:00 | E3: VästeråsIrsta HF -12:Röd | F3: Eskilstuna Guif Idrottsförening 2 | G3: Expandia Arena C | H3: Thea | J3: Fiori | K3: Metina | M3: Metina | N3: =COUNTIF(H2:I27,"Metina") -> 1 | O3: =COUNTIF(J2:J27,"Metina") -> 1 | P3: =COUNTIF(K2:K27,"Metina") -> 2 | Q3: =VLOOKUP(M3,'Bortamatcher (2025-11-12)'!J:K,2,FALSE) -> 2 | R3: =SUM(N3:Q3) -> 6
A4: 25 2 1332 023 | B4: 2025-10-04 | C4: Lördag | D4: 0.5 | E4: VästeråsIrsta HF -12:Svart | F4: LIF Lindesberg -12 | G4: Mälarenergi Arena B | H4: Nova LB | I4: Ellen | J4: Wera | K4: Ella | M4: Thea | N4: =COUNTIF(H2:I27,"Thea") -> 2 | O4: =COUNTIF(J2:J27,"Thea") -> 4 | P4: =COUNTIF(K2:K27,"Thea") -> 1 | Q4: =VLOOKUP(M4,'Bortamatcher (2025-11-12)'!J:K,2,FALSE) -> 1 | R4: =SUM(N4:Q4) -> 8
A5: 25 2 1341 010 | D5: 0.57638889 | E5: VästeråsIrsta HF -12:Röd | F5: LIF Lindesberg -11 | M5: Emilia | N5: =COUNTIF(H2:I27,"Emilia") -> 1 | O5: =COUNTIF(J2:J27,"Emilia") -> 1 | P5: =COUNTIF(K2:K27,"Emilia") -> 2 | Q5: =VLOOKUP(M5,'Bortamatcher (2025-11-12)'!J:K,2,FALSE) -> 2 | R5: =SUM(N5:Q5) -> 6
A6: 25 2 1332 005 | B6: 2025-10-04 | C6: Lördag | D6: 14:45 | E6: VästeråsIrsta HF -12:Vit | F6: Örebro SK Ungdomsklubb F11/12 | G6: Emausskolan | H6: Metina | J6: Alma | K6: Alice | M6: Milina | N6: =COUNTIF(H2:I27,"Milina") -> 1 | O6: =COUNTIF(J2:J27,"Milina") -> 1 | P6: =COUNTIF(K2:K27,"Milina") -> 3 | Q6: =VLOOKUP(M6,'Bortamatcher (2025-11-12)'!J:K,2,FALSE) -> 2 | R6: =SUM(N6:Q6) -> 7
A7: 25 2 1332 022 | B7: 2025-10-05 | C7: Söndag | D7: 10:45 | E7: VästeråsIrsta HF -12:Vit | F7: Hallstahammars SK HK | G7: Bäckbyhallen | H7: Ellen | J7: Thea | K7: Milina | M7: Nathalie | N7: =COUNTIF(H2:I27,"Nathalie") -> 2 | O7: =COUNTIF(J2:J27,"Nathalie") -> 1 | P7: =COUNTIF(K2:K27,"Nathalie") -> 1 | Q7: =VLOOKUP(M7,'Bortamatcher (2025-11-12)'!J:K,2,FALSE) -> 2 | R7: =SUM(N7:Q7) -> 6
A8: 25 2 1341 017 | B8: 2025-11-09 | C8: Söndag | D8: 0.60416667 | E8: VästeråsIrsta HF -12:Svart | F8: Skåre HK Grön | G8: Expandia Arena C | H8: Milina | J8: Thea | K8: Wera | M8: Lilly | N8: =COUNTIF(H2:I27,"Lilly") -> 1 | O8: =COUNTIF(J2:J27,"Lilly") -> 1 | P8: =COUNTIF(K2:K27,"Lilly") -> 2 | Q8: =VLOOKUP(M8,'Bortamatcher (2025-11-12)'!J:K,2,FALSE) -> 2 | R8: =SUM(N8:Q8) -> 6
A9: 25 2 1332 040 | C9: Söndag | D9: 0.625 | E9: VästeråsIrsta HF -12:Röd | F9: Ludvika HF -11 | G9: Expandia Arena A | H9: Ella | J9: Thea | K9: Wera | M9: Fiori | N9: =COUNTIF(H2:I27,"Fiori") -> 1 | O9: =COUNTIF(J2:J27,"Fiori") -> 1 | P9: =COUNTIF(K2:K27,"Fiori") -> 2 | Q9: =VLOOKUP(M9,'Bortamatcher (2025-11-12)'!J:K,2,FALSE) -> 2 | R9: =SUM(N9:Q9) -> 6
A10: 25 2 1332 056 | B10: 2025-11-22 | C10: Lördag | D10: 12:30 | E10: VästeråsIrsta HF -12:Vit | F10: IFK Mariefred | G10: Expandia Arena C | H10: Alice | I10: Wera | J10: Alice | K10: Emilia | M10: Ella | N10: =COUNTIF(H2:I27,"Ella") -> 2 | O10: =COUNTIF(J2:J27,"Ella") -> 1 | P10: =COUNTIF(K2:K27,"Ella") -> 1 | Q10: =VLOOKUP(M10,'Bortamatcher (2025-11-12)'!J:K,2,FALSE) -> 1 | R10: =SUM(N10:Q10) -> 5
A11: 25 2 1332 057 | C11: Lördag | D11: 14:00 | E11: VästeråsIrsta HF -12:Svart | F11: Vintrosa Idrottssällskap F12/13 | G11: Expandia Arena C | M11: Ellen | N11: =COUNTIF(H2:I27,"Ellen") -> 3 | O11: =COUNTIF(J2:J27,"Ellen") -> 1 | P11: =COUNTIF(K2:K27,"Ellen") -> 1 | Q11: =VLOOKUP(M11,'Bortamatcher (2025-11-12)'!J:K,2,FALSE) -> 1 | R11: =SUM(N11:Q11) -> 6
A12: 25 2 1332 039 | C12: Lördag | D12: 0.71875 | E12: VästeråsIrsta HF -12:Vit | F12: RP Idrottsförening Linköping Svart 2012 | H12: Ellen | J12: Thea | K12: Milina | M12: Wera | N12: =COUNTIF(H2:I27,"Wera") -> 2 | O12: =COUNTIF(J2:J27,"Wera") -> 1 | P12: =COUNTIF(K2:K27,"Wera") -> 2 | Q12: =VLOOKUP(M12,'Bortamatcher (2025-11-12)'!J:K,2,FALSE) -> 2 | R12: =SUM(N12:Q12) -> 7
A13: 25 2 1341 032 | B13: 2025-11-29 | C13: Lördag | D13: 11:00 | E13: VästeråsIrsta HF -12:Röd | F13: Borlänge HK 11 | G13: Kristiansborgshallen | H13: Alma | J13: Emilia | K13: Fiori | M13: Alma | N13: =COUNTIF(H2:I27,"Alma") -> 2 | O13: =COUNTIF(J2:J27,"Alma") -> 1 | P13: =COUNTIF(K2:K27,"Alma") -> 1 | Q13: =VLOOKUP(M13,'Bortamatcher (2025-11-12)'!J:K,2,FALSE) -> 3 | R13: =SUM(N13:Q13) -> 7
A14: 25 2 1332 073 | B14: 2025-12-06 | C14: Lördag | D14: 13:00 | E14: VästeråsIrsta HF -12:Vit | F14: IFK Strängnäs F12/13 | G14: Expandia Arena C | H14: Wera | I14: Nova LB | J14: Milina | K14: Ellen | M14: Nova LB | N14: =COUNTIF(H2:I27,"Nova LB") -> 3 | O14: =COUNTIF(J2:J27,"Nova LB") -> 2 | P14: =COUNTIF(K2:K27,"Nova LB") -> 1 | Q14: =VLOOKUP(M14,'Bortamatcher (2025-11-12)'!J:K,2,FALSE) -> 0 | R14: =SUM(N14:Q14) -> 6
A15: 25 2 1332 074 | B15: 2025-12-06 | C15: Lördag | D15: 15:00 | E15: VästeråsIrsta HF -12:Svart | F15: Katrineholms AIK 11/12 | G15: Expandia Arena C | M15: # pass totalt | N15: 22 | O15: 15 | P15: 18 | Q15: 24 | R15: =SUM(N15:Q15) -> 79
A16: 25 2 1341 040 | B16: 2026-01-10 | C16: Lördag | D16: 14:00 | E16: VästeråsIrsta HF -12:Röd | F16: Nås IF/IFK Mockfjärd -11 | G16: Expandia Arena C | H16: Fiori | J16: Nova LB | K16: Lilly | M16: # pass bokade | N16: =SUM(N2:N14) -> 23 | O16: =SUM(O2:O14) -> 17 | P16: =SUM(P2:P14) -> 20 | Q16: =SUM(Q2:Q14) -> 22 | R16: =SUM(R2:R14) -> 82
A17: 25 2 1332 091 | B17: 2026-01-17 | C17: Lördag | D17: 13:00 | E17: VästeråsIrsta HF -12:Svart | F17: IFK Arbogas Handbollklubb - 2011/2012 | G17: Expandia Arena C | H17: Lilly | J17: Lilly | K17: Nova LB
A18: 25 2 1332 108 | B18: 2026-01-19 | C18: Måndag | D18: 20:00 | E18: VästeråsIrsta HF -12:Vit | F18: VästeråsIrsta HF -12:Svart | G18: Irstahallen | K18: Alma
A19: 25 2 1332 109 | B19: 2026-01-28 | C19: Onsdag | D19: 18:45 | E19: VästeråsIrsta HF -13 | F19: VästeråsIrsta HF -12:Vit | G19: Irstahallen | K19: Fiori
A20: 25 2 1332 125 | B20: 2026-02-08 | C20: Söndag | D20: 12:00 | E20: VästeråsIrsta HF -12:Vit | F20: Borlänge HK 12 vit | G20: Mälarenergi Arena B | H20: Emilia | I20: Nova LB | J20: Ella | K20: Emilia
A21: 25 2 1332 126 | B21: 2026-02-08 | C21: Söndag | D21: 13:30 | E21: VästeråsIrsta HF -12:Svart | F21: VästeråsIrsta HF -13 | G21: Mälarenergi Arena B
A22: 25 2 1332 142 | B22: 2026-03-07 | C22: Lördag | D22: 12:00 | E22: VästeråsIrsta HF -12:Vit | F22: Handbollklubben Järnvägen | G22: Expandia Arena C | H22: Nathalie | I22: Thea | J22: Nathalie | K22: Thea
A23: 25 2 1332 143 | C23: Lördag | D23: 13:30 | E23: VästeråsIrsta HF -12:Svart | F23: Enköpings HF -11/12 | G23: Expandia Arena C
A24: 25 2 1341 058 | B24: 2026-03-08 | C24: Söndag | D24: 14:00 | E24: VästeråsIrsta HF -12:Röd | F24: Arbrå HK -11 | G24: Expandia Arena C | H24: Alice | J24: Metina | K24: Lilly
A25: 25 2 1341 067 | B25: 2026-03-21 | C25: Lördag | D25: 12:00 | E25: VästeråsIrsta HF -12:Röd | F25: Eskilstuna Guif Idrottsförening 3 | G25: Expandia Arena C | H25: Ella | J25: Ellen | K25: Metina
A26: 25 2 1332 159 | B26: 2026-03-22 | C26: Söndag | D26: 12:00 | E26: VästeråsIrsta HF -12:Vit | F26: Eskilstuna Guif Idrottsförening 4 | G26: Expandia Arena C | H26: Nathalie | I26: Alma | J26: Nova LB | K26: Nathalie
A27: 25 2 1332 160 | B27: 2026-03-22 | C27: Söndag | D27: 13:30 | E27: VästeråsIrsta HF -12:Svart | F27: Eskilstuna Guif Idrottsförening 5 | G27: Expandia Arena C

Sheet Bortamatcher (2025-11-12)
A1: Datum | B1: Dag | C1: Tid | D1: Hemmalag | E1: Bortalag | F1: Spelplats | G1: Filmning | I1: Restid | J1: Ansvarig | K1: # pass
A2: 45908 | B2: Måndag | C2: 0.77083333 | D2: Eskilstuna Guif Idrottsförening | E2: VästeråsIrsta HF (träningsmatch) | F2: Eskilstuna | G2: Fiori | I2: 40min | J2: Alice | K2: =COUNTIF(G2:G26,"Alice") -> 2
A3: 45927 | B3: Lördag | C3: 0.4375 | D3: Örebro Sk Ungdom F11/12 | E3: VästeråsIrsta HF -12:Svart | F3: Birgittaskolan | G3: Alma | I3: 1h | J3: Metina | K3: =COUNTIF(G2:G26,"Metina") -> 2
A4: 45927 | B4: Lördag | C4: 0.75 | D4: Eskilstuna Guif Idrottsförening 3 | E4: VästeråsIrsta HF -12:Röd | F4: Kronskogshallen, Eskilstuna | G4: Ellen | I4: 40min | J4: Thea | K4: =COUNTIF(G2:G26,"Thea") -> 1
A5: 45941 | B5: Lördag | C5: 0.57291667 | D5: Arbrå HK -11 | E5: VästeråsIrsta HF -12:Röd | F5: Bollnäs Sporthall A | G5: ? | I5: 3h | J5: Emilia | K5: =COUNTIF(G2:G26,"Emilia") -> 2
A6: 2025-10-12 | B6: Söndag | C6: 12:30 | D6: Skåre HK Grön | E6: VästeråsIrsta HF -12:Vit | F6: Ilandahallen | G6: Thea | I6: 2h 15min | J6: Milina | K6: =COUNTIF(G2:G26,"Milina") -> 2
A7: 2025-10-12 | B7: Söndag | C7: 13:00 | D7: Hallstahammars SK HK | E7: VästeråsIrsta HF -12:Svart | F7: Nibblehallen | G7: Milina | I7: 20min | J7: Nathalie | K7: =COUNTIF(G2:G26,"Nathalie") -> 2
A8: 45976 | B8: Lördag | C8: 11:00 | D8: Vintrosa Idrottssällskap F12/13 | E8: VästeråsIrsta HF -12:Vit | F8: Vintrosa Bollhall | G8: Alma | I8: 1h 10min | J8: Lilly | K8: =COUNTIF(G3:G26,"Lilly") -> 2
A9: 2025-11-16 | B9: Söndag | C9: 12:00 | D9: RP Idrottsförening Linköping Svart 2012 | E9: VästeråsIrsta HF -12:Svart | F9: Kungsbergshallen, Linköping | G9: Alice | I9: 2h 20min | J9: Fiori | K9: =COUNTIF(G2:G26,"Fiori") -> 2
A10: 2025-11-16 | B10: Söndag | C10: 13:30 | D10: Strands IF -11 | E10: VästeråsIrsta HF -12:Röd | F10: Hudiksvalls IH | G10: Utgår | I10: 3h 10min | J10: Ella | K10: =COUNTIF(G2:G26,"Ella") -> 1
A11: 2025-11-30 | B11: Söndag | C11: 11:45 | D11: IFK Mariefred | E11: VästeråsIrsta HF -12:Svart | F11: Hammarens IP Sporthall | G11: Nathalie | I11: 1h | J11: Ellen | K11: =COUNTIF(G2:G26,"Ellen") -> 1
A12: 2025-11-30 | B12: Söndag | C12: 13:00 | D12: Katrineholms AIK 11/12 | E12: VästeråsIrsta HF -12:Vit | F12: Stensättershallen | G12: Milina | I12: 1h 20min | J12: Wera | K12: =COUNTIF(G2:G26,"Wera") -> 2
A13: 45994 | B13: Onsdag | C13: 0.78125 | D13: LIF Lindesberg - 12 | E13: VästeråsIrsta HF -12:Vit | F13: Lindesberg Arena Hall 1 | G13: Wera | I13: 1h 15min | J13: Alma | K13: =COUNTIF(G2:G26,"Alma") -> 3
A14: 2025-12-06 | B14: Lördag | C14: 14:00 | D14: Nås IF/IFK Mockfjärd -11 | E14: VästeråsIrsta HF -12:Röd | F14: Sporthallen Mockfjärd | G14: Alma | I14: 2h | J14: Nova LB | K14: =COUNTIF(G2:G26,"Nova") -> 0
A15: 2026-01-11 | B15: Söndag | C15: 11:00 | D15: IFK Strängnäs F12/13 | E15: VästeråsIrsta HF -12:Svart | F15: Karinslundsskolan | G15: Nathalie | I15: 50min
A16: 2026-01-11 | B16: Söndag | C16: 11:30 | D16: IFK Arbogas Handbollklubb - 2011/2012 | E16: VästeråsIrsta HF -12:Vit | F16: Sturehallen Arboga | G16: Emilia | I16: 40min
A17: 2026-01-17 | B17: Lördag | C17: 15:10 | D17: Borlänge HK 11 | E17: VästeråsIrsta HF -12:Röd | F17: Gyllehallen | G17: Ella | I17: 1h 30min
A18: 2026-02-14 | B18: Lördag | C18: 10:30 | D18: Enköpings HF -11/12 | E18: VästeråsIrsta HF -12:Vit | F18: Enköping IH A-hall | G18: Lilly | I18: 30min
A19: 2026-02-15 | B19: Söndag | C19: 13:50 | D19: Borlänge HK 12 vit | E19: VästeråsIrsta HF -12:Svart | F19: Gyllehallen | G19: Alice | I19: 1h 30min
A20: 2026-02-15 | B20: Söndag | C20: 15:30 | D20: Ludvika HF -11 | E20: VästeråsIrsta HF -12:Röd | F20: Lorensbergahallen | G20: Wera | I20: 1h 20min
A21: 2026-03-14 | B21: Lördag | C21: 10:00 | D21: Eskilstuna Guif Idrottsförening 5 | E21: VästeråsIrsta HF -12:Vit | F21: Ekängshallen | G21: Emilia | I21: 40min
A22: 46096 | B22: Söndag | C22: 0.45833333 | D22: Handbollsklubben Järnvägen | E22: VästeråsIrsta HF -12:Svart | F22: Alléhallen, Hallsberg | G22: Metina | I22: 1h 15min
A23: 2026-03-15 | B23: Söndag | C23: 13:00 | D23: LIF Lindesberg -11 | E23: VästeråsIrsta HF -12:Röd | F23: Lindbackaskolans idrottshall | G23: Fiori | I23: 1h 15min
A24: 2026-03-28 | B24: Lördag | C24: 12:00 | D24: Eskilstuna Guif Idrottsförening 4 | E24: VästeråsIrsta HF -12:Svart | F24: Kronskogshallen, Eskilstuna | G24: Lilly | I24: 40 min
A25: 2026-03-28 | B25: Lördag | C25: 16:00 | D25: Eskilstuna Guif Idrottsförening 2 | E25: VästeråsIrsta HF -12:Röd | F25: Kronskogshallen, Eskilstuna | G25: Metina | I25: 40min
A26: 2026-03-29 | B26: Söndag | C26: 11:45 | D26: Vacant- (Östra) IFK Nyköping blå | E26: VästeråsIrsta HF -12:Vit | F26: ? | G26: Avvakta | I26: 1h 50min
