Workbook

Sheet 2026-2027
A1: Säsongen 2026-2027
D2: Antal spelare | E2: Antal timmar | F2: tim/tjej | G2: Fördelning av tid | H2: Antal lag | I2: Avgift/lag | J2: Kostnad | L2: kr/spelare | M2: Arbetspass | N2: Kontakt
A3: Mini skadevi | B3: 2018 | C3: F8 | D3: 59 | H3: 0 | I3: 995 | J3: =H3*I3 -> 0
A4: Mini skadevi | B4: 2017 | C4: F9 | D4: 37 | H4: 4 | I4: 995 | J4: =H4*I4 -> 3980
A5: Skadevi | B5: 2016 | C5: F10 | D5: 37 | E5: =Helenhallen!G52+40 -> 268 | F5: =E5/(D5+D6) -> 3.4358974 | G5: =F5*D5 -> 127.12821 | H5: 4 | I5: 3075 | J5: =H5*I5 -> 12300 | K5: =G5*$C$18 -> 10805.897 | L5: =J5/D5 -> 332.43243 | M5: Helenahallen/Skövdehem
A6: Skadevi | B6: 2015 | C6: F11 | D6: 41 | E6: =Helenhallen!G52+40 -> 268 | F6: =F5 -> 3.4358974 | G6: =F6*D6 -> 140.87179 | H6: 4 | I6: 3075 | J6: =H6*I6 -> 12300 | K6: =G6*$C$18 -> 11974.103 | L6: =J6/D6 -> 300 | M6: Helenahallen | N6: Emma Åberg 073-3221671 emmaaberg.90@hotmail.com
A7: Skadevi | B7: 2014 | C7: F12 | D7: 33 | E7: ='Trädgårdsstaden - hallen'!G50 -> 216 | F7: =E7/(D7+D8) -> 3.0857143 | G7: =F7*D7 -> 101.82857 | H7: 3 | I7: 3075 | J7: =H7*I7 -> 9225 | K7: =G7*$C$18 -> 8655.4286 | L7: =J7/D7 -> 279.54545 | M7: Trädgårdsstaden | N7: Herman Johnsson, 070-6872812 herman.jo@gmail.com
A8: Skadevi | B8: 2013 | C8: F13 | D8: 37 | E8: ='Trädgårdsstaden - hallen'!G50 -> 216 | F8: =F7 -> 3.0857143 | G8: =F8*D8 -> 114.17143 | H8: 3 | I8: 3075 | J8: =H8*I8 -> 9225 | K8: =G8*$C$18 -> 9704.5714 | L8: =J8/D8 -> 249.32432 | M8: Trädgårdsstaden | N8: Malin Harnesk malin.harnesk@skovde.se 070-5907551
A9: Skadevi | B9: 2012 | C9: F14 | D9: 27 | E9: =B14-40 -> 88 | F9: =E9/D9 -> 3.2592593 | G9: =F9*D9 -> 88 | H9: 2 | I9: 3075 | J9: =H9*I9 -> 6150 | K9: =G9*$C$18 -> 7480 | L9: =J9/D9 -> 227.77778 | M9: Skövdehem | N9: Per Bäckström 0766-433368 pr.backstrom@gmail.com. Samm_spandex@yahoo.se
A10: Skadevi | B10: 2011 | C10: F15 | D10: 15 | E10: =Idrottshallen!E50 -> 140 | F10: =E10/(D10+D11) -> 3.5897436 | G10: =F10*D10 -> 53.846154 | H10: 1 | I10: 3075 | J10: =H10*I10 -> 3075 | K10: =G10*$C$18 -> 4576.9231 | L10: =J10/D10 -> 205 | M10: Idrottshallen | N10: Jim Edgren jim.edgren@lania.se 073 8368332
A11: Skadevi | B11: 2010 | C11: F16 | D11: 24 | E11: =Idrottshallen!E50 -> 140 | F11: =F10 -> 3.5897436 | G11: =F11*D11 -> 86.153846 | H11: 2 | I11: 3075 | J11: =H11*I11 -> 6150 | K11: =G11*$C$18 -> 7323.0769 | L11: =J11/D11 -> 256.25 | M11: Idrottshallen | N11: Tomas Sjölin, sjolle44@hotmail.com
D12: =SUM(D3:D11) -> 310 | E12: =E5+E7+E9+E10 -> 712 | G12: =SUM(G5:G11) -> 712 | J12: =SUM(J3:J11)-J4 -> 58425 | L12: =(L5+L6+L7+L8+L9+L10+L11)/7 -> 264.33286
E13: =E12/(D12-D3-D4) -> 3.3271028
A14: Skövdehem | B14: 128 | C14: Stäm av tid | J14: Ersättning till ungdomslagen
A15: Idrottshallen | B15: =Idrottshallen!E50 -> 140
A16: Trädgårdsstaden | B16: ='Trädgårdsstaden - hallen'!G50 -> 216
A17: Helenahallen | B17: =Helenhallen!G52 -> 228
B18: =SUM(B14:B17) -> 712 | C18: 85 | D18: =B18*C18 -> 60520
A21: Debitering IFK Skövde enl avtal
A22: Idrottshallen | B22: =B15*85 -> 11900
A23: Helenahallen | B23: =B17*85 -> 19380
A24: Trädgårdsstaden | B24: =B16*85 -> 18360
A25: =A14 -> Skövdehem | B25: =B14*85 -> 10880
A26: Summa | B26: =SUM(B22:B25) -> 60520

Sheet 2023-2024
A1: Säsongen 2023-2024
C2: Antal spelare | E2: Avgift/lag | G2: Arbetspass
A3: Mini skadevi | B3: 2015 | C3: 57 | D3: 0 | E3: 895 | F3: =D3*E3 -> 0
A4: Mini skadevi | B4: 2014 | C4: 51 | D4: 0 | E4: 895 | F4: =D4*E4 -> 0
A5: Skadevi | B5: 2013 | C5: 40 | D5: 4 | E5: 2475 | F5: =D5*E5 -> 9900 | G5: Helenahallen | H5: Lagen kommer spela i tennishallen
A6: Skadevi | B6: 2012 | C6: 37 | D6: 3 | E6: 2475 | F6: =D6*E6 -> 7425 | G6: Helenahallen
A7: Skadevi | B7: 2011 | C7: 31 | D7: 3 | E7: 2475 | F7: =D7*E7 -> 7425 | G7: Trädgårdsstaden
A8: Skadevi | B8: 2010 | C8: 30 | D8: 3 | E8: 2475 | F8: =D8*E8 -> 7425 | G8: Trädgårdsstaden
A9: Skadevi | B9: 2009 | C9: 25 | D9: 2 | E9: 2475 | F9: =D9*E9 -> 4950 | G9: Skövdehem
A10: Skadevi | B10: 2008 | C10: 21 | D10: 1 | E10: 2475 | F10: =D10*E10 -> 2475 | G10: Idrottshallen | H10: Ev barar ett lag som kommit med
A11: Skadevi | B11: 2007 | C11: 25 | D11: 1 | E11: 2475 | F11: =D11*E11 -> 2475 | G11: Idrottshallen
C12: =SUM(C3:C11) -> 317 | F12: =SUM(F3:F11) -> 42075
A15: Eriksdal logi | B15: ='Eriksdal - logi'!Q63-287 -> 0 | D15: =$A$22*B15 -> 0 | E15: 13000 | F15: =B15*J15 -> #DIV/0! | J15: =20000/(B15+B16) -> #DIV/0!
A16: Kavelbro logi | B16: ='Kavelbro - logi'!D63-126 -> 0 | D16: =$A$22*B16 -> 0 | E16: 7000 | F16: =B16*J15 -> #DIV/0!
A17: Idrottshallen | B17: =Idrottshallen!E50 -> 140 | D17: =$A$22*B17 -> 12928.76
A18: Fjärilshallen | B18: =Fjärilshallen!G52 -> 258 | D18: =$A$22*B18 -> 23825.858
A19: Trädgårdsstaden | B19: ='Trädgårdsstaden - hallen'!G50 -> 216 | D19: =$A$22*B19 -> 19947.23
A20: Skövdehem | B20: =Skövdehem!E50 -> 144 | D20: =$A$22*B20 -> 13298.153
B21: =SUM(B15:B20) -> 758 | D21: =$A$22*B21 -> 70000
A22: =70000/B21 -> 92.348285
A24: Egen kiosk i Idrottshallen och Skövdehem bemannas av Akademin 2006 och äldre

Sheet Idrottshallen
A1: 2010 och 2011 ansvariga tillsammans
B2: Hallchef | C2: Sekretariat | D2: Sekretariat | E2: Filmare | H2: Matchstart | I2: Sista match starttid
A3: Fredag: | G3: Fredag | H3: 0.375 | I3: 0.875
A4: 0.29166667 | G4: Lördag | H4: 0.33333333 | I4: 0.85416667
A5: 0.33333333 | B5: 1 | C5: 1 | D5: 1 | E5: 1 | G5: Söndag | H5: 0.33333333 | I5: 0.45833333
A6: 0.375 | B6: 1 | C6: 1 | D6: 1 | E6: 1
A7: 0.41666667 | B7: 1 | C7: 1 | D7: 1 | E7: 1
A8: 0.45833333 | B8: 1 | C8: 1 | D8: 1 | E8: 1
A9: 0.5 | B9: 1 | C9: 1 | D9: 1 | E9: 1
A10: 0.54166667 | B10: 1 | C10: 1 | D10: 1 | E10: 1
A11: 0.58333333 | B11: 1 | C11: 1 | D11: 1 | E11: 1
A12: 0.625 | B12: 1 | C12: 1 | D12: 1 | E12: 1
A13: 0.66666667 | B13: 1 | C13: 1 | D13: 1 | E13: 1
A14: 0.70833333 | B14: 1 | C14: 1 | D14: 1 | E14: 1
A15: 0.75 | B15: 1 | C15: 1 | D15: 1 | E15: 1
A16: 0.79166667 | B16: 1 | C16: 1 | D16: 1 | E16: 1
A17: 0.83333333 | B17: 1 | C17: 1 | D17: 1 | E17: 1
A18: 0.875 | B18: 1 | C18: 1 | D18: 1 | E18: 1
A19: 0.91666667
A20: Lördag:
A21: 0.29166667 | B21: 1 | C21: 1 | D21: 1 | E21: 1
A22: 0.33333333 | B22: 1 | C22: 1 | D22: 1 | E22: 1
A23: 0.375 | B23: 1 | C23: 1 | D23: 1 | E23: 1
A24: 0.41666667 | B24: 1 | C24: 1 | D24: 1 | E24: 1
A25: 0.45833333 | B25: 1 | C25: 1 | D25: 1 | E25: 1
A26: 0.5 | B26: 1 | C26: 1 | D26: 1 | E26: 1
A27: 0.54166667 | B27: 1 | C27: 1 | D27: 1 | E27: 1
A28: 0.58333333 | B28: 1 | C28: 1 | D28: 1 | E28: 1
A29: 0.625 | B29: 1 | C29: 1 | D29: 1 | E29: 1
A30: 0.66666667 | B30: 1 | C30: 1 | D30: 1 | E30: 1
A31: 0.70833333 | B31: 1 | C31: 1 | D31: 1 | E31: 1
A32: 0.75 | B32: 1 | C32: 1 | D32: 1 | E32: 1
... A35: 0.875 | B35: 1 | C35: 1 | D35: 1 | E35: 1
A36: 0.91666667
A37: Söndag:
A38: 0.29166667 | B38: 1 | C38: 1 | D38: 1 | E38: 1
A39: 0.33333333 | B39: 1 | C39: 1 | D39: 1 | E39: 1
A40: 0.375 | B40: 1 | C40: 1 | D40: 1 | E40: 1
A41: 0.41666667 | B41: 1 | C41: 1 | D41: 1 | E41: 1
A42: 0.45833333 | B42: 1 | C42: 1 | D42: 1 | E42: 1
...

Sheet Skövdehem
A1: 2012 | B1: 2016 ska ha ca 40 timmar och 2012 ca 88 timmar
B2: Hallchef | C2: Sekretariat | D2: Sekretariat | E2: Filmare
A3: Fredag: | H3: Matchstart | I3: Sista match starttid
A4: 0.29166667 | G4: Fredag | H4: 0.45833333 | I4: 0.875
A5: 0.33333333 | G5: Lördag | H5: 0.33333333 | I5: 0.875
A6: 0.375 | G6: Söndag | H6: 0.33333333 | I6: 0.58333333
A7: 0.41666667 | B7: 1 | C7: 1 | D7: 1 | E7: 1
A8: 0.45833333 | B8: 1 | C8: 1 | D8: 1 | E8: 1
A9: 0.5 | B9: 1 | C9: 1 | D9: 1 | E9: 1
A10: 0.54166667 | B10: 1 | C10: 1 | D10: 1 | E10: 1
A11: 0.58333333 | B11: 1 | C11: 1 | D11: 1 | E11: 1
A12: 0.625 | B12: 1 | C12: 1 | D12: 1 | E12: 1
A13: 0.66666667 | B13: 1 | C13: 1 | D13: 1 | E13: 1
A14: 0.70833333 | B14: 1 | C14: 1 | D14: 1 | E14: 1
A15: 0.75 | B15: 1 | C15: 1 | D15: 1 | E15: 1
A16: 0.79166667 | B16: 1 | C16: 1 | D16: 1 | E16: 1
A17: 0.83333333 | B17: 1 | C17: 1 | D17: 1 | E17: 1
A18: 0.875 | B18: 1 | C18: 1 | D18: 1 | E18: 1
A19: 0.91666667
A20: Lördag:
A21: 0.29166667 | B21: 1 | C21: 1 | D21: 1 | E21: 1
A22: 0.33333333 | B22: 1 | C22: 1 | D22: 1 | E22: 1
A23: 0.375 | B23: 1 | C23: 1 | D23: 1 | E23: 1
A24: 0.41666667 | B24: 1 | C24: 1 | D24: 1 | E24: 1
A25: 0.45833333 | B25: 1 | C25: 1 | D25: 1 | E25: 1
A26: 0.5 | B26: 1 | C26: 1 | D26: 1 | E26: 1
A27: 0.54166667 | B27: 1 | C27: 1 | D27: 1 | E27: 1
A28: 0.58333333 | B28: 1 | C28: 1 | D28: 1 | E28: 1
A29: 0.625 | B29: 1 | C29: 1 | D29: 1 | E29: 1
A30: 0.66666667 | B30: 1 | C30: 1 | D30: 1 | E30: 1
A31: 0.70833333 | B31: 1 | C31: 1 | D31: 1 | E31: 1
A32: 0.75 | B32: 1 | C32: 1 | D32: 1 | E32: 1
... A35: 0.875 | B35: 1 | C35: 1 | D35: 1 | E35: 1
A36: 0.91666667
A37: Söndag:
A38: 0.29166667 | B38: 1 | C38: 1 | D38: 1 | E38: 1
A39: 0.33333333 | B39: 1 | C39: 1 | D39: 1 | E39: 1
A40: 0.375 | B40: 1 | C40: 1 | D40: 1 | E40: 1
A41: 0.41666667 | B41: 1 | C41: 1 | D41: 1 | E41: 1
A42: 0.45833333 | B42: 1 | C42: 1 | D42: 1 | E42: 1
...

Sheet Trädgårdsstaden - hallen
B2: Hallchef | C2: Sekretariat | D2: Sekretariat | E2: Filmare | F2: Kiosk | G2: Kiosk | J2: Matchstart | K2: Sista match starttid
A3: Fredag: | I3: Fredag | J3: 0.41666667 | K3: 0.875
A4: 0.29166667 | I4: Lördag | J4: 0.33333333 | K4: 0.875
A5: 0.33333333 | I5: Söndag | J5: 0.33333333 | K5: 0.54861111
A6: 0.375 | B6: 1 | C6: 1 | D6: 1 | E6: 1 | F6: 1 | G6: 1
A7: 0.41666667 | B7: 1 | C7: 1 | D7: 1 | E7: 1 | F7: 1 | G7: 1
A8: 0.45833333 | B8: 1 | C8: 1 | D8: 1 | E8: 1 | F8: 1 | G8: 1
A9: 0.5 | B9: 1 | C9: 1 | D9: 1 | E9: 1 | F9: 1 | G9: 1
A10: 0.54166667 | B10: 1 | C10: 1 | D10: 1 | E10: 1 | F10: 1 | G10: 1
A11: 0.58333333 | B11: 1 | C11: 1 | D11: 1 | E11: 1 | F11: 1 | G11: 1
A12: 0.625 | B12: 1 | C12: 1 | D12: 1 | E12: 1 | F12: 1 | G12: 1
A13: 0.66666667 | B13: 1 | C13: 1 | D13: 1 | E13: 1 | F13: 1 | G13: 1
A14: 0.70833333 | B14: 1 | C14: 1 | D14: 1 | E14: 1 | F14: 1 | G14: 1
A15: 0.75 | B15: 1 | C15: 1 | D15: 1 | E15: 1 | F15: 1 | G15: 1
A16: 0.79166667 | B16: 1 | C16: 1 | D16: 1 | E16: 1 | F16: 1 | G16: 1
A17: 0.83333333 | B17: 1 | C17: 1 | D17: 1 | E17: 1 | F17: 1 | G17: 1
A18: 0.875 | B18: 1 | C18: 1 | D18: 1 | E18: 1 | F18: 1 | G18: 1
A19: 0.91666667
A20: Lördag:
A21: 0.29166667 | B21: 1 | C21: 1 | D21: 1 | E21: 1 | F21: 1 | G21: 1
A22: 0.33333333 | B22: 1 | C22: 1 | D22: 1 | E22: 1 | F22: 1 | G22: 1
A23: 0.375 | B23: 1 | C23: 1 | D23: 1 | E23: 1 | F23: 1 | G23: 1
A24: 0.41666667 | B24: 1 | C24: 1 | D24: 1 | E24: 1 | F24: 1 | G24: 1
A25: 0.45833333 | B25: 1 | C25: 1 | D25: 1 | E25: 1 | F25: 1 | G25: 1
A26: 0.5 | B26: 1 | C26: 1 | D26: 1 | E26: 1 | F26: 1 | G26: 1
A27: 0.54166667 | B27: 1 | C27: 1 | D27: 1 | E27: 1 | F27: 1 | G27: 1
A28: 0.58333333 | B28: 1 | C28: 1 | D28: 1 | E28: 1 | F28: 1 | G28: 1
A29: 0.625 | B29: 1 | C29: 1 | D29: 1 | E29: 1 | F29: 1 | G29: 1
A30: 0.66666667 | B30: 1 | C30: 1 | D30: 1 | E30: 1 | F30: 1 | G30: 1
A31: 0.70833333 | B31: 1 | C31: 1 | D31: 1 | E31: 1 | F31: 1 | G31: 1
A32: 0.75 | B32: 1 | C32: 1 | D32: 1 | E32: 1 | F32: 1 | G32: 1
... A35: 0.875 | B35: 1 | C35: 1 | D35: 1 | E35: 1 | F35: 1 | G35: 1
A36: 0.91666667
A37: Söndag:
A38: 0.29166667 | B38: 1 | C38: 1 | D38: 1 | E38: 1 | F38: 1 | G38: 1
A39: 0.33333333 | B39: 1 | C39: 1 | D39: 1 | E39: 1 | F39: 1 | G39: 1
A40: 0.375 | B40: 1 | C40: 1 | D40: 1 | E40: 1 | F40: 1 | G40: 1
A41: 0.41666667 | B41: 1 | C41: 1 | D41: 1 | E41: 1 | F41: 1 | G41: 1
A42: 0.45833333 | B42: 1 | C42: 1 | D42: 1 | E42: 1 | F42: 1 | G42: 1
A43: 0.5 | B43: 1 | C43: 1 | D43: 1 | E43: 1 | F43: 1 | G43: 1
...

Sheet Helenhallen
A1: 2015 och 2016
B2: Hallchef | C2: Sekretariat | D2: Sekretariat | E2: Filmare | F2: Kiosk | G2: Kiosk | J2: Matchstart | K2: Sista match starttid
A3: Fredag: | I3: Fredag | J3: 0.375 | K3: 0.85416667
A4: 0.29166667 | I4: Lördag | J4: 0.33333333 | K4: 0.85416667
A5: 0.33333333 | B5: 1 | C5: 1 | D5: 1 | E5: 1 | F5: 1 | G5: 1 | I5: Söndag | J5: 0.33333333 | K5: 0.58333333
A6: 0.375 | B6: 1 | C6: 1 | D6: 1 | E6: 1 | F6: 1 | G6: 1
A7: 0.41666667 | B7: 1 | C7: 1 | D7: 1 | E7: 1 | F7: 1 | G7: 1
A8: 0.45833333 | B8: 1 | C8: 1 | D8: 1 | E8: 1 | F8: 1 | G8: 1
A9: 0.5 | B9: 1 | C9: 1 | D9: 1 | E9: 1 | F9: 1 | G9: 1
A10: 0.54166667 | B10: 1 | C10: 1 | D10: 1 | E10: 1 | F10: 1 | G10: 1
A11: 0.58333333 | B11: 1 | C11: 1 | D11: 1 | E11: 1 | F11: 1 | G11: 1
A12: 0.625 | B12: 1 | C12: 1 | D12: 1 | E12: 1 | F12: 1 | G12: 1
A13: 0.66666667 | B13: 1 | C13: 1 | D13: 1 | E13: 1 | F13: 1 | G13: 1
A14: 0.70833333 | B14: 1 | C14: 1 | D14: 1 | E14: 1 | F14: 1 | G14: 1
A15: 0.75 | B15: 1 | C15: 1 | D15: 1 | E15: 1 | F15: 1 | G15: 1
A16: 0.79166667 | B16: 1 | C16: 1 | D16: 1 | E16: 1 | F16: 1 | G16: 1
A17: 0.83333333 | B17: 1 | C17: 1 | D17: 1 | E17: 1 | F17: 1 | G17: 1
A18: 0.875 | B18: 1 | C18: 1 | D18: 1 | E18: 1 | F18: 1 | G18: 1
A19: 0.91666667
A20: Lördag:
A21: 0.29166667 | B21: 1 | C21: 1 | D21: 1 | E21: 1 | F21: 1 | G21: 1
A22: 0.33333333 | B22: 1 | C22: 1 | D22: 1 | E22: 1 | F22: 1 | G22: 1
A23: 0.375 | B23: 1 | C23: 1 | D23: 1 | E23: 1 | F23: 1 | G23: 1
A24: 0.41666667 | B24: 1 | C24: 1 | D24: 1 | E24: 1 | F24: 1 | G24: 1
A25: 0.45833333 | B25: 1 | C25: 1 | D25: 1 | E25: 1 | F25: 1 | G25: 1
A26: 0.5 | B26: 1 | C26: 1 | D26: 1 | E26: 1 | F26: 1 | G26: 1
A27: 0.54166667 | B27: 1 | C27: 1 | D27: 1 | E27: 1 | F27: 1 | G27: 1
A28: 0.58333333 | B28: 1 | C28: 1 | D28: 1 | E28: 1 | F28: 1 | G28: 1
A29: 0.625 | B29: 1 | C29: 1 | D29: 1 | E29: 1 | F29: 1 | G29: 1
A30: 0.66666667 | B30: 1 | C30: 1 | D30: 1 | E30: 1 | F30: 1 | G30: 1
A31: 0.70833333 | B31: 1 | C31: 1 | D31: 1 | E31: 1 | F31: 1 | G31: 1
A32: 0.75 | B32: 1 | C32: 1 | D32: 1 | E32: 1 | F32: 1 | G32: 1
... A35: 0.875 | B35: 1 | C35: 1 | D35: 1 | E35: 1 | F35: 1 | G35: 1
A36: 0.91666667
A37: Söndag:
A38: 0.29166667 | B38: 1 | C38: 1 | D38: 1 | E38: 1 | F38: 1 | G38: 1
A39: 0.33333333 | B39: 1 | C39: 1 | D39: 1 | E39: 1 | F39: 1 | G39: 1
A40: 0.375 | B40: 1 | C40: 1 | D40: 1 | E40: 1 | F40: 1 | G40: 1
A41: 0.41666667 | B41: 1 | C41: 1 | D41: 1 | E41: 1 | F41: 1 | G41: 1
A42: 0.45833333 | B42: 1 | C42: 1 | D42: 1 | E42: 1 | F42: 1 | G42: 1
...

Sheet Raul - logi
A1: 2011
B2: logi | C2: Frukost
A3: Torsdag | B3: logi | C3: frukost | D3: Fredag: | E3: Logi | F3: frukost | G3: Lördag: | H3: Logi | I3: frukost | J3: Söndag: | K3: logi/städ | L3: Frukost | N3: Antal timmar
A4: Vet inte om skolan kommer öppnas på torsdag | D4: 1.25 | E4: 2 | F4: 3 | G4: 1.25 | H4: 2 | I4: 3 | J4: 0.25 | K4: 2 | L4: 3 | M4: 2011 | N4: =F4+F5+F6+F7+I4+I5+I6+I7+K4+L4+L5+L6+L7+H21+H22+H23+H25+H24+H26+H27+H20 -> 54
A5: 0.66666667 | B5: 3 | D5: 1.2916667 | E5: 2 | F5: 3 | G5: 0.29166667 | H5: 2 | I5: 3 | J5: 0.29166667 | K5: 2 | L5: 3 | M5: 2014/2015 | N5: =K5+K6+K7+K8+K9+K10+K11+K12+K13+H20+H19+H18+H17+H16+H15+H14+H12+H13+H11+H10+H8+H9+H7+H6+H5+H4+E5+E6+E7+E8+E9+E10+E11+E12+E13+E15+E14+E16+E17+E18+E19+E20+E21+E22+E23+E24+E25+E26+E27+B5+B6+B7+B8+B9+B11+B10-H20 -> 134
A6: 0.70833333 | B6: 3 | D6: 1.3333333 | E6: 2 | F6: 3 | G6: 0.33333333 | H6: 2 | I6: 3 | J6: 0.33333333 | K6: 2 | L6: 3 | M6: 2009-2010 | N6: =B12+B13+B14+B15+B16+B17+B18+E4 -> 16
A7: 0.75 | B7: 3 | D7: 0.375 | E7: 2 | F7: 3 | G7: 0.375 | H7: 2 | I7: 3 | J7: 0.375 | K7: 2 | L7: 3
A8: 0.79166667 | B8: 3 | D8: 0.41666667 | E8: 3 | G8: 0.41666667 | H8: 2 | J8: 0.41666667 | K8: 2
A9: 0.83333333 | B9: 3 | D9: 0.45833333 | E9: 3 | G9: 0.45833333 | H9: 2 | J9: 0.45833333 | K9: 2
A10: 0.875 | B10: 3 | D10: 0.5 | E10: 3 | G10: 0.5 | H10: 2 | J10: 0.5 | K10: 2
A11: 0.91666667 | B11: 3 | D11: 0.54166667 | E11: 3 | G11: 0.54166667 | H11: 2 | J11: 0.54166667 | K11: 5
A12: 0.95833333 | B12: 2 | D12: 0.58333333 | E12: 3 | G12: 0.58333333 | H12: 2 | J12: 0.58333333 | K12: 5
A13: 1 | B13: 2 | D13: 0.625 | E13: 3 | G13: 0.625 | H13: 2 | J13: 0.625 | K13: 5
A14: 1.0416667 | B14: 2 | D14: 0.66666667 | E14: 3 | G14: 0.66666667 | H14: 2
A15: 1.0833333 | B15: 2 | D15: 0.70833333 | E15: 3 | G15: 0.70833333 | H15: 2
A16: 1.125 | B16: 2 | D16: 0.75 | E16: 2 | G16: 0.75 | H16: 2
A17: 1.1666667 | B17: 2 | D17: 0.79166667 | E17: 2 | G17: 0.79166667 | H17: 2
A18: 1.2083333 | B18: 2 | D18: 0.83333333 | E18: 2 | G18: 0.83333333 | H18: 2
D19: 0.875 | E19: 2 | G19: 0.875 | H19: 2
D20: 0.91666667 | E20: 2 | G20: 0.91666667 | H20: 2
D21: 0.95833333 | E21: 2 | G21: 0.95833333 | H21: 2
D22: 1 | E22: 2 | G22: 1 | H22: 2
D23: 1.0416667 | E23: 2 | G23: 1.0416667 | H23: 2
D24: 1.0833333 | E24: 2 | G24: 1.0833333 | H24: 2
D25: 1.125 | E25: 2 | G25: 1.125 | H25: 2
D26: 1.1666667 | E26: 2 | G26: 1.1666667 | H26: 2
D27: 1.2083333 | E27: 2 | G27: 1.2083333 | H27: 2 | M27: =SUM(B29:L29) -> 204
A29: Summa | B29: =SUM(B4:B28) -> 35 | C29: =SUM(C5:C28) -> 0 | E29: =SUM(E4:E28) -> 56 | F29: =SUM(F4:F28) -> 12 | H29: =SUM(H4:H28) -> 48 | I29: =SUM(I4:I28) -> 12 | K29: =SUM(K4:K28) -> 29 | L29: =SUM(L4:L28) -> 12

Sheet 2021-2022
A1: Säsongen 2021-2022
C2: Antal spelare | E2: Avgift/lag
A3: Mini skadevi | B3: 2013 | C3: 50 | D3: 0 | E3: 700 | F3: =D3*E3 -> 0
A4: Mini skadevi | B4: 2012 | C4: 40 | D4: 0 | E4: 700 | F4: =D4*E4 -> 0
A5: Skadevi | B5: 2011 | C5: 18 | D5: 2 | E5: 2475 | F5: =D5*E5 -> 4950
A6: Skadevi | B6: 2010 | C6: 31 | D6: 3 | E6: 2475 | F6: =D6*E6 -> 7425
A7: Skadevi | B7: 2009 | C7: 33 | D7: 3 | E7: 2475 | F7: =D7*E7 -> 7425
A8: Skadevi | B8: 2008 | C8: 32 | D8: 3 | E8: 2475 | F8: =D8*E8 -> 7425
A9: Skadevi | B9: 2007 | C9: 20 | D9: 2 | E9: 2475 | F9: =D9*E9 -> 4950
A10: Skadevi | B10: 2006 | C10: 26 | D10: 2 | E10: 2475 | F10: =D10*E10 -> 4950
A11: Skadevi | B11: 2005 | C11: 25 | D11: 2 | E11: 2475 | F11: =D11*E11 -> 4950
C12: =SUM(C3:C11) -> 275 | F12: =SUM(F3:F11) -> 42075
A15: Eriksdal logi | B15: ='Eriksdal - logi'!Q63 -> 287 | D15: =$A$22*B15 -> 22058.07 | E15: 13000 | F15: =B15*J15 -> 13898.305 | J15: =20000/(B15+B16) -> 48.42615
A16: Kavelbro logi | B16: ='Kavelbro - logi'!D63 -> 126 | D16: =$A$22*B16 -> 9684.0307 | E16: 7000 | F16: =B16*J15 -> 6101.6949
A17: Idrottshallen | B17: =Idrottshallen!E50 -> 140 | C17: 2005/2006 | D17: =$A$22*B17 -> 10760.034
A18: Fjärilshallen | B18: =Fjärilshallen!G52 -> 258 | C18: 2010/2011 | D18: =$A$22*B18 -> 19829.206
A19: Trädgårdsstaden | B19: ='Trädgårdsstaden - hallen'!G50 -> 216 | C19: 2008/2009 | D19: =$A$22*B19 -> 16601.196
A20: Skövdehem | B20: =Skövdehem!E50 -> 144 | C20: 2007 | D20: =$A$22*B20 -> 11067.464
B21: =SUM(B15:B20) -> 1171 | D21: =$A$22*B21 -> 90000
A22: =90000/B21 -> 76.857387

Sheet 2022-2023
A1: Säsongen 2022-2023
C2: Antal spelare | E2: Avgift/lag | G2: Arbetspass
A3: Mini skadevi | B3: 2014 | D3: 0 | E3: 700 | F3: =D3*E3 -> 0
A4: Mini skadevi | B4: 2013 | C4: 50 | D4: 0 | E4: 700 | F4: =D4*E4 -> 0
A5: Skadevi | B5: 2012 | C5: 40 | D5: 2 | E5: 2475 | F5: =D5*E5 -> 4950 | G5: Fjärilshallen
A6: Skadevi | B6: 2011 | C6: 18 | D6: 3 | E6: 2475 | F6: =D6*E6 -> 7425 | G6: Fjärilshallen
A7: Skadevi | B7: 2010 | C7: 31 | D7: 3 | E7: 2475 | F7: =D7*E7 -> 7425 | G7: Trädgårdsstaden
A8: Skadevi | B8: 2009 | C8: 33 | D8: 3 | E8: 2475 | F8: =D8*E8 -> 7425 | G8: Trädgårdsstaden
A9: Skadevi | B9: 2008 | C9: 27 | D9: 2 | E9: 2475 | F9: =D9*E9 -> 4950 | G9: Skövdehem
A10: Skadevi | B10: 2007 | C10: 26 | D10: 2 | E10: 2475 | F10: =D10*E10 -> 4950 | G10: Idrottshallen
A11: Skadevi | B11: 2006 | C11: 25 | D11: 2 | E11: 2475 | F11: =D11*E11 -> 4950 | G11: Idrottshallen
C12: =SUM(C3:C11) -> 250 | F12: =SUM(F3:F11) -> 42075
A15: Eriksdal logi | B15: ='Eriksdal - logi'!Q63 -> 287 | D15: =$A$22*B15 -> 22058.07 | E15: 13000 | F15: =B15*J15 -> 13898.305 | J15: =20000/(B15+B16) -> 48.42615
A16: Kavelbro logi | B16: ='Kavelbro - logi'!D63 -> 126 | D16: =$A$22*B16 -> 9684.0307 | E16: 7000 | F16: =B16*J15 -> 6101.6949
A17: Idrottshallen | B17: =Idrottshallen!E50 -> 140 | D17: =$A$22*B17 -> 10760.034
A18: Fjärilshallen | B18: =Fjärilshallen!G52 -> 258 | D18: =$A$22*B18 -> 19829.206
A19: Trädgårdsstaden | B19: ='Trädgårdsstaden - hallen'!G50 -> 216 | D19: =$A$22*B19 -> 16601.196
A20: Skövdehem | B20: =Skövdehem!E50 -> 144 | D20: =$A$22*B20 -> 11067.464
B21: =SUM(B15:B20) -> 1171 | D21: =$A$22*B21 -> 90000
A22: =90000/B21 -> 76.857387

Sheet Fjärilshallen
A1: 2012 & 2013
B2: Hallchef | C2: Sekretariat | D2: Sekretariat | E2: Filmare | F2: Kiosk | G2: Kiosk
A3: Fredag:
A4: 0.29166667 | B4: 1 | C4: 1 | D4: 1 | E4: 1 | F4: 1 | G4: 1
A5: 0.33333333 | B5: 1 | C5: 1 | D5: 1 | E5: 1 | F5: 1 | G5: 1
A6: 0.375 | B6: 1 | C6: 1 | D6: 1 | E6: 1 | F6: 1 | G6: 1
A7: 0.41666667 | B7: 1 | C7: 1 | D7: 1 | E7: 1 | F7: 1 | G7: 1
A8: 0.45833333 | B8: 1 | C8: 1 | D8: 1 | E8: 1 | F8: 1 | G8: 1
A9: 0.5 | B9: 1 | C9: 1 | D9: 1 | E9: 1 | F9: 1 | G9: 1
A10: 0.54166667 | B10: 1 | C10: 1 | D10: 1 | E10: 1 | F10: 1 | G10: 1
A11: 0.58333333 | B11: 1 | C11: 1 | D11: 1 | E11: 1 | F11: 1 | G11: 1
A12: 0.625 | B12: 1 | C12: 1 | D12: 1 | E12: 1 | F12: 1 | G12: 1
A13: 0.66666667 | B13: 1 | C13: 1 | D13: 1 | E13: 1 | F13: 1 | G13: 1
A14: 0.70833333 | B14: 1 | C14: 1 | D14: 1 | E14: 1 | F14: 1 | G14: 1
A15: 0.75 | B15: 1 | C15: 1 | D15: 1 | E15: 1 | F15: 1 | G15: 1
... A19: 0.91666667 | B19: 1 | C19: 1 | D19: 1 | E19: 1 | F19: 1 | G19: 1
A20: Lördag:
A21: 0.29166667 | B21: 1 | C21: 1 | D21: 1 | E21: 1 | F21: 1 | G21: 1
A22: 0.33333333 | B22: 1 | C22: 1 | D22: 1 | E22: 1 | F22: 1 | G22: 1
A23: 0.375 | B23: 1 | C23: 1 | D23: 1 | E23: 1 | F23: 1 | G23: 1
A24: 0.41666667 | B24: 1 | C24: 1 | D24: 1 | E24: 1 | F24: 1 | G24: 1
A25: 0.45833333 | B25: 1 | C25: 1 | D25: 1 | E25: 1 | F25: 1 | G25: 1
A26: 0.5 | B26: 1 | C26: 1 | D26: 1 | E26: 1 | F26: 1 | G26: 1
A27: 0.54166667 | B27: 1 | C27: 1 | D27: 1 | E27: 1 | F27: 1 | G27: 1
A28: 0.58333333 | B28: 1 | C28: 1 | D28: 1 | E28: 1 | F28: 1 | G28: 1
A29: 0.625 | B29: 1 | C29: 1 | D29: 1 | E29: 1 | F29: 1 | G29: 1
A30: 0.66666667 | B30: 1 | C30: 1 | D30: 1 | E30: 1 | F30: 1 | G30: 1
A31: 0.70833333 | B31: 1 | C31: 1 | D31: 1 | E31: 1 | F31: 1 | G31: 1
A32: 0.75 | B32: 1 | C32: 1 | D32: 1 | E32: 1 | F32: 1 | G32: 1
... A36: 0.91666667 | B36: 1 | C36: 1 | D36: 1 | E36: 1 | F36: 1 | G36: 1
A37: Söndag:
A38: 0.29166667 | B38: 1 | C38: 1 | D38: 1 | E38: 1 | F38: 1 | G38: 1
A39: 0.33333333 | B39: 1 | C39: 1 | D39: 1 | E39: 1 | F39: 1 | G39: 1
A40: 0.375 | B40: 1 | C40: 1 | D40: 1 | E40: 1 | F40: 1 | G40: 1
A41: 0.41666667 | B41: 1 | C41: 1 | D41: 1 | E41: 1 | F41: 1 | G41: 1
A42: 0.45833333 | B42: 1 | C42: 1 | D42: 1 | E42: 1 | F42: 1 | G42: 1
A43: 0.5 | B43: 1 | C43: 1 | D43: 1 | E43: 1 | F43: 1 | G43: 1
A44: 0.54166667 | B44: 1 | C44: 1 | D44: 1 | E44: 1 | F44: 1 | G44: 1
A45: 0.58333333 | B45: 1 | C45: 1 | D45: 1 | E45: 1 | F45: 1 | G45: 1
A46: 0.625 | B46: 1 | C46: 1 | D46: 1 | E46: 1 | F46: 1 | G46: 1
...

Sheet RydshallenKäpplunda
A1: IFK 2010
B2: Hallchef | C2: Sekretariat | D2: Sekretariat | E2: Filmare | F2: Kiosk | G2: Kiosk | I2: Frukost Käpplunda
A3: Fredag: kl 8-21:30 | I3: Fredag:
A4: 0.33333333 | B4: 1 | C4: 1 | D4: 1 | E4: 1 | F4: 1 | G4: 1 | I4: kl 6-7 | J4: 1 | K4: 1 | L4: 1
A5: 0.375 | B5: 1 | C5: 1 | D5: 1 | E5: 1 | F5: 1 | G5: 1 | I5: kl 7-8 | J5: 1 | K5: 1 | L5: 1
A6: 0.41666667 | B6: 1 | C6: 1 | D6: 1 | E6: 1 | F6: 1 | G6: 1 | I6: kl 8-9 | J6: 1 | K6: 1 | L6: 1
A7: 0.45833333 | B7: 1 | C7: 1 | D7: 1 | E7: 1 | F7: 1 | G7: 1 | I7: kl 9-10 | J7: 1 | K7: 1 | L7: 1
A8: 0.5 | B8: 1 | C8: 1 | D8: 1 | E8: 1 | F8: 1 | G8: 1 | I8: Lördag:
A9: 0.54166667 | B9: 1 | C9: 1 | D9: 1 | E9: 1 | F9: 1 | G9: 1 | I9: kl 6-7 | J9: 1 | K9: 1 | L9: 1
A10: 0.58333333 | B10: 1 | C10: 1 | D10: 1 | E10: 1 | F10: 1 | G10: 1 | I10: kl 7-8 | J10: 1 | K10: 1 | L10: 1
A11: 0.625 | B11: 1 | C11: 1 | D11: 1 | E11: 1 | F11: 1 | G11: 1 | I11: kl 8-9 | J11: 1 | K11: 1 | L11: 1
A12: 0.66666667 | B12: 1 | C12: 1 | D12: 1 | E12: 1 | F12: 1 | G12: 1 | I12: kl 9-10 | J12: 1 | K12: 1 | L12: 1
A13: 0.70833333 | B13: 1 | C13: 1 | D13: 1 | E13: 1 | F13: 1 | G13: 1 | I13: Söndag:
A14: 0.75 | B14: 1 | C14: 1 | D14: 1 | E14: 1 | F14: 1 | G14: 1 | I14: kl 6-7 | J14: 1 | K14: 1 | L14: 1
A15: 0.79166667 | B15: 1 | C15: 1 | D15: 1 | E15: 1 | F15: 1 | G15: 1 | I15: kl 7-8 | J15: 1 | K15: 1 | L15: 1
A16: 0.83333333 | B16: 1 | C16: 1 | D16: 1 | E16: 1 | F16: 1 | G16: 1 | I16: kl 8-9 | J16: 1 | K16: 1 | L16: 1
A17: 0.875 | B17: 1 | C17: 1 | D17: 1 | E17: 1 | F17: 1 | G17: 1 | I17: kl 9-10 | J17: 1 | K17: 1 | L17: 1
A18: 0.91666667 | B18: 1 | C18: 1 | D18: 1 | E18: 1 | F18: 1 | G18: 1
A19: Lördag: kl 8-22 | L19: =SUM(J4:L17) -> 36
A20: 0.33333333 | B20: 1 | C20: 1 | D20: 1 | E20: 1 | F20: 1 | G20: 1
A21: 0.375 | B21: 1 | C21: 1 | D21: 1 | E21: 1 | F21: 1 | G21: 1 | K21: =280/40 -> 7
A22: 0.41666667 | B22: 1 | C22: 1 | D22: 1 | E22: 1 | F22: 1 | G22: 1
A23: 0.45833333 | B23: 1 | C23: 1 | D23: 1 | E23: 1 | F23: 1 | G23: 1
A24: 0.5 | B24: 1 | C24: 1 | D24: 1 | E24: 1 | F24: 1 | G24: 1
A25: 0.54166667 | B25: 1 | C25: 1 | D25: 1 | E25: 1 | F25: 1 | G25: 1
A26: 0.58333333 | B26: 1 | C26: 1 | D26: 1 | E26: 1 | F26: 1 | G26: 1
A27: 0.625 | B27: 1 | C27: 1 | D27: 1 | E27: 1 | F27: 1 | G27: 1
A28: 0.66666667 | B28: 1 | C28: 1 | D28: 1 | E28: 1 | F28: 1 | G28: 1
A29: 0.70833333 | B29: 1 | C29: 1 | D29: 1 | E29: 1 | F29: 1 | G29: 1
A30: 0.75 | B30: 1 | C30: 1 | D30: 1 | E30: 1 | F30: 1 | G30: 1
A31: 0.79166667 | B31: 1 | C31: 1 | D31: 1 | E31: 1 | F31: 1 | G31: 1
A32: 0.83333333 | B32: 1 | C32: 1 | D32: 1 | E32: 1 | F32: 1 | G32: 1
A33: 0.875 | B33: 1 | C33: 1 | D33: 1 | E33: 1 | F33: 1 | G33: 1
A34: 0.91666667 | B34: 1 | C34: 1 | D34: 1 | E34: 1 | F34: 1 | G34: 1
A35: Söndag: kl 8-18
A36: 0.33333333 | B36: 1 | C36: 1 | D36: 1 | E36: 1 | F36: 1 | G36: 1
A37: 0.375 | B37: 1 | C37: 1 | D37: 1 | E37: 1 | F37: 1 | G37: 1
A38: 0.41666667 | B38: 1 | C38: 1 | D38: 1 | E38: 1 | F38: 1 | G38: 1
A39: 0.45833333 | B39: 1 | C39: 1 | D39: 1 | E39: 1 | F39: 1 | G39: 1
A40: 0.5 | B40: 1 | C40: 1 | D40: 1 | E40: 1 | F40: 1 | G40: 1
...

Sheet Kavelbro - logi
A1: 2011
B3: Skolvärd | C3: Förläggningschef | D3: In och utcheckning
A4: Torsdag
A5: 0.66666667 | B5: 1 | C5: 1
A6: 0.70833333 | B6: 1 | C6: 1
A7: 0.75 | B7: 1 | C7: 1 | D7: 1
A8: 0.79166667 | B8: 1 | C8: 1 | D8: 1
A9: 0.83333333 | B9: 1 | C9: 1 | D9: 1
A10: 0.875 | B10: 1 | C10: 1
A11: 0.91666667 | B11: 1 | C11: 1
A12: 0.9375 | B12: 1 | C12: 1
A13: Nattpass 22-06 | B13: 1 | C13: 1
A14: Fredag:
A15: 0.25 | B15: 1 | C15: 1
A16: 0.29166667 | B16: 1 | C16: 1
A17: 0.33333333 | B17: 1 | C17: 1
A18: 0.375 | B18: 1 | C18: 1 | D18: 1
A19: 0.41666667 | B19: 1 | C19: 1 | D19: 1
A20: 0.45833333 | B20: 1 | C20: 1 | D20: 1
A21: 0.5 | B21: 1 | C21: 1 | D21: 1
A22: 0.54166667 | B22: 1 | C22: 1
A23: 0.58333333 | B23: 1 | C23: 1
A24: 0.625 | B24: 1 | C24: 1
A25: 0.66666667 | B25: 1 | C25: 1
A26: 0.70833333 | B26: 1 | C26: 1
A27: 0.75 | B27: 1 | C27: 1
A28: 0.79166667 | B28: 1 | C28: 1
A29: 0.83333333 | B29: 1 | C29: 1
A30: 0.875 | B30: 1 | C30: 1
A31: 0.91666667 | B31: 1 | C31: 1
A32: 0.9375 | B32: 1 | C32: 1
A33: Nattpass 22-06 | B33: 1 | C33: 1
A34: Lördag:
A35: 0.25 | B35: 1 | C35: 1
A36: 0.29166667 | B36: 1 | C36: 1
A37: 0.33333333 | B37: 1 | C37: 1
A38: 0.375 | B38: 1 | C38: 1
A39: 0.41666667 | B39: 1 | C39: 1
A40: 0.45833333 | B40: 1 | C40: 1
A41: 0.5 | B41: 1 | C41: 1
...

Sheet Eriksdal - logi
A1: 2009
A2: Skollogi | B2: Skolvärd | C2: Förläggningschef | D2: In och utcheckning | E2: Frukost | F2: Frukost | G2: Frukost | H2: (Lunch) | I2: Lunch | J2: Lunch | K2: Lunch | L2: Lunch | M2: Middag | N2: Middag | O2: Middag | P2: Middag | Q2: (Middag)
A3: Torsdag
A4: 0.66666667 | B4: 1 | C4: 1
A5: 0.70833333 | B5: 1 | C5: 1
A6: 0.75 | B6: 1 | C6: 1 | D6: 1
A7: 0.79166667 | B7: 1 | C7: 1 | D7: 1
A8: 0.83333333 | B8: 1 | C8: 1 | D8: 1
A9: 0.875 | B9: 1 | C9: 1
A10: 0.91666667 | B10: 1 | C10: 1
A11: 0.9375 | B11: 1 | C11: 1
A12: Nattpass 22-06 | B12: 1 | C12: 1
A13: Fredag:
A14: 0.25 | B14: 1 | C14: 1 | E14: 1 | F14: 1 | G14: 1
A15: 0.29166667 | B15: 1 | C15: 1 | E15: 1 | F15: 1 | G15: 1
A16: 0.33333333 | B16: 1 | C16: 1 | E16: 1 | F16: 1 | G16: 1
A17: 0.375 | B17: 1 | C17: 1 | D17: 1 | E17: 1 | F17: 1 | G17: 1
A18: 0.41666667 | B18: 1 | C18: 1 | D18: 1
A19: 0.45833333 | B19: 1 | C19: 1 | D19: 1 | H19: 1 | I19: 1 | J19: 1 | K19: 1 | L19: 1
A20: 0.5 | B20: 1 | C20: 1 | D20: 1 | H20: 1 | I20: 1 | J20: 1 | K20: 1 | L20: 1
A21: 0.54166667 | B21: 1 | C21: 1 | H21: 1 | I21: 1 | J21: 1 | K21: 1 | L21: 1
A22: 0.58333333 | B22: 1 | C22: 1 | H22: 1 | I22: 1 | J22: 1 | K22: 1 | L22: 1
A23: 0.625 | B23: 1 | C23: 1 | H23: 1 | I23: 1 | J23: 1 | K23: 1 | L23: 1
A24: 0.66666667 | B24: 1 | C24: 1
A25: 0.70833333 | B25: 1 | C25: 1 | M25: 1 | N25: 1 | O25: 1 | P25: 1 | Q25: 1
A26: 0.75 | B26: 1 | C26: 1 | M26: 1 | N26: 1 | O26: 1 | P26: 1 | Q26: 1
A27: 0.79166667 | B27: 1 | C27: 1 | M27: 1 | N27: 1 | O27: 1 | P27: 1 | Q27: 1
A28: 0.83333333 | B28: 1 | C28: 1 | M28: 1 | N28: 1 | O28: 1 | P28: 1 | Q28: 1
A29: 0.875 | B29: 1 | C29: 1 | M29: 1 | N29: 1 | O29: 1 | P29: 1 | Q29: 1
A30: 0.91666667 | B30: 1 | C30: 1 | M30: 1 | N30: 1 | O30: 1 | P30: 1 | Q30: 1
A31: 0.9375 | B31: 1 | C31: 1 | M31: 1 | N31: 1 | O31: 1 | P31: 1 | Q31: 1
A32: Nattpass 22-06 | B32: 1 | C32: 1 | M32: 1 | N32: 1 | O32: 1 | P32: 1 | Q32: 1
A33: Lördag:
A34: 0.25 | B34: 1 | C34: 1 | E34: 1 | F34: 1 | G34: 1
A35: 0.29166667 | B35: 1 | C35: 1 | E35: 1 | F35: 1 | G35: 1
A36: 0.33333333 | B36: 1 | C36: 1 | E36: 1 | F36: 1 | G36: 1
A37: 0.375 | B37: 1 | C37: 1 | E37: 1 | F37: 1 | G37: 1
A38: 0.41666667 | B38: 1 | C38: 1
A39: 0.45833333 | B39: 1 | C39: 1 | H39: 1 | I39: 1 | J39: 1 | K39: 1 | L39: 1
A40: 0.5 | B40: 1 | C40: 1 | H40: 1 | I40: 1 | J40: 1 | K40: 1 | L40: 1
...
