Workbook
Name ParentNames: Föräldralista!$A$4:$A$51

Sheet Schema 2026
A1: Bilbingo – bemanningsmall för Gute P2012 (2026)
A2: Varje kväll kräver 1 kvällschef + 4 kontrollant + minst 2 reserver. Välj ditt namn via rullistorna i schemat. OBS! Varje barns familj skall anmäla sig till minst 4 pass samt 2 pass som reserv - Har man inte anmält 4 pass innan den 1 april tilldelas man passen som finns kvar.
A3: Datum | B3: Dag | C3: Kvällschef | D3: Kontrollant | E3: Kontrollant | F3: Kontrollant | G3: Kontrollant | H3: Reserv 1 | I3: Reserv 2 | J3: Reserv 3 | K3: Kommentar | L3: Ordinarie | M3: Reserver | N3: Status
A4: 2026-05-06 | B4: Onsdag | C4: Matthias Farinder (Ville) | D4: Carl Oscar Sjöström (Olle) | E4: Christoffer Mårhén (Noel) | F4: Jörgen Broman (Silas) | G4: Isabell Axner Berntsson (Marlon) | H4: Anders Ohlstenius (Morris) | I4: Patrik Ellebring (Filip) | J4: Albert Appelqvist (Elias) | L4: =COUNTA(C4:G4) -> 5 | M4: =COUNTA(H4:J4) -> 3 | N4: =IF(AND(L4=5,M4>=2),"OK",IF(L4<5,"Saknar "&(5-L4)&" ordinarie",IF(M4<2,"Behöver "&(2-M4)&" reserv(er)","Kontrollera"))) -> OK
A5: 2026-05-13 | B5: Onsdag | C5: Christoffer Mårhén (Noel) | D5: Emma Gerndt (Kasper) | E5: Emil Zetterberg (Kasper) | L5: =COUNTA(C5:G5) -> 5 | M5: =COUNTA(H5:J5) -> 2 | N5: =IF(AND(L5=5,M5>=2),"OK",IF(L5<5,"Saknar "&(5-L5)&" ordinarie",IF(M5<2,"Behöver "&(2-M5)&" reserv(er)","Kontrollera"))) -> OK
A6: 2026-05-20 | B6: Onsdag | C6: Albert Appelqvist (Elias) | D6: Emma Gerndt (Kasper) | E6: Emil Zetterberg (Kasper) | L6: =COUNTA(C6:G6) -> 5 | M6: =COUNTA(H6:J6) -> 2 | N6: =IF(AND(L6=5,M6>=2),"OK",IF(L6<5,"Saknar "&(5-L6)&" ordinarie",IF(M6<2,"Behöver "&(2-M6)&" reserv(er)","Kontrollera"))) -> OK
A7: 2026-05-27 | B7: Onsdag | C7: Carl Oscar Sjöström (Olle) | L7: =COUNTA(C7:G7) -> 5 | M7: =COUNTA(H7:J7) -> 2 | N7: =IF(AND(L7=5,M7>=2),"OK",IF(L7<5,"Saknar "&(5-L7)&" ordinarie",IF(M7<2,"Behöver "&(2-M7)&" reserv(er)","Kontrollera"))) -> OK
A8: 2026-06-03 | B8: Onsdag | C8: Christoffer Mårhén (Noel) | L8: =COUNTA(C8:G8) -> 5 | M8: =COUNTA(H8:J8) -> 2 | N8: =IF(AND(L8=5,M8>=2),"OK",IF(L8<5,"Saknar "&(5-L8)&" ordinarie",IF(M8<2,"Behöver "&(2-M8)&" reserv(er)","Kontrollera"))) -> OK
A9: 2026-06-10 | B9: Onsdag | C9: Carl Oscar Sjöström (Olle) | L9: =COUNTA(C9:G9) -> 5 | M9: =COUNTA(H9:J9) -> 2 | N9: =IF(AND(L9=5,M9>=2),"OK",IF(L9<5,"Saknar "&(5-L9)&" ordinarie",IF(M9<2,"Behöver "&(2-M9)&" reserv(er)","Kontrollera"))) -> OK
A10: 2026-06-17 | B10: Onsdag | C10: Matthias Farinder (Ville) | L10: =COUNTA(C10:G10) -> 5 | M10: =COUNTA(H10:J10) -> 2 | N10: =IF(AND(L10=5,M10>=2),"OK",IF(L10<5,"Saknar "&(5-L10)&" ordinarie",IF(M10<2,"Behöver "&(2-M10)&" reserv(er)","Kontrollera"))) -> OK
A11: 2026-06-24 | B11: Onsdag | L11: =COUNTA(C11:G11) -> 5 | M11: =COUNTA(H11:J11) -> 2 | N11: =IF(AND(L11=5,M11>=2),"OK",IF(L11<5,"Saknar "&(5-L11)&" ordinarie",IF(M11<2,"Behöver "&(2-M11)&" reserv(er)","Kontrollera"))) -> OK
A12: 2026-07-01 | B12: Onsdag | C12: Patrik Ellebring (Filip) | L12: =COUNTA(C12:G12) -> 5 | M12: =COUNTA(H12:J12) -> 2 | N12: =IF(AND(L12=5,M12>=2),"OK",IF(L12<5,"Saknar "&(5-L12)&" ordinarie",IF(M12<2,"Behöver "&(2-M12)&" reserv(er)","Kontrollera"))) -> OK
A13: 2026-07-08 | B13: Onsdag | C13: Patrik Ellebring (Filip) | L13: =COUNTA(C13:G13) -> 5 | M13: =COUNTA(H13:J13) -> 2 | N13: =IF(AND(L13=5,M13>=2),"OK",IF(L13<5,"Saknar "&(5-L13)&" ordinarie",IF(M13<2,"Behöver "&(2-M13)&" reserv(er)","Kontrollera"))) -> OK
A14: 2026-07-15 | B14: Onsdag | L14: =COUNTA(C14:G14) -> 5 | M14: =COUNTA(H14:J14) -> 2 | N14: =IF(AND(L14=5,M14>=2),"OK",IF(L14<5,"Saknar "&(5-L14)&" ordinarie",IF(M14<2,"Behöver "&(2-M14)&" reserv(er)","Kontrollera"))) -> OK
A15: 2026-07-22 | B15: Onsdag | C15: Albert Appelqvist (Elias) | L15: =COUNTA(C15:G15) -> 5 | M15: =COUNTA(H15:J15) -> 2 | N15: =IF(AND(L15=5,M15>=2),"OK",IF(L15<5,"Saknar "&(5-L15)&" ordinarie",IF(M15<2,"Behöver "&(2-M15)&" reserv(er)","Kontrollera"))) -> OK
A16: 2026-07-30 | B16: Torsdag | K16: Avvikelse: bemanning på torsdag i stället för onsdag | L16: =COUNTA(C16:G16) -> 5 | M16: =COUNTA(H16:J16) -> 2 | N16: =IF(AND(L16=5,M16>=2),"OK",IF(L16<5,"Saknar "&(5-L16)&" ordinarie",IF(M16<2,"Behöver "&(2-M16)&" reserv(er)","Kontrollera"))) -> OK
A17: 2026-08-05 | B17: Onsdag | L17: =COUNTA(C17:G17) -> 5 | M17: =COUNTA(H17:J17) -> 2 | N17: =IF(AND(L17=5,M17>=2),"OK",IF(L17<5,"Saknar "&(5-L17)&" ordinarie",IF(M17<2,"Behöver "&(2-M17)&" reserv(er)","Kontrollera"))) -> OK
A18: 2026-08-12 | B18: Onsdag | L18: =COUNTA(C18:G18) -> 5 | M18: =COUNTA(H18:J18) -> 2 | N18: =IF(AND(L18=5,M18>=2),"OK",IF(L18<5,"Saknar "&(5-L18)&" ordinarie",IF(M18<2,"Behöver "&(2-M18)&" reserv(er)","Kontrollera"))) -> OK
A19: 2026-08-19 | B19: Onsdag | C19: Matthias Farinder (Ville) | L19: =COUNTA(C19:G19) -> 5 | M19: =COUNTA(H19:J19) -> 2 | N19: =IF(AND(L19=5,M19>=2),"OK",IF(L19<5,"Saknar "&(5-L19)&" ordinarie",IF(M19<2,"Behöver "&(2-M19)&" reserv(er)","Kontrollera"))) -> OK
A20: 2026-08-26 | B20: Onsdag | L20: =COUNTA(C20:G20) -> 5 | M20: =COUNTA(H20:J20) -> 2 | N20: =IF(AND(L20=5,M20>=2),"OK",IF(L20<5,"Saknar "&(5-L20)&" ordinarie",IF(M20<2,"Behöver "&(2-M20)&" reserv(er)","Kontrollera"))) -> OK

Sheet Föräldralista
A1: Föräldralista och översikt
A2: Lägg in namn och kontaktuppgifter här. Antal pass räknas automatiskt när namn väljs i fliken Schema 2026.
A3: Namn | B3: Telefon | C3: Ordinarie pass | D3: Reservpass | E3: Totalt | F3: Anteckningar
A4: Samir Arab (Ali A) | B4: 072-228 41 11 | C4: =COUNTIF('Schema 2026'!$C$4:$G$20,A4) -> 0 | D4: =COUNTIF('Schema 2026'!$H$4:$J$20,A4) -> 0 | E4: =C4+D4 -> 0
A5: Amal Kashkish (Ali K) | B5: 079-358 47 27 | C5: =COUNTIF('Schema 2026'!$C$4:$G$20,A5) -> 0 | D5: =COUNTIF('Schema 2026'!$H$4:$J$20,A5) -> 0 | E5: =C5+D5 -> 0
A6: Imad Keshkkesh (Ali K) | B6: 076-575 87 06 | C6: =COUNTIF('Schema 2026'!$C$4:$G$20,A6) -> 0 | D6: =COUNTIF('Schema 2026'!$H$4:$J$20,A6) -> 0 | E6: =C6+D6 -> 0
A7: Jennifer Medin (Allan) | B7: 070-945 48 80 | C7: =COUNTIF('Schema 2026'!$C$4:$G$20,A7) -> 0 | D7: =COUNTIF('Schema 2026'!$H$4:$J$20,A7) -> 0 | E7: =C7+D7 -> 0
A8: Christian Björkman (Allan) | B8: 070-557 85 20 | C8: =COUNTIF('Schema 2026'!$C$4:$G$20,A8) -> 0 | D8: =COUNTIF('Schema 2026'!$H$4:$J$20,A8) -> 0 | E8: =C8+D8 -> 0
A9: Jessica Odqvist (Andreas) | B9: 070-771 56 43 | C9: =COUNTIF('Schema 2026'!$C$4:$G$20,A9) -> 0 | D9: =COUNTIF('Schema 2026'!$H$4:$J$20,A9) -> 0 | E9: =C9+D9 -> 0
A10: Nicklas (Andreas) | B10: 073-503 73 81 | C10: =COUNTIF('Schema 2026'!$C$4:$G$20,A10) -> 0 | D10: =COUNTIF('Schema 2026'!$H$4:$J$20,A10) -> 0 | E10: =C10+D10 -> 0
A11: Marie Bjersander (Dante) | B11: 073-915 69 41 | C11: =COUNTIF('Schema 2026'!$C$4:$G$20,A11) -> 0 | D11: =COUNTIF('Schema 2026'!$H$4:$J$20,A11) -> 0 | E11: =C11+D11 -> 0
A12: Jonas Johannesson (Dante) | B12: 070-822 79 79 | C12: =COUNTIF('Schema 2026'!$C$4:$G$20,A12) -> 0 | D12: =COUNTIF('Schema 2026'!$H$4:$J$20,A12) -> 0 | E12: =C12+D12 -> 0
A13: Fanny Velinge (Ebbe) | B13: 070-941 75 49 | C13: =COUNTIF('Schema 2026'!$C$4:$G$20,A13) -> 0 | D13: =COUNTIF('Schema 2026'!$H$4:$J$20,A13) -> 0 | E13: =C13+D13 -> 0
A14: Adam (Ebbe) | C14: =COUNTIF('Schema 2026'!$C$4:$G$20,A14) -> 0 | D14: =COUNTIF('Schema 2026'!$H$4:$J$20,A14) -> 0 | E14: =C14+D14 -> 0
A15: Albert Appelqvist (Elias) | B15: 070-175 96 39 | C15: =COUNTIF('Schema 2026'!$C$4:$G$20,A15) -> 2 | D15: =COUNTIF('Schema 2026'!$H$4:$J$20,A15) -> 1 | E15: =C15+D15 -> 3
A16: Malin Appelqvist (Elias) | B16: 070-457 93 02 | C16: =COUNTIF('Schema 2026'!$C$4:$G$20,A16) -> 0 | D16: =COUNTIF('Schema 2026'!$H$4:$J$20,A16) -> 0 | E16: =C16+D16 -> 0
A17: Åsa Andorff (Elton) | B17: 070-734 76 80 | C17: =COUNTIF('Schema 2026'!$C$4:$G$20,A17) -> 0 | D17: =COUNTIF('Schema 2026'!$H$4:$J$20,A17) -> 0 | E17: =C17+D17 -> 0
A18: Magnus Karlsson (Elton) | B18: 070-749 77 75 | C18: =COUNTIF('Schema 2026'!$C$4:$G$20,A18) -> 0 | D18: =COUNTIF('Schema 2026'!$H$4:$J$20,A18) -> 0 | E18: =C18+D18 -> 0
A19: Jenny Ellebring (Filip) | B19: 070-433 80 35 | C19: =COUNTIF('Schema 2026'!$C$4:$G$20,A19) -> 0 | D19: =COUNTIF('Schema 2026'!$H$4:$J$20,A19) -> 0 | E19: =C19+D19 -> 0
A20: Patrik Ellebring (Filip) | B20: 070-791 82 78 | C20: =COUNTIF('Schema 2026'!$C$4:$G$20,A20) -> 2 | D20: =COUNTIF('Schema 2026'!$H$4:$J$20,A20) -> 1 | E20: =C20+D20 -> 3
A21: Magnus Larsson (Herman) | B21: 070-354 85 92 | C21: =COUNTIF('Schema 2026'!$C$4:$G$20,A21) -> 0 | D21: =COUNTIF('Schema 2026'!$H$4:$J$20,A21) -> 0 | E21: =C21+D21 -> 0
A22: Eva Göthberg (Herman) | B22: 073-643 88 10 | C22: =COUNTIF('Schema 2026'!$C$4:$G$20,A22) -> 0 | D22: =COUNTIF('Schema 2026'!$H$4:$J$20,A22) -> 0 | E22: =C22+D22 -> 0
A23: Thomas Andersson (Johannes) | B23: 073-928 61 11 | C23: =COUNTIF('Schema 2026'!$C$4:$G$20,A23) -> 0 | D23: =COUNTIF('Schema 2026'!$H$4:$J$20,A23) -> 0 | E23: =C23+D23 -> 0
A24: Eleonore Bogren (Johannes) | B24: 070-797 45 15 | C24: =COUNTIF('Schema 2026'!$C$4:$G$20,A24) -> 0 | D24: =COUNTIF('Schema 2026'!$H$4:$J$20,A24) -> 0 | E24: =C24+D24 -> 0
A25: Emma Gerndt (Kasper) | B25: 073-513 70 35 | C25: =COUNTIF('Schema 2026'!$C$4:$G$20,A25) -> 2 | D25: =COUNTIF('Schema 2026'!$H$4:$J$20,A25) -> 0 | E25: =C25+D25 -> 2
A26: Emil Zetterberg (Kasper) | B26: 073-510 73 57 | C26: =COUNTIF('Schema 2026'!$C$4:$G$20,A26) -> 2 | D26: =COUNTIF('Schema 2026'!$H$4:$J$20,A26) -> 0 | E26: =C26+D26 -> 2
... A31: Anders Ohlstenius (Morris) | B31: 070-542 56 59 | C31: =COUNTIF('Schema 2026'!$C$4:$G$20,A31) -> 0 | D31: =COUNTIF('Schema 2026'!$H$4:$J$20,A31) -> 1 | E31: =C31+D31 -> 1
A32: Linda Jansdotter (Morris) | C32: =COUNTIF('Schema 2026'!$C$4:$G$20,A32) -> 0 | D32: =COUNTIF('Schema 2026'!$H$4:$J$20,A32) -> 0 | E32: =C32+D32 -> 0
A33: Fredrik Reinholdz (Nils D) | B33: 070-087 46 35 | C33: =COUNTIF('Schema 2026'!$C$4:$G$20,A33) -> 0 | D33: =COUNTIF('Schema 2026'!$H$4:$J$20,A33) -> 0 | E33: =C33+D33 -> 0
A34: Petra Drysén (Nils D) | B34: 070-087 45 70 | C34: =COUNTIF('Schema 2026'!$C$4:$G$20,A34) -> 0 | D34: =COUNTIF('Schema 2026'!$H$4:$J$20,A34) -> 0 | E34: =C34+D34 -> 0
A35: Jonas Lindstrand (Nils L) | B35: 073-941 08 55 | C35: =COUNTIF('Schema 2026'!$C$4:$G$20,A35) -> 0 | D35: =COUNTIF('Schema 2026'!$H$4:$J$20,A35) -> 0 | E35: =C35+D35 -> 0
A36: Matilda Boberg (Nils L) | B36: 073-728 33 85 | C36: =COUNTIF('Schema 2026'!$C$4:$G$20,A36) -> 0 | D36: =COUNTIF('Schema 2026'!$H$4:$J$20,A36) -> 0 | E36: =C36+D36 -> 0
A37: Christoffer Mårhén (Noel) | B37: 073-332 55 92 | C37: =COUNTIF('Schema 2026'!$C$4:$G$20,A37) -> 3 | D37: =COUNTIF('Schema 2026'!$H$4:$J$20,A37) -> 0 | E37: =C37+D37 -> 3
A38: Erica Mårhén (Noel) | B38: 070-275 65 67 | C38: =COUNTIF('Schema 2026'!$C$4:$G$20,A38) -> 0 | D38: =COUNTIF('Schema 2026'!$H$4:$J$20,A38) -> 0 | E38: =C38+D38 -> 0
A39: Charlotte Adman (Olle) | B39: 070-760 69 77 | C39: =COUNTIF('Schema 2026'!$C$4:$G$20,A39) -> 0 | D39: =COUNTIF('Schema 2026'!$H$4:$J$20,A39) -> 0 | E39: =C39+D39 -> 0
A40: Carl Oscar Sjöström (Olle) | B40: 070-467 88 33 | C40: =COUNTIF('Schema 2026'!$C$4:$G$20,A40) -> 3 | D40: =COUNTIF('Schema 2026'!$H$4:$J$20,A40) -> 0 | E40: =C40+D40 -> 3
A41: Jörgen Broman (Silas) | B41: 070-625 25 44 | C41: =COUNTIF('Schema 2026'!$C$4:$G$20,A41) -> 1 | D41: =COUNTIF('Schema 2026'!$H$4:$J$20,A41) -> 0 | E41: =C41+D41 -> 1
A42: Gabriella Neuman (Silas) | B42: 076-867 32 00 | C42: =COUNTIF('Schema 2026'!$C$4:$G$20,A42) -> 0 | D42: =COUNTIF('Schema 2026'!$H$4:$J$20,A42) -> 0 | E42: =C42+D42 -> 0
A43: Jonathan Nyström (Sven) | B43: 073-710 09 85 | C43: =COUNTIF('Schema 2026'!$C$4:$G$20,A43) -> 0 | D43: =COUNTIF('Schema 2026'!$H$4:$J$20,A43) -> 0 | E43: =C43+D43 -> 0
A44: Helena Jakobsson (Sven) | B44: 072-557 01 70 | C44: =COUNTIF('Schema 2026'!$C$4:$G$20,A44) -> 0 | D44: =COUNTIF('Schema 2026'!$H$4:$J$20,A44) -> 0 | E44: =C44+D44 -> 0
...

Sheet Instruktioner
A1: Så använder du mallen
A3: Steg | B3: Rubrik | C3: Beskrivning
A4: 1 | B4: År | C4: Mallen är uppsatt för 2026 eftersom 6 maj och 26 augusti infaller på onsdagar och 30 juli på torsdag.
A5: 2 | B5: Föräldralista | C5: Fyll i namn och kontaktuppgifter i fliken Föräldralista.
A6: 3 | B6: Schema | C6: Välj kvällschef, fyra volontärer och minst två reserver per kväll i fliken Schema 2026.
A7: 4 | B7: Kontroll | C7: Kolumnerna Ordinarie, Reserver och Status räknas automatiskt och visar om en kväll är komplett.
A8: 5 | B8: Avvikelse | C8: Passet för vecka 31 är flyttat från onsdag 29 juli till torsdag 30 juli.
A9: 6 | B9: Tips | C9: Om du vill kan du även använda kolumnen Kommentar för önskemål, byten eller bekräftelser.
