Workbook

Sheet Sammanställning
A1: Vinslövs HandbollsKlubb
A2: Budget 250501-260430
B4: Akademi | C4: Herrar | D4: Damer | E4: J+U-lag | F4: Ungdom | G4: VFC | H4: Kiosk | I4: Gemensam | J4: Sponsring | K4: Camp | L4: HF Syd | M4: Team 500 | N4: Totalt | O4: Utfall fg år | P4: Bu fg år | Q4: Bu 25/26 | R4: Bu 26/27 | S4: Bu 27/28 | U4: Arbetsgivare avgifter 31,42
A5: Intäkter | B5: =+Akademi!J13 -> 45000 | C5: =+Herrar!J17 -> 466000 | D5: =+Damer!J12 -> 49000 | E5: =+'U o J lag'!J15 -> 30000 | F5: =+Ungdom!J21 -> 150000 | G5: =+VFC!J11 -> 85000 | H5: =+Kiosk!J13 -> 400000 | I5: =+Gemensamt!J32 -> 1021600 | J5: =+Sponsring!J26 -> 4388000 | K5: 0 | N5: =SUM(B5:M6) -> 6634600 | O5: 5960955 | P5: 5637000 | U5: Löner | V5: Arb.avg 31,42 | W5: Nuläge RR | X5: 24-25
B6: 0 | C6: 0 | D6: 0 | E6: 0 | F6: 0 | G6: 0 | H6: 0 | I6: 0 | J6: 0 | K6: 0 | U6: 1112453
A7: Tävlingskostnader | B7: =+Akademi!J21 -> -12000 | C7: =+Herrar!J48 -> -697000 | D7: =+Damer!J38 -> -185500 | E7: =+'U o J lag'!J38 -> -139100 | F7: =+Ungdom!J48 -> -324500 | G7: =+VFC!J26 -> -31580 | H7: =+Kiosk!J20 -> -165000 | I7: =+Gemensamt!J69 -> -476300 | J7: =+Sponsring!J50 -> -435500 | K7: 0 | N7: =SUM(B7:K7) -> -2466480 | O7: -2061299 | P7: -1927400 | U7: 389900
A8: Externa kostnader | B8: =+Akademi!J32 -> -30000 | C8: =+Herrar!J61 -> -3500 | D8: =+Damer!J46 -> -7500 | E8: 0 | F8: =+Ungdom!J56 -> 0 | G8: 0 | H8: =+Kiosk!J30 -> -18250 | I8: =+Gemensamt!J116 -> -164800 | J8: =+Sponsring!J63 -> 0 | K8: =+Camp!J13 -> 0 | N8: =SUM(B8:K8) -> -224050 | O8: -304105 | P8: -222800 | U8: 326629
A9: Lönekostnader | B9: 0 | C9: =+Herrar!J80 -> -2760000 | D9: =+Damer!J63 -> -189500 | E9: =+'U o J lag'!J48 -> -140000 | F9: =+Ungdom!J77 -> -147000 | G9: 0 | H9: 0 | I9: =+Gemensamt!J135 -> -605100 | J9: =+Sponsring!J71 -> -123200 | K9: 0 | N9: =SUM(B9:K9) -> -3964800 | O9: -3747754 | P9: -4083000 | U9: 5316
A10: Avskrivningar | B10: 0 | C10: =+Herrar!J84 -> 0 | D10: 0 | E10: 0 | F10: 0 | G10: 0 | H10: 0 | I10: =+Gemensamt!J139 -> 0 | J10: 0 | K10: 0 | N10: =SUM(B10:K10) -> 0 | O10: -29484 | P10: -25800 | U10: 4000
A11: Räntenetto | B11: 0 | C11: 0 | D11: 0 | E11: 0 | F11: 0 | G11: 0 | H11: 0 | I11: 2500 | J11: 0 | K11: 0 | N11: =SUM(B11:K11) -> 2500 | O11: 5845 | P11: 0 | U11: 663094
A12: Skatt | B12: 0 | C12: 0 | D12: 0 | E12: 0 | F12: 0 | G12: 0 | H12: 0 | I12: 0 | J12: 0 | K12: 0 | N12: =SUM(B12:M12) -> 0 | O12: -2993 | P12: 0 | U12: 3200
A13: Summa Kostnader | B13: =SUM(B7:B12) -> -42000 | C13: =SUM(C7:C10) -> -3460500 | D13: =SUM(D7:D10) -> -382500 | E13: =SUM(E7:E10) -> -279100 | F13: =SUM(F7:F10) -> -471500 | G13: =SUM(G7:G12) -> -31580 | H13: =SUM(H7:H12) -> -183250 | I13: =SUM(I7:I12) -> -1243700 | J13: =SUM(J7:J12) -> -558700 | K13: =SUM(K7:K10) -> 0 | N13: =SUM(N7:N12) -> -6652830 | O13: =SUM(O7:O12) -> -6139790 | P13: =SUM(P7:P12) -> -6259000 | U13: 55873
U14: =SUM(U6:U13) -> 2560465 | V14: =U14*0.3142 -> 804498.1 | W14: 1352562 | X14: 838078
A15: Resultat | B15: =+B5+B13 -> 3000 | C15: =+C5+C13 -> -2994500 | D15: =+D5+D13 -> -333500 | E15: =+E5+E13 -> -249100 | F15: =+F5+F13 -> -321500 | G15: =+G5+G13 -> 53420 | H15: =+H5+H13 -> 216750 | I15: =+I5+I13 -> -222100 | ... K15: =+K5+K13 -> 0 | N15: =+N5+N13 -> -18230 | O15: =+O5+O13 -> -178835 | P15: =+P5+P13 -> -622000 | Q15: =+Q5+Q13 -> 0 | R15: =+R5+R13 -> 0 | S15: =+S5+S13 -> 0
A17: Utfall fg år | B17: 34776 | C17: -3110433 | D17: -247840 | E17: -136690 | F17: -735914 | G17: 19305 | H17: 214783 | I17: 74470 | J17: 3732410 | K17: 0 | N17: =SUM(B17:K17) -> -155133
W18: =V14-W14 -> -548063.9
A19: Budget fg år | B19: 0 | C19: -3454900 | D19: -355400 | E19: -119500 | F19: -573000 | G19: 72000 | H19: 134100 | I19: 5100 | J19: 3679600 | K19: -10000 | N19: =SUM(B19:K19) -> -622000
A21: Skillnad utfall/Bu | B21: =+B17+B19 -> 34776 | C21: =+C17-C19 -> 344467 | D21: =+D17-D19 -> 107560 | E21: =+E17-E19 -> -17190 | F21: =+F17-F19 -> -162914 | G21: =+G17-G19 -> -52695 | H21: =+H17-H19 -> 80683 | I21: =+I17-I19 -> 69370 | J21: =+J17-J19 -> 52810 | K21: =+K17-K19 -> 10000 | N21: =+N17-N19 -> 466867
A23: Utfall period 25/26 | B23: =+Akademi!G36 -> -15212 | C23: =+Herrar!G86 -> -2915387.5 | D23: =+Damer!G68 -> -351343 | E23: =+'U o J lag'!G52 -> -274083 | F23: =+Ungdom!G81 -> -340525 | G23: =+VFC!G34 -> -8823 | H23: =+Kiosk!G38 -> 244980 | I23: =+Gemensamt!G151 -> -878790 | J23: =+Sponsring!G79 -> 4357159 | L23: =+'HF Syd'!G37 -> -4080 | M23: ='Team 500'!G24 -> 7378 | N23: =SUM(B23:M23) -> -178726.5

Sheet Budget 2526
A1: Vinslövs HandbollsKlubb
A2: Budget 250501-260430
B4: Akademi | C4: Herrar | D4: Damer | E4: J+U-lag | F4: Ungdom | G4: VFC | H4: Kiosk | I4: Gemensam | J4: Sponsring | K4: Camp | L4: HF Syd | M4: Team 500 | N4: Totalt | O4: Utf 2024-2025
A5: Intäkter | B5: =+Akademi!K13 -> 0 | C5: =+Herrar!K17 -> 430000 | D5: =+Damer!K12 -> 37000 | E5: =+'U o J lag'!K15 -> 25000 | F5: =+Ungdom!K21 -> 200000 | G5: =+VFC!K11 -> 90000 | H5: =+Kiosk!K13 -> 520000 | I5: =+Gemensamt!K32 -> 1142000 | J5: =+Sponsring!K26 -> 4715500 | K5: 0 | L5: 5000 | M5: 25000 | N5: =SUM(B5:M5) -> 7189500 | O5: 7599777
A7: Tävlingskostnader | B7: -13000 | C7: =+Herrar!K48 -> -791200 | D7: =+Damer!K38 -> -191000 | E7: =+'U o J lag'!K38 -> -192000 | F7: =+Ungdom!K48 -> -324000 | G7: =+VFC!K26 -> -53700 | H7: =+Kiosk!K20 -> -265000 | I7: =+Gemensamt!K69 -> -654500 | J7: =+Sponsring!K50 -> -445000 | L7: -4500 | N7: =SUM(B7:M7) -> -2933900 | O7: -3386927
A8: Externa kostnader | C8: =+Herrar!K61 -> -5000 | D8: =+Damer!K46 -> -15000 | G8: =+VFC!K30 -> -1000 | H8: =+Kiosk!K30 -> -30500 | I8: =+Gemensamt!K116 -> -216500 | J8: =+Sponsring!K63 -> -5000 | M8: =+'Team 500'!K19 -> -10000 | N8: =SUM(B8:M8) -> -283000 | O8: -292777
A9: Lönekostnader | B9: -20000 | C9: =+Herrar!K80 -> -2665200 | D9: =+Damer!K63 -> -166500 | E9: =+'U o J lag'!K48 -> -115400 | F9: =+Ungdom!K77 -> -125000 | I9: =+Gemensamt!K135 -> -629500 | J9: =+Sponsring!K71 -> -48000 | N9: =SUM(B9:M9) -> -3769600 | O9: -3768365
A10: Avskrivningar | N10: =SUM(B10:M10) -> 0 | O10: -42712
A11: Räntenetto | I11: =+Gemensamt!K149 -> 5000 | N11: =SUM(B11:M11) -> 5000 | O11: 3401
A12: Skatt | N12: =SUM(B12:M12) -> 0 | O12: -764
A13: Summa Kostnader | B13: =SUM(B7:B12) -> -33000 | C13: =SUM(C7:C12) -> -3461400 | D13: =SUM(D7:D12) -> -372500 | E13: =SUM(E7:E12) -> -307400 | F13: =SUM(F7:F12) -> -449000 | G13: =SUM(G7:G12) -> -54700 | H13: =SUM(H7:H12) -> -295500 | I13: =SUM(I7:I12) -> -1495500 | ... O13: =SUM(O7:O12) -> -7488144
A15: Resultat | B15: =+B5+B13 -> -33000 | C15: =+C5+C13 -> -3031400 | D15: =+D5+D13 -> -335500 | E15: =+E5+E13 -> -282400 | F15: =+F5+F13 -> -249000 | G15: =+G5+G13 -> 35300 | H15: =+H5+H13 -> 224500 | I15: =+I5+I13 -> -353500 | ... O15: =+O5+O13 -> 111633
A17: Utfall Fg år
A19: Budget Fg år
A21: Skillnad utfall/Bud
A24: Utfall period 25/26 | B24: =+Akademi!K36 -> -33000 | C24: =+Herrar!K86 -> -3031400 | D24: =+Damer!K68 -> -335500 | E24: =+'U o J lag'!K52 -> -282400 | F24: =+Ungdom!K81 -> -249000 | G24: =+VFC!K34 -> 35300 | H24: =+Kiosk!K38 -> 224500 | I24: =+Gemensamt!K151 -> -353500 | J24: =+Sponsring!K79 -> 4217500 | L24: =+'HF Syd'!K37 -> 500 | M24: ='Team 500'!K24 -> 15000 | N24: =SUM(B24:M24) -> 208000

Sheet Akademi
A1: Vinslövs HandbollsKlubb | D1: 1
A2: Resultatrapport | D2: 45104
A3: Räkenskapsår: 24-05-01 - 25-04-30 | D3: A1846
A4: Resultatenhet: 1 "Akademin/skolprojekt"
A5: Period: 24-05-01 - 25-04-30
J6: Budget
G7: Perioden 24/25 | H7: Period fg år 22/23 | I7: Årsbudget 22/23 | J7: 2405-2504 | K7: 2505-2604
A9: Rörelsens intäkter mm
C10: 3210 | F10: Sponsorintäkter | G10: 0 | H10: 0 | J10: 45000 | K10: 0
C11: 3820 | F11: Statliga bidrag | G11: 0 | H11: 60000 | I11: 0 | K11: 0
C12: 3880 | F12: Övriga Bidrag | G12: 21500
B13: S:a Rörelseintäkter mm | G13: =SUM(G10:G12) -> 21500 | H13: =SUM(H10:H11) -> 60000 | I13: 0 | J13: =SUM(J10:J11) -> 45000 | K13: =SUM(K10+K11) -> 0
A15: Rörelsens kostnader
C16: 4019 | F16: Kost/Logi (Individ) | G16: -3157
C17: 4059 | F17: Kost/Logi (lag) | G17: 0
C18: 4060 | F18: Materialkostnader (lag) | G18: -11678 | H18: -15991 | I18: 0 | J18: -10000 | K18: -10000
C19: 4515 | F19: Inköp av varor från annat EU land 25% | G19: -999 | K19: -1000
C20: 4830 | F20: Trivselkkvällar | G20: -2178 | H20: -2432 | I20: 0 | J20: -2000 | K20: -2000
C21: S:a Råvaror och förnödenheter mm | G21: =SUM(G16:G20) -> -18012 | H21: =SUM(H18:H20) -> -18423 | I21: 0 | J21: =SUM(J18:J20) -> -12000 | K21: =SUM(K18:K20) -> -13000
C23: 5411 | F23: Förbrukningsinv med livslängd mer än 1år | G23: -1000
B26: Personalkostnader
C27: 7011 | F27: Lön tränare | G27: 0 | H27: -2975 | I27: 0 | J27: -25000 | K27: -20000
C28: 7014 | F28: Lön övriga/städning, speaker mm | G28: 0 | H28: -1650 | I28: 0
C29: 7110 | F29: Löner till (idrottsutövare och) tränare | G29: 0 | H29: -2175 | I29: 0
C30: 7210 | F30: Löner tjänstemän | G30: -17700 | N30: Lowa
C31: 7331 | F31: Skattefria bilersättningar | H31: 0 | J31: -5000
C32: S:a Personalkostnader | G32: =SUM(G27:G31) -> -17700 | H32: =SUM(H27:H31) -> -6800 | I32: 0 | J32: =SUM(J27:J31) -> -30000 | K32: =SUM(K27:K31) -> -20000
B34: S:a Rörelsens kostnader | G34: =SUM(G32+G21+G23) -> -36712 | H34: =SUM(H32+H21) -> -25223 | I34: 0 | J34: =SUM(J21+J32) -> -42000 | K34: =SUM(K21+K32) -> -33000
A36: Beräknat resultat | G36: =SUM(G13+G34) -> -15212 | H36: =SUM(H13+H34) -> 34777 | I36: 0 | J36: =+J13+J34 -> 3000 | K36: =+K13+K34 -> -33000

Sheet U o J lag
A1: Vinslövs HandbollsKlubb | D1: 1
A2: Resultatrapport | D2: 45104
A3: Räkenskapsår: 24-05-01 - 25-04-30 | D3: A1846
A4: Resultatenhet: 3 "U och J lag utveckl"
A5: Period: 24-05-01 - 25-04-30
J6: Budget
G7: Perioden 24/25 | H7: Period fg år 22/23 | I7: Årsbudget 23/24 | J7: 2405-2504 | K7: 2505-2604 | L7: 2605-2704 | M7: 2705-2804
A8: Rörelsens intäkter mm
C9: 3210 | F9: Sponsorintäkter
C10: 3320 | F10: Bingolotto
C11: 3322 | F11: Joyna
C12: 3590 | F12: Övriga försäljningsintäkter/solid sport | H12: 2524 | I12: 0
C13: 3610 | F13: Utbildning
C14: 3890 | F14: Medlemsavgifter | G14: 33900 | H14: 55900 | I14: 60000 | J14: 30000 | K14: 25000
C15: S:a Aktiverat arbete för egen räkning | G15: =SUM(G9:G14) -> 33900 | H15: =SUM(H12:H14) -> 58424 | I15: =SUM(I12:I14) -> 60000 | J15: =SUM(J14) -> 30000 | K15: =SUM(K12:K14) -> 25000
A17: Rörelsens kostnader
C18: 4049 | F18: Inköp av Ravelli produkter | G18: -9446 | N18: Inkomst?
C19: 4058 | F19: Plan/hallhyror (lag) | G19: -34268 | H19: -12486 | I19: -25000 | J19: -20000 | K19: -35000 | N19: Ökat
C20: 4059 | F20: Kost/logi (lag) | G20: 0 | H20: -18602 | I20: -15000 | J20: -20000 | K20: -10000
C21: 4060 | F21: Materialkostnader (lag) | G21: -18095 | H21: -47808 | I21: -30000 | J21: -30000 | K21: -25000
C22: 4061 | F22: Funktionärskostnader (lag) | G22: -43928 | H22: -28608 | I22: -30000 | J22: -30000 | K22: -40000
C23: 4063 | F23: Licensavgifter (lag) | G23: -7400 | H23: -4800 | I23: -5000 | J23: -5000 | K23: -7500
C24: 4066 | F24: Anmälningsavgifter cuper | G24: 0
C25: 4067 | F25: Anmälningsavgifter (lag) | G25: -102430 | H25: -17320 | I25: -15000 | J25: -9000 | K25: -15000 | N25: Div 3-4 | R25: Åhus beach? | S25: 4066?
C26: 4068 | F26: Tillstånd/förbundsavgifter (lag) | H26: -7500 | I26: -8000 | J26: -8000
C27: 4072 | F27: Busstransporter (lag) | G27: -29471 | H27: -11659 | I27: -12000 | J27: -10000 | K27: -30000 | R27: USM
C28: 4331 | F28: Fysträning Taggar | G28: -13000 | K28: -15000
C29: 4380 | F29: Andra aktiviteter | G29: 0 | H29: -2549 | I29: 0 | J29: 0
C30: 4402 | F30: Anmälan USM | G30: 0 | J30: -2100 | K30: -1500
C31: 4404 | F31: USM Mat | G31: -2940 | K31: -3000
C32: 4405 | F32: Boende mm cuper
C33: 4406 | F33: USM Kostnader/tröjor /lokalhyra | G33: -4343 | K33: -4000
C34: 4410 | F34: USM Lokalkostnader | G34: 2394 | K34: -2500
C35: 4501 | F35: Matchändringar mm | G35: -1000
C36: 4830 | F36: Trivselkkvällar | H36: -1645 | I36: -2000 | J36: -5000 | K36: -1000
C37: 4610 | F37: Övergångar 500:-/st | G37: -1800 | H37: 0 | I37: 0 | J37: 0 | K37: -2500
C38: S:a Råvaror och förnödenheter mm | G38: =SUM(G18:G37) -> -265727 | H38: =SUM(H19:H37) -> -152977 | I38: =SUM(I19:I37) -> -142000 | J38: =SUM(J19:J37) -> -139100 | K38: =SUM(K19:K37) -> -192000
B40: Personalkostnader
C41: 7011 | F41: Tränare | G41: 0
C42: 7012 | F42: Fys.tränare | G42: -28000 | H42: 0 | I42: 0
...

Sheet Sponsring
A1: Vinslövs HandbollsKlubb | D1: 1
A2: Resultatrapport | D2: 45104
A3: Räkenskapsår: 24-05-01 - 25-04-30 | D3: A1846
A4: Resultatenhet: 10 "Sponsring/marknadsgr" | J4: Budget
A5: Period: 24-05-01 - 25-04-30 | G5: Perioden 24/25 | H5: Period fg år 22/23 | I5: Årsbudget 23/24 | J5: 2405-2504 | K5: 2505-2604 | L5: 2605-2704 | M5: 2705-2804
A6: Rörelsens intäkter mm
C7: 3001 | F7: Försäljning inom Sverige
C8: 3023 | F8: Sverigelotten | G8: 21000
C9: 3210 | F9: Sponsorintäkter | G9: 4005173 | H9: 3661231 | I9: 3400000 | J9: 3400000 | K9: 4200000 | N9: Fel
C10: 3212 | F10: Before Match | G10: 39440 | K10: 50000
C11: 3220 | F11: Reklam SKATTEPLIKTIGT | G11: 0 | H11: 0 | I11: 0
C12: 3310 | F12: Lotterier | G12: 401661 | H12: 292618 | I12: 300000 | J12: 350000 | K12: 375000
C13: 3311 | F13: Lotteri Tallparken | G13: 6997 | K13: 3000
C14: 3320 | F14: BingoLotto | G14: 422303 | H14: 133180 | I14: 120000 | J14: 395000
C15: 3325 | F15: Föreningsbehållning Julkalendrar | G15: 0 | H15: -3650 | I15: 0 | K15: 0
C16: 3360 | F16: Gräsroten/svenska spel | G16: 0 | H16: 5395 | I16: 6000 | J16: 0
C17: 3380 | F17: Andra aktiviteter/ fest/returpack | G17: 23265 | H17: 40902 | I17: 40000 | J17: 40000 | K17: 7500 | N17: Fel | O17: Panta Mera
C18: 3510 | F18: Kiosk och serveringsintäkter | G18: 0 | H18: 5000 | I18: 0
C19: 3540 | F19: Försäljningsaktiviteter/ fsg av kläder m.m | G19: 3035 | H19: 380340 | I19: 150000
C20: 3550 | F20: Försäljning Merch | J20: 60000 | K20: 70000
C21: 3680 | F21: Intäkter uthyrning personal/Skandiform m m | G21: 0 | H21: 1811 | I21: 413000 | J21: 113000 | K21: 10000 | N21: Skandiform (ca 330 tim á 344 kr/tim= 113 000,
C22: 3880 | F22: Övriga bidrag (ej offentligrättsliga) | G22: 0 | H22: 250 | I22: 0
C23: 3890 | F23: Medlemsavgifter | G23: 0 | H23: 680 | I23: 0
C24: 3891 | F24: Medlemsavgifter Team 500 | G24: 2000 | H24: 29000 | I24: 30000 | J24: 30000
C25: 3990 | F25: Övriga ersättningar och intäkter/sponsorhuset | G25: 0 | H25: 16520 | I25: 0
C26: S:a Övriga rörelseintäkter | G26: =SUM(G7:G25) -> 4924874 | H26: =SUM(H9:H25) -> 4563277 | I26: =SUM(I9:I25) -> 4459000 | J26: =SUM(J9:J25) -> 4388000 | K26: =SUM(K9:K25) -> 4715500
A28: Rörelsens kostnader
C29: 4023 | F29: Sverigelotten | G29: -52500
C30: 4058 | F30: Planhyra/Hyra | G30: -5900
C31: 4060 | F31: Materialkostnader | G31: -12390
C32: 4072 | F32: Busstransporter | G32: -41216 | K32: -15000
C33: 4130 | F33: Kostnader Team 500 | G33: 0 | H33: 150 | I33: 0 | J33: -10000
C34: 4211 | F34: Produktion av reklam/ ex skyltar | G34: -45500 | H34: -28125 | I34: -20000 | J34: -10000 | K34: -25000
C35: 4212 | F35: Sponsorvård ( sponsorträffar mm ) | G35: -198725 | H35: -82615 | I35: -60000 | J35: -60000 | K35: -187500
C36: 4230 | F36: Reklamkostnader | G36: 0 | H36: -10450 | I36: 0 | J36: 0
C37: 4311 | F37: Tillståndsavgifter/lotteri | G37: 0 | H37: -300 | I37: 0 | J37: -500
C38: 4313 | F38: Produktion av lotter/lottringar | G38: 0 | H38: -17526 | I38: -10000 | J38: 0
C39: 4315 | F39: Inköp av vinster till lotteri | G39: -193400 | H39: -16069 | I39: -15000 | J39: -175000 | K39: -175000
C40: 4316 | F40: Inköp lotterier vinster Tallparken | G40: -3297
C41: 4319 | F41: Övriga kostnader ( lotterier )50/50 | G41: 0 | H41: -100906 | I41: -100000 | J41: 0
...

Sheet Herrar
A1: Vinslövs HandbollsKlubb | D1: 1
A2: Resultatrapport | D2: 45104
A3: Räkenskapsår: 24-05-01 - 25-04-30 | D3: A1846
A4: Resultatenhet: 2 "A-lag Herr" | J4: Budget
A5: Period: 24-05-01 - 25-04-30 | G5: Perioden 24/25 | H5: Period fg år 22/23 | I5: Årsbudget 23/24 | J5: 2405-2504 | K5: 2505-2604 | L5: 2605-2704 | M5: 2705-2804
A6: Rörelsens intäkter mm
C7: 3051 | F7: Entréavgifter (lag) | G7: 310690 | H7: 156366 | I7: 215000 | J7: 200000 | K7: 300000
C8: 3052 | F8: Års/säsongskort (lag) | G8: 32065 | H8: 0 | I8: 0 | K8: 40000
C9: 3064 | F9: Övergångsers | G9: 66234 | H9: 0 | J9: 40000 | K9: 25000
C10: 3210 | F10: Sponsorintäkter | G10: 0 | H10: 0 | I10: 0 | J10: 100000
C11: 3220 | F11: Reklam SKATTEPLIKTIGT | G11: 0 | H11: 0 | I11: 0
C12: 3320 | F12: Bingolotto | G12: 7000
C13: 3540 | F13: Försäljningsaktiviteter/ fsg av kläder m.m | G13: 0 | H13: 0 | I13: 0 | J13: 0
C14: 3550 | F14: FSG souvenier | G14: 1346
C15: 3590 | F15: Övriga försäljningsintäkter/solid sport | G15: 0 | H15: 74876 | I15: 90000 | J15: 80000 | K15: 30000
C16: 3890 | F16: Medlemsavgifter | G16: 31500 | H16: 43100 | I16: 46000 | J16: 46000 | K16: 35000
B17: S:a Rörelseintäkter mm | G17: =SUM(G7:G16) -> 448835 | H17: =SUM(H7:H16) -> 274342 | I17: =SUM(I10:I16) -> 136000 | J17: =SUM(J7:J16) -> 466000 | K17: =SUM(K7:K16) -> 430000 | L17: =SUM(L7:L16) -> 0 | M17: =SUM(M7:M16) -> 0
A19: Rörelsens kostnader
C20: 4024 | F20: Övergångsers idrottande ej balanserad individ | G20: -22374 | K20: -30000 | L20: -27000 | N20: Fel
C21: 4027 | F21: Startavgifter | G21: -37000 | K21: -30000 | N21: Serie
C22: 4052 | F22: Annonskostnader (lag) | G22: 0 | H22: 0 | I22: -1000 | J22: 0
C23: 4058 | F23: Plan/hallhyror (lag) | G23: -71300 | H23: -68907 | I23: -80000 | J23: -70000 | K23: -75000
C24: 4059 | F24: Kost/logi (lag) | G24: -58171 | H24: -18839 | I24: -15000 | J24: -25000 | K24: -50000
C25: 4060 | F25: Materialkostnader (lag) | G25: -111764 | H25: -62716 | I25: -180000 | J25: -150000 | K25: -90000
C26: 4061 | F26: Funktionärskostnader (lag) | G26: -191196 | H26: -146319 | I26: -170000 | J26: -120000 | K26: -175000
C27: 4062 | F27: Fördelningskostnader ATG | G27: -39695 | J27: -40000 | K27: -40000
C28: 4063 | F28: Licensavgifter (lag) | G28: -9000 | H28: -12050 | I28: -7500 | J28: 0 | K28: -9000
C29: 4064 | F29: Övergångsers ej balanserade spelarförvärv (lag) | G29: -148975 | H29: -107845 | I29: -50000 | J29: -50000 | K29: -60000
C30: 4067 | F30: Anmälningsavgifter (lag) | G30: -7000 | H30: -3000 | I30: -50000 | J30: -70000 | K30: -7000 | O30: Åhus
C31: 4068 | F31: Tillstånd/förbundsavgifter (lag) | G31: 0 | H31: -41897 | I31: -5000 | J31: 0
C32: 4070 | F32: Träningsläger | G32: -10687 | K32: -12000
C33: 4072 | F33: Busstransporter (lag) | G33: -177523 | H33: -153785 | I33: -170000 | J33: -150000 | K33: -160000
C34: 4211 | F34: Produktion av Reklamskyltar | G34: -5000 | N34: LED
C35: 4212 | F35: Sponsorvård | G35: -14805 | N35: Fel
C36: 4320 | F36: Bingolotto inköp | K36: -6200
C37: 4331 | F37: Fysträning/taggar | G37: -11500 | K37: -12000
C38: 4099 | F38: Övriga kostnader (lag) | G38: 0 | H38: -1000 | I38: 0 | J38: 0
C39: 4411 | F39: Mat träning/matcher | G39: -19701 | K39: -20000
C40: 4535 | F40: Inköp av tjänster från EU land 25% | G40: -8450 | K40: -10000
C41: 4570 | F41: Kostnader för provisionsförsäljning/för vidare fsg | G41: 0 | H41: 0 | I41: 0 | J41: 0
...

Sheet Damer
A1: Vinslövs HandbollsKlubb | D1: 1
A2: Resultatrapport | D2: 45104
A3: Räkenskapsår: 24-05-01 - 25-04-30 | D3: A1846
A4: Resultatenhet: 4 "Damlag" | J4: Budget
A5: Period: 24-05-01 - 25-04-30 | G5: Perioden 24/25 | H5: Period fg år 22/23 | I5: Årsbudget 23/24 | J5: 2405/2504 | K5: 2505-2604 | L5: 2605-2704 | M5: 2705-2804
A6: Rörelsens intäkter mm
C7: 3051 | F7: Entréavgifter (lag) | G7: 5540 | H7: 12755 | I7: 0 | J7: 15000 | K7: 10000
C8: 3055 | F8: Träningsavgifter | G8: 900
C9: 3210 | F9: Sponsorintäkter | G9: 0 | H9: 0 | I9: 0 | J9: 0
C10: 3590 | F10: Övriga försäljningsintäkter/solid sport | G10: 0 | H10: 1780 | I10: 2000 | J10: 1000 | K10: 2000
C11: 3890 | F11: Medlemsavgifter | G11: 22100 | H11: 45600 | I11: 20000 | J11: 33000 | K11: 25000
C12: S:a intäkter | G12: =SUM(G7:G11) -> 28540 | H12: =SUM(H7:H11) -> 60135 | I12: =SUM(I7:I11) -> 22000 | J12: =SUM(J7:J11) -> 49000 | K12: =SUM(K7:K11) -> 37000
A14: Rörelsens kostnader
C15: 4049 | F15: Inköp Ravelli produkter | G15: -3938 | N15: Inkomst
C16: 4052 | F16: Annonskostnader (lag) | G16: 0 | H16: 0 | I16: -5000 | J16: -6000
C17: 4055 | F17: Träningsavgifter | G17: -9400 | K17: -10000
C18: 4058 | F18: Plan/hallhyror (lag) | G18: -22155 | H18: -22855 | I18: -22500 | J18: -20000 | K18: -25000
C19: 4059 | F19: Kost/logi (lag) | G19: -861 | H19: 0 | I19: 0 | J19: 0 | K19: -1000
C20: 4060 | F20: Materialkostnader (lag) | G20: -95928 | H20: -7206 | I20: -45000 | J20: -100000 | K20: -75000
C21: 4061 | F21: Funktionärskostnader (lag) | G21: -23160 | H21: -18664 | I21: -20000 | J21: -20000 | K21: -25000
C22: 4063 | F22: Licensavgifter (lag) | G22: -4700 | H22: -4151 | I22: -4500 | J22: -5000 | K22: -5000
C23: 4064 | F23: Övergångsers ej balanserade spelarförvärv (lag) | G23: 0 | H23: 0 | I23: 0 | J23: 0
C24: 4067 | F24: Anmälningsavgifter (lag) | G24: -8400 | H24: -7740 | I24: -7500 | J24: -7000 | K24: -10000
C25: 4068 | F25: Tillstånd/förbundsavgifter (lag) | G25: 0 | H25: -5700 | I25: -6000 | J25: 0
C26: 4072 | F26: Busstransporter (lag) | G26: -16000 | H26: 0 | I26: 0 | J26: -15000 | K26: -15000
C27: 4099 | F27: Övriga kostnader lag resa fördelning | G27: 0 | H27: 0 | I27: 0 | J27: 0
C28: 4331 | F28: Fysträning/taggar | G28: -7900 | K28: -10000
C29: 4380 | F29: Andra aktiviteter | G29: 0 | H29: 0 | I29: 0 | J29: 0
C30: 4411 | F30: Mat Träning/matcher | G30: -783 | K30: -1000
C31: 4480 | F31: Kostnader andra aktiviteter/fest
C32: 4501 | F32: Matchändringar | G32: 0 | H32: 0 | I32: 0 | J32: 0
C33: 4535 | F33: Inköp av tjänster från annat EU land 25 % | G33: -8450
C34: 4570 | F34: Kostnader för provisionsförsäljning/för vidare fsg | G34: 0 | H34: 0 | I34: 0 | J34: 0
C35: 4610 | F35: Övergångar/ 500:-/st | G35: -3400 | H35: -3500 | I35: -4000 | J35: -2500 | K35: -4000
C36: 4830 | F36: Trivselkkvällar | G36: -8046 | H36: -12163 | I36: -15000 | J36: -10000 | K36: -10000
C37: 4899 | F37: Övriga kostnader | G37: 0 | H37: -900 | I37: 0 | J37: 0
C38: S:a Råvaror och förnödenheter mm | G38: =SUM(G15:G37) -> -213121 | H38: -211357.26 | I38: -145900 | J38: =SUM(J16:J37) -> -185500 | K38: =SUM(K16:K37) -> -191000
B40: Övriga externa kostnader
C41: 5410 | F41: Förbrukningsmatrial | H41: 0 | I41: -1000 | J41: -1000
C42: 5460
...

Sheet Ungdom
A1: Vinslövs HandbollsKlubb | D1: 1
A2: Resultatrapport | D2: 45104
A3: Räkenskapsår: 24-05-01 - 25-04-30 | D3: A1846
A4: Resultatenhet: 5 "Ungdomssektion" | J4: Budget
A5: Period: 24-05-01 - 25-04-30 | G5: Perioden 24/25 | H5: Period fg år 22/23 | I5: Årsbudget 23/24 | J5: 2405-2504 | K5: 2505-2604
A6: Rörelsens intäkter mm
C7: 3023 | F7: Sverigelotten | G7: 150
C8: 3050 | F8: USM/mat fsg
C9: 3111 | F9: Anmälan VFC Cupen | G9: 0
C10: 3210 | F10: Sponsorintäkter | G10: 0 | H10: 0 | I10: 0
C11: 3320 | F11: Bingolotto | G11: 600
C12: 3322 | F12: Joyna | G12: 150
C13: 3540 | F13: Försäljningsaktiviteter/ fsg av kläder m.m | G13: 0 | H13: 0 | I13: 0
C14: 3590 | F14: Övriga försäljningsintäkter/solid sport | G14: 30170 | H14: 2939 | I14: 0 | J14: 0 | K14: 20000
C15: 3610 | F15: Intäkter Utbildning | G15: 5800
C16: 3820 | F16: Statliga bidrag | G16: 0 | H16: 3750 | I16: 0
C17: 3870 | F17: Erhållna stipendier/fonder | G17: 0 | H17: 5000 | I17: 0 | J17: 0
C18: 3880 | F18: Övriga bidrag (ej offentligrättsliga) | G18: 0 | H18: 1250 | I18: 0 | J18: 0
C19: 3890 | F19: Medlemsavgifter | G19: 184550 | H19: 155888 | I19: 150000 | J19: 150000 | K19: 180000
C20: 3990 | F20: Övriga ersättningar och intäkter/sponsorhuset | G20: 0 | H20: 16520 | I20: 0
C21: S:a intäkter | G21: =SUM(G7:G20) -> 221420 | H21: =SUM(H10:H20) -> 185347 | I21: =SUM(I10:I20) -> 150000 | J21: =SUM(J10:J20) -> 150000 | K21: =SUM(K10:K20) -> 200000
A22: Rörelsens kostnader
B23: Råvaror och förnödenheter mm
C24: 4049 | F24: Inköp Ravelliprodukter | G24: -91197
C25: 4058 | F25: Plan/hallhyror (lag) | G25: -58619 | H25: -60108 | I25: -65000 | J25: -65000 | K25: -60000
C26: 4059 | F26: Kost/logi (lag) USM | G26: -10084 | H26: -6035 | I26: -100000 | J26: -65000 | L26: USM 2 lag F14 och F 16
C27: 4060 | F27: Materialkostnader (lag) | G27: -129816 | H27: -235783 | I27: -70000 | J27: -75000 | K27: -90000
C28: 4061 | F28: Funktionärskostnader (lag) | G28: -64557 | H28: -56942 | I28: -70000 | J28: -60000 | K28: -60000
C29: 4062 | F29: Priser, medaljer (lag) | G29: 0 | H29: -3988 | I29: 0 | J29: 0
C30: 4063 | F30: Licensavgifter (lag) | G30: -5400 | H30: -4800 | I30: -5000 | J30: 0 | K30: -6000
C31: 4066 | F31: Anmälningsavgifter Cuper | G31: -25285 | K31: -30000
C32: 4067 | F32: Anmälningsavgifter (lag) | G32: -27390 | H32: -21485 | I32: -25000 | J32: -30000 | K32: -30000 | L32: Inkl cuper ? Behöver skiljas | O32: 150000
C33: 4068 | F33: Tillstånd/förbundsavgifter (lag) | G33: -1000 | H33: -25300 | I33: -15000 | J33: 0
C34: 4070 | F34: Träningsläger (lag) | G34: -5000 | H34: -1656 | I34: 0 | J34: 0
C35: 4072 | F35: Busstransporter (lag) | G35: -4570 | H35: -23085 | I35: 0 | J35: 0
C36: 4099 | F36: Övriga kostnader | G36: 0 | H36: 0 | I36: 0 | J36: 0
C37: 4230 | F37: Reklamkostnader | G37: 0 | H37: -3500 | I37: 0 | J37: 0
C38: 4331 | F38: Fysträning/taggar | G38: -900 | P38: ?
C39: 4400 | F39: Momspliktiga inköp i Sverige | G39: 0 | H39: 0 | I39: 0 | J39: 0
C40: 4402 | F40: Anmälningsavgifter USM | G40: -4500 | H40: 0 | I40: 0 | J40: -4500 | K40: -3000 | L40: F 14 och F 16
...

Sheet VFC
A1: Vinslövs HandbollsKlubb | D1: 1
A2: Resultatrapport | D2: 45104
A3: Räkenskapsår: 24-05-01 - 25-04-30 | D3: A1846
A4: Resultatenhet: 6 "VFC"
A5: Period: 24-05-01 - 25-04-30
J6: Budget
G7: Perioden 24/25 | H7: Period fg år 22/23 | I7: Årsbudget 23/24 | J7: 2405-2504 | K7: 2505-2604 | L7: 2605-2704
A8: Rörelsens intäkter mm
C9: 3111 | F9: Anmälan VFC cup | G9: 28200 | H9: 33500 | I9: 90000 | J9: 45000 | K9: 50000
C10: 3510 | F10: Kiosk och serveringsintäkter | G10: 0 | H10: 0 | I10: 75000 | J10: 40000 | K10: 40000
B11: S:a Rörelseintäkter mm | G11: =SUM(G9:G10) -> 28200 | H11: =SUM(H9:H10) -> 33500 | I11: =SUM(I9:I10) -> 165000 | J11: =SUM(J9:J10) -> 85000 | K11: =SUM(K9:K10) -> 90000
A13: Rörelsens kostnader
B14: Råvaror och förnödenheter mm
C15: 4058 | F15: Plan/hallhyror (lag) | G15: -2760 | H15: 0 | I15: -7000 | J15: -7000 | K15: -7000
C16: 4061 | F16: Funktionärskostnader (lag) | H16: -1207 | I16: -20000
C17: 4062 | F17: Priser, medaljer (lag) | G17: 0 | H17: 0 | I17: -12000 | K17: -10000
C18: 4099 | F18: Övriga kostnader (lag) | G18: 0 | H18: 0 | I18: -30000 | K18: -15000
C19: 4112 | F19: Annonskostnader VFC Cup | G19: -1288 | K19: -2000
C20: 4121 | F20: Funktionärskostnader (arrangemang)VFC cup | G20: -10925 | H20: -2840 | I20: 0 | J20: -10000 | K20: -12000
C21: 4122 | F21: Priser, medaljer (arrangemang)VFC cup | G21: -12150 | H21: -10148 | I21: 0 | J21: -5000
C22: 4128 | F22: Tillstånd/förbundsavgifter (arrangemang)VFC cup | G22: -2700 | H22: 0 | I22: -7580 | J22: -7580 | K22: -2700
C23: 4149 | F23: Övriga kostnader arrangemang) VFC Cup | G23: -6100 | K23: -5000
C24: 4313 | F24: Produktion av lotteri | G24: -1100
C25: 4510 | F25: Inköp kiosk (40 % av försäljningen) | I25: -30000 | J25: -2000
C26: S:a Råvaror och förnödenheter mm | G26: =SUM(G14:G25) -> -37023 | H26: =SUM(H15:H25) -> -14195 | I26: =SUM(I15:I25) -> -106580 | J26: =SUM(J15:J25) -> -31580 | K26: =SUM(K15:K25) -> -53700
B28: Övriga externa kostnader
C29: 5410 | F29: Förbrukningsmatrial | H29: 0 | I29: -1000 | J29: -2000 | K29: -1000
C30: S:a Övriga externa kostnader | G30: =SUM(G29) -> 0 | H30: =SUM(H29) -> 0 | I30: =SUM(I29) -> -1000 | J30: =SUM(J29) -> -2000 | K30: =SUM(K29) -> -1000
B32: S:a Rörelsens kostnader inkl råvaror mm | G32: =SUM(G26+G30) -> -37023 | H32: =SUM(H26+H30) -> -14195 | I32: =SUM(I26+I30) -> -107580 | J32: =SUM(J26+J30) -> -33580 | K32: =SUM(K26+K30) -> -54700
A34: Beräknat resultat | G34: =SUM(G11+G32) -> -8823 | H34: =SUM(H11+H32) -> 19305 | I34: =SUM(I11+I32) -> 57420 | J34: =SUM(J11+J32) -> 51420 | K34: =SUM(K11+K32) -> 35300

Sheet Kiosk
A1: Vinslövs HandbollsKlubb | D1: 1
A2: Resultatrapport | D2: 45104
A3: Räkenskapsår: 24-05-01 - 25-04-30 | D3: A1846
A4: Resultatenhet: 7 "Kiosk"
A5: Period: 24-05-01 - 25-04-30
J6: Budget
G7: Perioden 24/25 | H7: Period fg år | I7: Årsbudget | J7: 2305-2404 | K7: 2505-2604 | L7: 2605-2704
A9: Rörelsens intäkter mm
B10: Nettoomsättning
C11: 3210 | F11: Sponsorintäkter | G11: 0 | H11: 0 | I11: 0
C12: 3510 | F12: Kiosk och serveringsintäkter | G12: 531766 | H12: 344975 | I12: 350000 | J12: 400000 | K12: 520000
C13: S:a Nettoomsättning | G13: =SUM(G11:G12) -> 531766 | H13: 236024.7 | I13: 250000 | J13: =SUM(J11:J12) -> 400000 | K13: =SUM(K11:K12) -> 520000
A15: Rörelsens kostnader
B16: Råvaror och förnödenheter mm
C17: 4020 | F17: Inköp cafeterian | G17: -7591
C18: 4058 | F18: Planhyra/hallhyra | G18: -2030
C19: 4510 | F19: Inköp kiosk och serveringsvaror | G19: -247429 | H19: -124717 | I19: -140000 | J19: -165000 | K19: -265000
C20: S:a Råvaror och förnödenheter mm | G20: =SUM(G17:G19) -> -257050 | H20: -123973.63 | I20: -110000 | J20: =SUM(J19) -> -165000 | K20: =SUM(K19) -> -265000
A22: Bruttovinst | G22: =SUM(G13+G20) -> 274716 | H22: =SUM(H13+H20) -> 112051.07 | I22: =SUM(I13+I20) -> 140000 | J22: =+J13+J20 -> 235000 | K22: =SUM(K13+K20) -> 255000
B24: Övriga externa kostnader
C25: 5010 | F25: Lokalhyra/avser förhyrda lokaler | G25: 0 | H25: -725 | I25: -3000 | J25: -3000 | K25: -3000
C26: 5060 | F26: Städning och renhållning | G26: -278
C27: 5410 | F27: Förbrukningsinventarier | G27: -19800 | H27: -4750 | I27: -10000 | J27: -15000 | K27: -20000
C28: 5460 | F28: Förbrukningsmatrial | G28: -9658 | H28: 0 | I28: 0 | J28: 0 | K28: -7500
C29: 6570 | F29: Bankkostnader | G29: 0 | H29: 0 | I29: 0 | J29: -250
C30: S:a Övriga externa kostnader | G30: =SUM(G25:G29) -> -29736 | H30: =SUM(H25:H29) -> -5475 | I30: =SUM(I25:I29) -> -13000 | J30: =SUM(J25:J29) -> -18250 | K30: =SUM(K25:K29) -> -30500
C32: 7410 | F32: Pension | G32: 0
B36: S:a Rörelsens kostnader inkl råvaror mm | G36: =+G30+G20+G32 -> -286786 | H36: =SUM(H20+H30) -> -129448.63 | I36: =SUM(I20+I30) -> -123000 | J36: =+J30+J20 -> -183250 | K36: =SUM(K20+K30) -> -295500
A38: Beräknat resultat | G38: =SUM(G13+G36) -> 244980 | H38: =SUM(H13+H36) -> 106576.07 | I38: =SUM(I13+I36) -> 127000 | J38: =+J13+J36 -> 216750 | K38: =SUM(K13+K36) -> 224500

Sheet Gemensamt
A1: Vinslövs HandbollsKlubb | D1: 1
A2: Resultatrapport | D2: 45104
A3: Räkenskapsår: 24-05-01 - 25-04-30 | D3: A1846
A4: Resultatenhet: 9 "Fördelningskonto" | J4: Budget
A5: Period: 24-05-01 - 25-04-30 | G5: Perioden 24/25 | H5: Period fg år | I5: Årsbudget | J5: 2405-2504 | K5: 2505-2604
A6: Rörelsens intäkter mm
C7: 3023 | F7: Sverigelotten | G7: 122 | K7: 40000
C8: 3049 | F8: Fsg Ravelliprodukter | G8: 62400 | K8: 220000 | M8: Papper
C9: 3052 | F9: Års/säsongskort (lag) | G9: 0 | H9: 0 | I9: 0 | J9: 30000
C10: 3210 | F10: Sponsorintäkter | G10: 0 | H10: 0 | I10: 0
C11: 3220 | F11: Reklam SKATTEPLIKTIGT | G11: 0 | H11: 0 | I11: 0
C12: 3320 | F12: BingoLotto | G12: 133790 | H12: 0 | I12: 0 | J12: 10000 | K12: 350000 | M12: Jul+Påsk
C13: 3321 | F13: Bingokalendrar
C14: 3322 | F14: Joyna | G14: 302
C15: 3325 | F15: Julkalender | G15: 9300
C16: 3360 | F16: Gräsroten/svenska spel | G16: 5295 | H16: 0 | I16: 0 | J16: 5000 | K16: 5000
C17: 3380 | F17: Andra aktiviteter/ fest/returpack | G17: 20300 | H17: 0 | I17: 0 | J17: 10000
C18: 3540 | F18: Försäljningsaktiviteter/ fsg av kläder m.m | H18: 0 | I18: 0 | J18: 374600 | M18: Felaktigt
C19: 3550 | F19: Fsg Merch | M19: Felaktigt
C20: 3570 | F20: Försäljning papper | J20: 213000 | K20: 200000
C21: 3590 | F21: Övriga försäljningsintäkter/solid sport | G21: 0 | H21: 0 | I21: 0 | J21: 25000
C22: 3680 | F22: Intäkter uthyrning personal/Skandiform | H22: 78920 | I22: 0
C23: 3700 | F23: Öresutjämning | G23: 0 | H23: -25 | I23: 0
C24: 3810 | F24: Kommunala bidrag | G24: 139595 | H24: 135115 | I24: 150000 | J24: 150000 | K24: 150000
C25: 3820 | F25: Statliga bidrag | G25: 153665 | H25: 195450 | I25: 200000 | J25: 200000 | K25: 150000
C26: 3860 | F26: Gåvor | G26: 0 | H26: 0 | I26: 0 | J26: 0
C27: 3880 | F27: Övriga Bidrag | G27: 36000 | K27: 25000
C28: 3890 | F28: Medlemsavgifter | G28: 80 | H28: 0 | I28: 0
C29: 3891 | F29: Medlemsavgifter Team 500 | G29: 0 | H29: 0 | I29: 0 | J29: 0
C30: 3990 | F30: Övriga ersättningar och intäkter/sponsorhuset | G30: 0 | H30: 7534 | I30: 0 | J30: 4000 | K30: 2000
C31: 3999 | F31: Faktureringsavgifter | G31: 0 | H31: 0 | I31: 0 | J31: 0
B32: S:a Rörelseintäkter mm | G32: =SUM(G7:G31) -> 560849 | H32: =SUM(H9:H31) -> 416994 | I32: =SUM(I9:I31) -> 350000 | J32: =SUM(J7:J31) -> 1021600 | K32: =SUM(K7:K31) -> 1142000
A34: Rörelsens kostnader
B35: Råvaror och förnödenheter mm
F36: Sverigelotten | K36: -24000
C37: 4004 | F37: Kostnader 50/50+Jokerlotter | G37: 0 | H37: 0 | I37: 0 | J37: -15000
C38: 4020 | F38: Inköp Cafeteria | G38: 7591
C39: 4031 | F39: Panta Mera säckar | G39: -687 | K39: -1000
C40: 4049 | F40: Inköp Ravelli produkter | G40: -146342 | K40: -143000 | M40: Kläder
C41: 4058 | F41: Plan/hallhyror (lag) | G41: -40940 | H41: 0 | I41: 0 | J41: -40000 | K41: -40000 | M41: Åhus
...

Sheet HF Syd
A1: Vinslövs HandbollsKlubb | D1: 1
A2: Resultatrapport | D2: 45104
A3: Räkenskapsår: 24-05-01 - 25-04-30 | D3: A1846
A4: Resultatenhet: 12 "HF Syd"
A5: Period: 24-05-01 - 25-04-30
J6: Budget
G7: Perioden 24/25 | H7: Period fg år 22/23 | I7: Årsbudget 23/24 | J7: 2405-2504 | K7: 2505-2604
A8: Rörelsens intäkter mm
C10: 3510 | F10: Kiosk och serveringsintäkter | G10: 0
C11: 3610 | F11: Intäkter Utbildning | G11: 8520 | K11: 5000
B12: S:a Rörelseintäkter mm | G12: =SUM(G9:G11) -> 8520 | H12: =SUM(H9:H10) -> 0 | I12: =SUM(I9:I10) -> 0 | J12: =SUM(J9:J10) -> 0 | K12: =SUM(K9:K11) -> 5000
A14: Rörelsens kostnader
B15: Råvaror och förnödenheter mm
C16: 4058 | F16: Plan/hallhyror (lag) | G16: -9240 | K16: -4500
C17: 4061 | F17: Funktionärskostnader (lag)
C18: 4062 | F18: Priser, medaljer (lag) | G18: 0
C19: 4099 | F19: Övriga kostnader (lag) | G19: 0
C20: 4112 | F20: Annonskostnader VFC Cup
C21: 4121 | F21: Funktionärskostnader (arrangemang)VFC cup
C22: 4122 | F22: Priser, medaljer (arrangemang)VFC cup
C23: 4128 | F23: Tillstånd/förbundsavgifter (arrangemang)VFC cup
C24: 4313 | F24: Produktion av lotteri
C25: 4510 | F25: Inköp kiosk (40 % av försäljningen)
C26: S:a Råvaror och förnödenheter mm | G26: =SUM(G15:G25) -> -9240 | H26: =SUM(H16:H25) -> 0 | I26: =SUM(I16:I25) -> 0 | J26: =SUM(J16:J25) -> 0 | K26: =SUM(K16:K25) -> -4500
B28: Övriga externa kostnader
C29: 5010 | F29: Lokalhyra | H29: 0
C30: S:a Övriga externa kostnader | G30: =SUM(G29) -> 0 | H30: =SUM(H29) -> 0 | I30: =SUM(I29) -> 0 | J30: =SUM(J29) -> 0 | K30: =SUM(K29) -> 0
B32: S:a Rörelsens kostnader inkl råvaror mm | G32: =SUM(G26+G30) -> -9240 | H32: =SUM(H26+H30) -> 0 | I32: =SUM(I26+I30) -> 0 | J32: =SUM(J26+J30) -> 0 | K32: =SUM(K26+K30) -> -4500
C34: 7610 | F34: Utbildning | G34: -3360
A37: Beräknat resultat | G37: =SUM(G12+G32+G34) -> -4080 | H37: =SUM(H12+H32) -> 0 | I37: =SUM(I12+I32) -> 0 | J37: =SUM(J12+J32) -> 0 | K37: =SUM(K12+K32) -> 500

Sheet Team 500
A1: Vinslövs HandbollsKlubb | D1: 1
A2: Resultatrapport | D2: 45104
A3: Räkenskapsår: 24-05-01 - 25-04-30 | D3: A1846
A4: Resultatenhet: 12 "Team 500"
A5: Period: 24-05-01 - 25-04-30
J6: Budget
G7: Perioden 24/25 | H7: Period fg år 22/23 | I7: Årsbudget 23/24 | J7: 2405-2504 | K7: 2505-2604 | L7: 2605-2704
B8: Intäkter
C9: 3891 | F9: Medlemsavgifter Team 500 | G9: 17500 | K9: 25000
B11: Summa rörelsens intäkter | G11: =G9 -> 17500 | K11: =K9 -> 25000
B13: Övriga externa kostnader
C14: 4130 | F14: Kostnader Team 500 | G14: -5976 | H14: 0 | I14: -10000 | J14: 0 | K14: -10000
C17: 4830 | F17: Trivselkvällar | G17: -4146
C19: S:a Övriga externa kostnader | G19: =SUM(G14:G18) -> -10122 | H19: 0 | I19: -10000 | J19: =SUM(J14:J18) -> 0 | K19: =SUM(K14:K18) -> -10000
A24: Beräknat resultat | G24: =G11+G19 -> 7378 | H24: 0 | I24: -10000 | J24: =SUM(J19:J23) -> 0 | K24: =K11+K19 -> 15000

Sheet Camp
A1: Vinslövs HandbollsKlubb | D1: 1
A2: Resultatrapport | D2: 45104
A3: Räkenskapsår: 24-05-01 - 25-04-30 | D3: A1846
A4: Resultatenhet: 8 "Camp Tyringe"
A5: Period: 24-05-01 - 25-04-30
J6: Budget
G7: Perioden 24/25 | H7: Period fg år 22/23 | I7: Årsbudget 23/24 | J7: 2405-2504 | K7: 2505-2604
B8: Övriga externa kostnader
C9: 5930 | F9: Reklamtrycksaker och direkt reklam | G9: 0 | H9: 0 | I9: -10000 | J9: 0
C13: S:a Övriga externa kostnader | G13: 0 | H13: 0 | I13: -10000 | J13: =SUM(J9:J12) -> 0 | K13: =SUM(K9:K12) -> 0
A15: Beräknat resultat | G15: =SUM(G13:G14) -> 0 | H15: 0 | I15: -10000 | J15: =SUM(J13:J14) -> 0 | K15: =SUM(K13) -> 0

Sheet Löner herrtruppen
A1: VHK Löner 240501--250430 | D1: Månader | E1: Totalt | F1: Soc avgifter
F2: 0.3142
A3: Elias Holmström | B3: 2024-03-16-2024-03-16 | C3: 10000 | D3: 3 | E3: =+C3*D3 -> 30000
A4: Wiktor Rundqvist | B4: 2023-03-16-2024-03-15 | C4: 7000 | D4: 12 | E4: =+C4*D4 -> 84000
A5: Inge Aas Eriksen | B5: 2023-07-25-2024-03-15 | C5: 12000 | D5: 9 | E5: =+C5*D5 -> 108000
A6: Linus Olsson | B6: 2023-03-16-2024-03-15 | C6: 15000 | D6: 12 | E6: =+C6*D6 -> 180000
A7: Liam Kjellman | B7: 2023-05-01-2024-04-30 | C7: 5500 | D7: 12 | E7: =+C7*D7 -> 66000
A8: Ludwig Rosenberg | B8: 2023-03-16-2024-03-15 | C8: 11000 | D8: 4 | E8: =+C8*D8 -> 44000
A9: Wilmer Mårtensson | B9: 2023-03-16-2024-03-15 | C9: 7000 | D9: 12 | E9: =+C9*D9 -> 84000
A10: Emil Schuster | B10: 2023-03-16-2024-03-15 | C10: 13000 | D10: 12 | E10: =+C10*D10 -> 156000
A11: Victor Grevstad Johansson | B11: 2023-07-15-2025-03-15 | C11: 14000 | D11: 9.5 | E11: =+C11*D11 -> 133000
A12: Hugo Svensson | B12: 2023-03-16-2024-03-15 | C12: 1350 | D12: 12 | E12: =+C12*D12 -> 16200
A13: Richard Gersson | B13: 2023-07-25-2024-03-15 | C13: 4000 | D13: 9 | E13: =+C13*D13 -> 36000
A14: Albin Mesanovic | B14: 2023-03-16-2024-03-15 | C14: 9000 | D14: 12 | E14: =+C14*D14 -> 108000
... A18: Dalibor Doder | B18: 2022-11-25-2024-03-30 | C18: 35000 | D18: 11 | E18: =+C18*D18 -> 385000
E19: =SUM(E3:E18) -> 1706200
A21: Tränings- och sjukfrånvaro 5 % av bruttolönen | E21: =-E19*5% -> -85310
A22: Beräknade spelarelöner | E22: =SUM(E19:E21) -> 1620890 | F22: =+E22*F2 -> 509283.64
A25: Håkan Jönsson | B25: 2023-05-01-2024-04-30 | C25: 9500 | D25: 12 | E25: =+C25*D25 -> 114000
A26: Pierre hansson | B26: 2023-04-01-2024-03-31 | C26: 2000 | D26: 12 | E26: =+C26*D26 -> 24000
A27: Per Käll | B27: 2023-05-01-2024-04-30 | C27: 23000 | D27: 12 | E27: =+C27*D27 -> 276000
A28: Anton Olsson | B28: 2023-05-16-2024-03-15 | C28: 3000 | D28: 12 | E28: =+C28*D28 -> 36000
E29: =SUM(E25:E28) -> 450000 | F29: =+E29*F2 -> 141390
A30: Malin Fredriksson | B30: Fakturerar löpande | C30: 400/tillfälle | F30: =SUM(F22:F29) -> 650673.64
A32: Ellen Wijk Lindvall sjukgymn | C32: 400/tillfälle
A33: Körers Spelare | C33: Ca 60 000
