Workbook

Sheet Kvinnor
A1: 90 – bästa genom tiderna inomhus 2022
A2: Kvinnor
A3: Rev. 2023-04-15
A5: 60m, automatisk tidtagning
A6: # | B6: Rank | C6: Resultat | D6: Förnamn | E6: Efternamn | F6: DOB | G6: Ålder | H6: Plats | I6: Datum
A7: 1 | B7: 1 | C7: 7.52 | D7: Vicky | E7: Ljungberg | F7: 26231 | G7: =(I7-F7)/365.25 -> 18.316222 | H7: Göteborg/FH | I7: 32921
A8: 2 | B8: 2 | C8: 7.6 | D8: Hanna | E8: Adriansson-Nordberg | F8: 33919 | G8: =(I8-F8)/365.25 -> 24.213552 | H8: Norrköping | I8: 42763
A9: 3 | B9: 3 | C9: 7.64 | D9: Maria | E9: Gustavsson | F9: 32269 | G9: =(I9-F9)/365.25 -> 25.779603 | H9: Göteborg/FH | I9: 41685
A10: 4 | B10: 4 | C10: 7.66 | D10: Sara | E10: Wiss | F10: 31811 | G10: =(I10-F10)/365.25 -> 32.035592 | H10: Kuopio, FIN | I10: 43512
A11: 5 | B11: 5 | C11: 7.69 | D11: Madeleine | E11: Eriksson | F11: 33971 | G11: =(I11-F11)/365.25 -> 21.138946 | H11: Göteborg/FH | I11: 41692
A12: 6 | B12: 6 | C12: 7.7 | D12: Ylva | E12: Mattiasson | F12: 27527 | G12: =(I12-F12)/365.25 -> 17.7577 | H12: Göteborg/FH | I12: 34013
A13: 7 | B13: 6 | C13: 7.7 | D13: Agneta | E13: Rosenblad | F13: 28359 | G13: =(I13-F13)/365.25 -> 19.468857 | H13: Örebro | I13: 35470
A14: 8 | B14: 8 | C14: 7.79 | D14: Marie | E14: Westerlund | F14: 27463 | G14: =(I14-F14)/365.25 -> 18.921287 | H14: Solna | I14: 34374
A15: 9 | B15: 9 | C15: 7.83 | D15: Jessica | E15: Lindén | F15: 25245 | G15: =(I15-F15)/365.25 -> 20.919918 | H15: Falun | I15: 32886
A16: 10 | B16: 9 | C16: 7.83 | D16: Nadja | E16: Casadei | F16: 30409 | G16: =(I16-F16)/365.25 -> 24.835044 | H16: Sätra | I16: 39480
A17: 11 | B17: 9 | C17: 7.83 | D17: Malin | E17: Olsson | F17: 33109 | G17: =(I17-F17)/365.25 -> 24.418891 | H17: Malmö/A | I17: 42028
A18: 12 | B18: 12 | C18: 7.85 | D18: Susanne | E18: Meckbach | F18: 29843 | G18: =(I18-F18)/365.25 -> 19.370294 | H18: Sätra | I18: 36918
... A46: 40 | B46: 39 | C46: 8.19 | D46: Kirti | E46: Lickfett | F46: 35588 | G46: =(I46-F46)/365.25 -> 17.670089 | H46: Sätra | I46: 42042
A47: 41 | B47: 41 | C47: 8.2 | D47: Katharina | E47: Andersson | F47: 23578 | G47: =1986-1964 -> 22 | H47: Lidingö/B | I47: 1986
A48: 42 | B48: 41 | C48: 8.2 | D48: Mellanie | E48: Neudinger-Nellmer | F48: 38427 | G48: =(I48-F48)/365.25 -> 14.721424 | H48: Sätra | I48: 43804
A49: 43 | B49: 43 | C49: 8.22 | D49: Maria | E49: Eriksson | F49: 1979 | G49: =2000-1979 -> 21 | H49: Sätra | I49: 36541
A50: 44 | B50: 44 | C50: 8.26 | D50: Ida | E50: Egnell | F50: 38512 | G50: =(I50-F50)/365.25 -> 13.615332 | H50: Sätra | I50: 43485
A51: 45 | B51: 45 | C51: 8.27 | D51: Anna | E51: Jacobsson | F51: 33627 | G51: =(I51-F51)/365.25 -> 15.126626 | H51: Malmö/A | I51: 39152
A52: 46 | B52: 45 | C52: 8.27 | D52: Madeleine | E52: Aulio | F52: 37373 | G52: =(I52-F52)/365.25 -> 14.644764 | H52: Uppsala | I52: 42722
A53: 47 | B53: 47 | C53: 8.29 | D53: Lena | E53: Stenbrink | F53: 25616 | G53: =(I53-F53)/365.25 -> 20.985626 | H53: Solna | I53: 33281
A54: 48 | B54: 47 | C54: 8.29 | D54: Ida | E54: Sjöling | F54: 29895 | G54: =(I54-F54)/365.25 -> 15.263518 | H54: Solna | I54: 35470
A55: 49 | B55: 47 | C55: 8.29 | D55: Hanna | E55: Johnsson | F55: 35153 | G55: =(I55-F55)/365.25 -> 18.841889 | H55: Sätra | I55: 42035
A56: 50 | B56: 50 | C56: 8.3 | D56: Amanda | E56: Bjersér | F56: 35964 | G56: =(I56-F56)/365.25 -> 12.752909 | H56: Örebro | I56: 40622
A57: 51 | B57: 51 | C57: 8.31 | D57: Moa | E57: Holm | F57: 36759 | G57: =(I57-F57)/365.25 -> 16.553046 | H57: Sollentuna | I57: 42805
A58: 52 | B58: 51 | C58: 8.31 | D58: Amanda | E58: Jerner | F58: 38473 | G58: =(I58-F58)/365.25 -> 13.626283 | H58: Sätra | I58: 43450
A59: 53 | B59: 53 | C59: 8.33 | D59: Anna | E59: Gate | F59: 24206 | G59: =(I59-F59)/365.25 -> 13.730322 | H59: Falun | I59: 29221
A60: 54 | B60: 53 | C60: 8.33 | D60: Anette | E60: Sandberg | F60: 25904 | G60: =(I60-F60)/365.25 -> 18.157426 | H60: Haninge | I60: 32536
A61: 55 | B61: 55 | C61: 8.34 | D61: Susanna | E61: Möller | F61: 24847 | G61: =(I61-F61)/365.25 -> 21.916496 | H61: Lidingö/B | I61: 32852
... A96: 90 | B96: 90 | C96: 8.73 | D96: Sofia | E96: Fröberg | F96: 39045 | G96: =(I96-F96)/365.25 -> 15.33744 | H96: Sollentuna | I96: 44647
A98: 60m, manuell tidtagning
A99: # | B99: Rank | C99: Resultat | D99: Förnamn | E99: Efternamn | F99: DOB | G99: Ålder | H99: Plats | I99: Datum
A100: 1 | B100: 1 | C100: 7.9 | D100: Lena | E100: Stenbrink | F100: 25616 | G100: =(I100-F100)/365.25 -> 20.919918 | H100: Solna | I100: 33257
A101: 2 | B101: 2 | C101: 8.1 | D101: Elisabeth | E101: Östberg | F101: 14852 | G101: =(I101-F101)/365.25 -> 28.506502 | H101: Stockholm/J | I101: 25264
A102: 3 | B102: 2 | C102: 8.1 | D102: Mirja | E102: Hagar | F102: 19838 | G102: =(I102-F102)/365.25 -> 15.868583 | H102: Göteborg | I102: 25634
A103: 4 | B103: 2 | C103: 8.1 | D103: Marianne | E103: Fabricius | F103: 19543 | G103: =(I103-F103)/365.25 -> 17.653662 | H103: Stockholm/J | I103: 25991
...

Sheet Kvinnor mångkamp
A1: 90 – bästa genom tiderna inomhus 2022, mångkamp
A2: Kvinnor
A3: =Kvinnor!$A$3 -> Rev. 2023-04-15
A5: Femkamp
A6: # | B6: Rank | C6: Resultat | D6: Förnamn | E6: Efternamn | F6: DOB | G6: Ålder | H6: Plats | I6: Datum | J6: Delresultat
A7: 1 | B7: 1 | C7: 4190 | D7: Nadja | E7: Casadei | F7: 30409 | G7: =(I7-F7)/365.25 -> 24.952772 | H7: Göteborg/FH | I7: 39523 | J7: (8,83-170-1320-584-2.18,31)
A8: 2 | B8: 2 | C8: 4016 | D8: Jessica | E8: Lindén* | F8: 25245 | G8: =(I8-F8)/365.25 -> 21.971253 | H8: Växjö | I8: 33270 | J8: (9,00-180-978-576-2.19,05)
A9: 3 | B9: 3 | C9: 4002 | D9: Katarina | E9: Hållberg | F9: 24530 | G9: =(I9-F9)/365.25 -> 22.995209 | H9: Gainsvi, US | I9: 32929 | J9: (9,04-167-1127-580-2.15,89)
A10: 4 | B10: 4 | C10: 3864 | D10: Therese | E10: Jernbeck | F10: 33695 | G10: =(I10-F10)/365.25 -> 20.821355 | H10: Fayettevi, US | I10: 41300 | J10: (9,36-163-1263-550-2.15,99)
A11: 5 | B11: 5 | C11: 3678 | D11: Lena | E11: Stenbrink* | F11: 25616 | G11: =(I11-F11)/365.25 -> 20.95551 | H11: Växjö | I11: 33270 | J11: (9,4?-168-9??-?-2.24,63)
A12: 6 | B12: 6 | C12: 3636 | D12: Ida | E12: Sjöling | F12: 29895 | G12: =(I12-F12)/365.25 -> 20.323066 | H12: Sätra | I12: 37318 | J12: (9,22-161-1111-554-2.28,61)
A13: 7 | B13: 7 | C13: 3539 | D13: Annette | E13: Ekberg** | F13: 29932 | G13: =(I13-F13)/365.25 -> 23.227926 | H13: Johnson C, US | I13: 38416 | J13: (8,48/55 mh/ - 154-1129-549-2.32,46)
A14: 8 | B14: 8 | C14: 3239 | D14: Jeanette | E14: Hansson | F14: 28962 | G14: =(I14-F14)/365.25 -> 22.877481 | H14: Sätra | I14: 37318 | J14: (9,44-155-869-533-2.33,84)
A15: 9 | B15: 9 | C15: 3143 | D15: Annette | E15: Ekberg | F15: 29932 | G15: =(I15-F15)/365.25 -> 21.078713 | H15: Vermilli, US | I15: 37631 | J15: (9,46(60 häck)-154-909-533-2.42,93)
A16: 10 | B16: 10 | C16: 3016 | D16: Madeleine | E16: Serenhov | F16: 33433 | G16: =(I16-F16)/365.25 -> 27.501711 | H16: Sätra | I16: 43478 | J16: (10,29-169-902-449-2.35,66)
A17: 11 | B17: 11 | C17: 2705 | D17: Anna | E17: Bergö | F17: 28175 | G17: =(I17-F17)/365.25 -> 20.906229 | H17: Solna | I17: 35811 | J17: (delresultat saknas)
E18: *Överlång bana
E19: *55m häck istället för 60m
A21: Sexkamp (ingår även 60m och tvådagarstävling)
A22: # | B22: Rank | C22: Resultat | D22: Förnamn | E22: Efternamn | F22: DOB | G22: Ålder | H22: Plats | I22: Datum | J22: Delresultat
A23: 1 | B23: 1 | C23: 4967 | D23: Jessica | E23: Lindén | F23: 25245 | G23: =(I23-F23)/365.25 -> 20.980151 | H23: Karlstad | I23: 32908 | J23: (8,96-176-1000-7,89-569-1.34,23)
A24: 2 | B24: 2 | C24: 4886 | D24: Kristine | E24: Tånnander | F24: 20414 | G24: =(I24-F24)/365.25 -> 30.193018 | H24: Lidingö/B | I24: 31442 | J24: (8,98-172-1176-7,91-548-1.38,2)
A25: 3 | B25: 3 | C25: 4720 | D25: Katarina | E25: Hållberg | F25: 24530 | G25: =(I25-F25)/365.25 -> 21.98768 | H25: Haparanda | I25: 32561 | J25: (8,90-169-1010-8,12-569-1.39,93)
A26: 4 | B26: 4 | C26: 4487 | D26: Katarina | E26: Andersson | F26: 23578 | G26: =(I26-F26)/365.25 -> 21.530459 | H26: Lidingö/B | I26: 31442 | J26: (delresultat saknas)
A27: 5 | B27: 5 | C27: 4056 | D27: Lena | E27: Stenbrink | F27: 25616 | G27: =(I27-F27)/365.25 -> 19.964408 | H27: Karlstad | I27: 32908 | J27: (9,57-158-852-8,37-538-1.47,12)
A28: 6 | B28: 6 | C28: 3792 | D28: Annica | E28: Sandström | F28: 24893 | G28: =(I28-F28)/365.25 -> 22.039699 | H28: Solna | I28: 32943 | J28: (9,80-148-741-8,41-566-1.53,52)
A29: 7 | B29: 7 | C29: 3234 | D29: Viktoria | E29: Nilsson | F29: 26935 | G29: =(I29-F29)/365.25 -> 16.449008 | H29: Solna | I29: 32943 | J29: (9,96-130-746-8,55-466-1.55,06)
A30: 8 | B30: 8 | C30: 3181 | D30: Anna | E30: Willberg | F30: 26742 | G30: =(I30-F30)/365.25 -> 16.977413 | H30: Solna | I30: 32943 | J30: (10,80-139-709-8,57-456-1.51,40)
A32: Sexkamp, F16 (60h-kula-längd-60-höjd-600)
A33: # | B33: Rank | C33: Resultat | D33: Förnamn | E33: Efternamn | F33: DOB | G33: Ålder | H33: Plats | I33: Datum | J33: Delresultat
A34: 1 | B34: 1 | C34: 4213 | D34: Ylva | E34: Mattiasson | F34: 27527 | G34: =(I34-F34)/365.25 -> 14.732375 | H34: Karlstad | I34: 32908 | J34: (8,97-921-532-7,9m-155-1.48,80)
A36: Femkamp, F15/17 (60h-höjd-kula-längd-600)
A37: # | B37: Rank | C37: Resultat | D37: Förnamn | E37: Efternamn | F37: DOB | G37: Ålder | H37: Plats | I37: Datum | J37: Delresultat
A38: 1 | B38: 1 | C38: 3483 | D38: Ida | E38: Sjöling | F38: 29895 | G38: =(I38-F38)/365.25 -> 15.238877 | H38: Karlstad | I38: 35461 | J38: (9,31-145-892-519-1.41,83)
A39: 2 | B39: 2 | C39: 3393 | D39: Lisa | E39: Fröberg | F39: 37344 | G39: =(I39-F39)/365.25 -> 15.871321 | H39: Norrköping | I39: 43141 | J39: (9,29-160-936-508-1.43,75)
A40: 3 | B40: 3 | C40: 3344 | D40: Charlotte | E40: Brishammar | F40: 32006 | G40: =(I40-F40)/365.25 -> 14.537988 | H40: Sätra | I40: 37316 | J40: (9,72-139-920-466-1.55,30)
A41: 4 | B41: 4 | C41: 3272 | D41: Madeleine | E41: Aulio | F41: 37373 | G41: =(I41-F41)/365.25 -> 14.795346 | H41: Uddevalla | I41: 42777 | J41: (9,38-155-820-533-1.45,58)
A42: 5 | B42: 5 | C42: 3051 | D42: Martina | E42: Sandvall | F42: 29663 | G42: =(I42-F42)/365.25 -> 15.874059 | H42: Karlstad | I42: 35461 | J42: (10,46-160-847-497-1.55,80)
A43: 6 | B43: 6 | C43: 3005 | D43: Victoria | E43: Psilander | F43: 37811 | G43: =(I43-F43)/365.25 -> 15.5154 | H43: Sätra | I43: 43478 | J43: (10,06-154-799-477-1.43,61)
A44: 7 | B44: 7 | C44: 2892 | D44: Alice | E44: Eriksson | F44: 35416 | G44: =(I44-F44)/365.25 -> 14.151951 | H44: Norrköping | I44: 40585 | J44: (9,42-148-823-502-1.58,21)
...

Sheet Kvinnor stafett
A1: 90 – bästa genom tiderna inomhus 2022, mångkamp
A2: Kvinnor
A3: =Kvinnor!$A$3 -> Rev. 2023-04-15
A5: 4x200m
A6: # | B6: Rank | C6: Resultat | D6: Klass | E6: Plats | F6: Datum | G6: Lag
A7: 1 | B7: 1 | C7: 0.0011693287 | D7: KS | E7: Örebro | F7: 40958 | G7: (Therese Jernbeck, Isabelle Eriksson, Maria Gustafsson, Hanna Adriansson-Norberg)
A8: 2 | B8: 2 | C8: 0.001174537 | D8: KS | E8: Lidingö/B | F8: 32891 | G8: (Vicky Ljungberg, Berit Lignercrona, Sofi Alfredson, Jessica Lindén)
A9: 3 | B9: 3 | C9: 0.001178588 | D9: KS | E9: Norrköping | F9: 41322 | G9: (Madeleine Eriksson, Isabelle Eriksson, Charlotte Schönbeck, Hanna Adriansson-Norberg)
A10: 4 | B10: 4 | C10: 0.0012060185 | D10: KS | E10: Lidingö/B | F10: 34381 | G10: (Agneta Rosenblad, Marie Westerlund, Mithoo Theander, Petra Palmqvist)
A11: 5 | B11: 5 | C11: 0.001206713 | D11: KS | E11: Göteborg/FH | F11: 33250 | G11: (Anna Wiberg, Tanja Wickström, Annica Sandström, Jessica Lindén)
A12: 6 | B12: 6 | C12: 0.0012114583 | D12: KS | E12: Lidingö/B | F12: 33274 | G12: (Tanja Wickström, Anna Wiberg, Ylva Mattiasson, Jessica Lindén)
A13: 7 | B13: 7 | C13: 0.0012603009 | D13: KS | E13: Göteborg/FH | F13: 33614 | G13: (Anna Helin, Anna Wiberg, Lena Stenbrink, Sandra Akinlaja)
A14: 8 | B14: 8 | C14: 0.0012664352 | D14: KS | E14: Lidingö/B | F14: 32891 | G14: (Annica Sandström, Pernilla Manneryd, Lena Stenbrink, Ylva Mattiasson)
A15: 9 | B15: 9 | C15: 0.001271412 | D15: F17 | E15: Sätra | F15: 40944 | G15: (Ellen Oweling, Linda Skantze, Josefine Havdelin, Hedda Hanner)
A16: 10 | B16: 10 | C16: 0.001278125 | D16: KS | E16: Göteborg/FH | F16: 33978 | G16: (Jessica Granqvist, Jenny Engström, Agneta Rosenblad, Mithoo Theander)
A17: 11 | B17: 11 | C17: 0.0012788194 | D17: KS | E17: Lidingö/B | F17: 33274 | G17: (Sandra Akinlaja, Lena Stenbrink, Anna Helin, Petra Palmqvist)
A18: 12 | B18: 12 | C18: 0.0012949074 | D18: KS | E18: Lidingö/B | F18: 34010 | G18: (Linda Akinlaja, Jessica Granqvist, Jenny Engström, Mithoo Theander)
... A35: 29 | B35: 29 | C35: 0.0015087963 | D35: KS | E35: Sätra | F35: 39062 | G35: (Johanna Briet, Anna Westfelt, Jenny Öster, Sara Neijber)
A37: 5x200m
A38: # | B38: Rank | C38: Resultat | D38: Klass | E38: Plats | F38: Datum | G38: Lag
A39: 1 | B39: 1 | C39: 0.0017177083 | D39: F13 | E39: Sollentuna | F39: 42827 | G39: (Nike Isaksson, Sophie Bandh, Estelle Strand, Alice Larsten, Tyra C.Tunander)
A40: 2 | B40: 2 | C40: 0.001734375 | D40: F13 | E40: Sätra | F40: 42477 | G40: (Rakel Wahlberg, Sara Ringqvist, Re Sandström, Fanny Wijkström, Victoria Psilander)
A41: 3 | B41: 3 | C41: 0.0017833333 | D41: F13 | E41: Sollentuna | F41: 43562 | G41: (Sofia Fröberg, Isabelle Ahnmé, Filippa Månsson, Lova Mattson, Maya Swedin)
A42: 4 | B42: 4 | C42: 0.0017925926 | D42: F12 | E42: Sätra | F42: 42477 | G42: (Alicia Larsten, Stella Sajdak, Tyra T-Cedrenius, Liv Gantelius, Nike Isaksson)
A43: 5 | B43: 5 | C43: 0.0018302083 | D43: F13 | E43: Sätra | F43: 42477 | G43: (Rebecka Hagardt, Nora Dahle, Thyra Arnhult, Filippa Almkvist, Tilda Kjerfve)
A44: 6 | B44: 6 | C44: 0.0018408565 | D44: F12 | E44: Sollentuna | F44: 42827 | G44: (Ida Frykhammar, Tyra C-Tunander, Alice Ringqvist, Greta Wedell, Ingrid Kirstein)
A45: 7 | B45: 7 | C45: 0.0018559028 | D45: F12 | E45: Sollentuna | F45: 43205 | G45: (Sofia Fröberg, Ella Thunell, Filippa Månsson, Ester Arkinger, Lova Mattsson)
A46: 8 | B46: 8 | C46: 0.0018626157 | D46: F13 | E46: Sollentuna | F46: 43205 | G46: (Greta Wedell, Cornelia Larsten, Helena Hvalgren, Maria irestedt, Emma Grefberg)
A47: 9 | B47: 9 | C47: 0.0018628472 | D47: F12 | E47: Sollentuna | F47: 42827 | G47: (Ida Egnell, Anja Egnell, Hedda Holmqvist, Ebba Ekström, Ellinor Brinnen)
A48: 10 | B48: 10 | C48: 0.0018693287 | D48: F13 | E48: Sollentuna | F48: 42827 | G48: (Emilie Englund, Malin Fröberg, Maja Hebeler, Emelie Majby, Felicia Majby)
A49: 11 | B49: 11 | C49: 0.0018710648 | D49: F12 | E49: Sollentuna | F49: 42827 | G49: (Alice Lindgren, Amanda Jerner, Cornelia Larsten, Jasmine Holmberg, Julia Barkman)
A50: 12 | B50: 12 | C50: 0.0018972222 | D50: F12 | E50: Sätra | F50: 42477 | G50: (Selma Bruun, Felicia Majby, Emilie Majby, Eleonor Engström, Emilia Englund)
... A53: 15 | B53: 15 | C53: 0.0019636574 | D53: F12 | E53: Sollentuna | F53: 43562 | G53: (Natalie Nordström, Vera Oskarsson, Smilla Ludau, Anja T-Schäder, M.Christernsson)

Sheet Kvinnor övriga grenar
A1: 90 – bästa genom tiderna inomhus 2022, Övriga grenar
A2: Kvinnor
A3: =Kvinnor!$A$3 -> Rev. 2023-04-15
A5: 30m
A6: # | B6: Rank | C6: Resultat | D6: Förnamn | E6: Efternamn | F6: DOB | G6: Ålder | H6: Plats | I6: Datum
A7: 1 | B7: 1 | C7: 4.72 | D7: Kirti | E7: Lickfett | F7: 35588 | G7: =(I7-F7)/365.25 -> 17.519507 | H7: Sätra | I7: 41987
A8: 2 | B8: 1 | C8: 4.72 | D8: Moa | E8: Holm | F8: 36759 | G8: =(I8-F8)/365.25 -> 16.303901 | H8: Sätra | I8: 42714
A9: 3 | B9: 3 | C9: 4.78 | D9: Hanna | E9: Johnsson | F9: 35153 | G9: =(I9-F9)/365.25 -> 18.710472 | H9: Sätra | I9: 41987
A10: 4 | B10: 4 | C10: 4.82 | D10: Ellinor | E10: Lindén | F10: 35673 | G10: =(I10-F10)/365.25 -> 16.271047 | H10: Sätra | I10: 41616
A11: 5 | B11: 5 | C11: 4.82 | D11: Amanda | E11: Bjersér | F11: 35964 | G11: =(I11-F11)/365.25 -> 15.474333 | H11: Sätra | I11: 41616
A12: 6 | B12: 6 | C12: 4.85 | D12: Madeleine | E12: Aulio | F12: 37373 | G12: =(I12-F12)/365.25 -> 15.622177 | H12: Sätra | I12: 43079
A13: 7 | B13: 7 | C13: 4.91 | D13: Moa | E13: Sellergren | F13: 37176 | G13: =(I13-F13)/365.25 -> 15.162218 | H13: Sätra | I13: 42714
A14: 8 | B14: 8 | C14: 4.94 | D14: Fanny | E14: Walldén | F14: 36993 | G14: =(I14-F14)/365.25 -> 15.663244 | H14: Sätra | I14: 42714
A15: 9 | B15: 9 | C15: 4.98 | D15: AnnaSara | E15: Tunelli | F15: 37058 | G15: =(I15-F15)/365.25 -> 18.49692 | H15: Sätra | I15: 43814
A16: 10 | B16: 10 | C16: 5.07 | D16: Alice | E16: Eriksson | F16: 35416 | G16: =(I16-F16)/365.25 -> 16.974675 | H16: Sätra | I16: 41616
A17: 11 | B17: 11 | C17: 5.08 | D17: Amanda | E17: Wictorin | F17: 36956 | G17: =(I17-F17)/365.25 -> 15.764545 | H17: Sätra | I17: 42714
A18: 12 | B18: 12 | C18: 5.19 | D18: Astrid | E18: Bobeck | F18: 36595 | G18: =(I18-F18)/365.25 -> 16.752909 | H18: Sätra | I18: 42714
A20: 40m
A21: # | B21: Rank | C21: Resultat | D21: Förnamn | E21: Efternamn | F21: DOB | G21: Ålder | H21: Plats | I21: Datum
A22: 1 | B22: 1 | C22: 8.78 | D22: Sofia | E22: Fröberg | F22: 39045 | G22: =(I22-F22)/365.25 -> 5.982204 | H22: Huddinge | I22: 41230
A23: 2 | B23: 2 | C23: 10.04 | D23: Live | E23: Holm | F23: 39219 | G23: =(I23-F23)/365.25 -> 5.5058179 | H23: Huddinge | I23: 41230
A25: 2 x 40m, manuella tider
A26: # | B26: Rank | C26: Resultat | D26: Förnamn | E26: Efternamn | F26: DOB | G26: Ålder | H26: Plats | I26: Datum
A27: 1 | B27: 1 | C27: 11.1 | D27: Mirja | E27: Hagar | F27: 19838 | G27: =(I27-F27)/365.25 -> 15.835729 | H27: Stockh/SM | I27: 25622
A28: 2 | B28: 2 | C28: 11.3 | D28: Christine | E28: Tappert | F28: 20059 | G28: =(I28-F28)/365.25 -> 15.230664 | H28: Stockh/SM | I28: 25622
A29: 3 | B29: 3 | C29: 11.4 | D29: Susanne | E29: Embe | F29: 24193 | G29: =(I29-F29)/365.25 -> 15.849418 | H29: Haninge | I29: 29982
A30: 4 | B30: 4 | C30: 11.6 | D30: Anna | E30: Gate | F30: 24206 | G30: =(I30-F30)/365.25 -> 15.813826 | H30: Haninge | I30: 29982
A31: 5 | B31: 4 | C31: 11.6 | D31: Cecilia | E31: Löfgren | F31: 22125 | G31: =(I31-F31)/365.25 -> 14.53525 | H31: Stockholm/D | I31: 27434
A32: 6 | B32: 4 | C32: 11.6 | D32: Christine | E32: Malmenström | F32: 22155 | G32: =(I32-F32)/365.25 -> 14.453114 | H32: Stockholm/D | I32: 27434
A33: 7 | B33: 7 | C33: 11.7 | D33: Charlotta | E33: Nordström | F33: 19725 | G33: =(I33-F33)/365.25 -> 20.093087 | H33: Stockholm/D | I33: 27064
A34: 8 | B34: 7 | C34: 11.7 | D34: Marie | E34: Swartz | F34: 20575 | G34: =(I34-F34)/365.25 -> 17.765914 | H34: Stockholm/D | I34: 27064
A35: 9 | B35: 7 | C35: 11.7 | D35: Karin | E35: Lundgren | F35: 24168 | G35: =(I35-F35)/365.25 -> 15.917864 | H35: Haninge | I35: 29982
A36: 10 | B36: 7 | C36: 11.7 | D36: Lou | E36: Brundin | F36: 21575 | G36: =(I36-F36)/365.25 -> 15.028063 | H36: Stockholm/D | I36: 27064
A37: 11 | B37: 11 | C37: 11.8 | D37: Christina | E37: Andersson | F37: 8629 | G37: =(I37-F37)/365.25 -> 51.463381 | H37: Spårvägshall | I37: 27426
A38: 12 | B38: 11 | C38: 11.8 | D38: Helene | E38: Tappert | F38: 19513 | G38: =(I38-F38)/365.25 -> 16.72553 | H38: Stockh/SM | I38: 25622
... A71: 45 | B71: 45 | C71: 17.6 | D71: Ann | E71: Laurin | F71: 13881 | G71: =(I71-F71)/365.25 -> 16.161533 | H71: Lidingö | I71: 19784
A73: 4 x 40m, manuella tider
A74: # | B74: Rank | C74: Resultat | D74: Förnamn | E74: Efternamn | F74: DOB | G74: Ålder | H74: Plats | I74: Datum
A75: 1 | B75: 1 | C75: 22.1 | D75: Mirja | E75: Hagar | F75: 19838 | G75: =(I75-F75)/365.25 -> 16.689938 | H75: Stockholm | I75: 25934
A76: 2 | B76: 2 | C76: 22.4 | D76: Monika | E76: Lindberg | F76: 19468 | G76: =(I76-F76)/365.25 -> 17.702943 | H76: Stockholm | I76: 25934
...

Sheet Män
A1: 85 – bästa genom tiderna inomhus 2022
A2: Män
A3: =Kvinnor!$A$3 -> Rev. 2023-04-15
A5: 60m, automatisk tidtagning
A6: # | B6: Rank | C6: Resultat | D6: Förnamn | E6: Efternamn | F6: DOB | G6: Ålder | H6: Plats | I6: Datum
A7: 1 | B7: 1 | C7: 6.8 | D7: Berhane | E7: Haile | F7: 25204 | G7: =(I7-F7)/365.25 -> 22.023272 | H7: Solna | I7: 33248
A8: 2 | B8: 1 | C8: 6.8 | D8: Joakim | E8: Öhman | F8: 27060 | G8: =(I8-F8)/365.25 -> 23.022587 | H8: Göteborg/FH | I8: 35469
A9: 3 | B9: 3 | C9: 6.97 | D9: Mattias | E9: Sunneborn | F9: 25838 | G9: =(I9-F9)/365.25 -> 27.307324 | H9: Solna | I9: 35812
A10: 4 | B10: 4 | C10: 6.99 | D10: Robert | E10: Illes | F10: 23237 | G10: =(I10-F10)/365.25 -> 25.453799 | H10: Solna | I10: 32534
A11: 5 | B11: 4 | C11: 6.99 | D11: Adam | E11: Lindhe | F11: 34431 | G11: =(I11-F11)/365.25 -> 23.827515 | H11: Sätra | I11: 43134
A12: 6 | B12: 6 | C12: 7 | D12: Fredrick | E12: Ekholm | F12: 34500 | G12: =(I12-F12)/365.25 -> 23.660507 | H12: Norrköping | I12: 43142
A13: 7 | B13: 7 | C13: 7.04 | D13: Håkan | E13: Setthammar | F13: 26623 | G13: =(I13-F13)/365.25 -> 22.201232 | H13: Solna | I13: 34732
A14: 8 | B14: 8 | C14: 7.06 | D14: Fredrik | E14: Skoglund | F14: 29656 | G14: =(I14-F14)/365.25 -> 23.983573 | H14: Karlskrona | I14: 38416
A15: 9 | B15: 9 | C15: 7.07 | D15: Johan | E15: Forsberg | F15: 33736 | G15: =(I15-F15)/365.25 -> 19.802875 | H15: Göteborg/FH | I15: 40969
A16: 10 | B16: 10 | C16: 7.09 | D16: Andreas | E16: Otterling | F16: 31557 | G16: =(I16-F16)/365.25 -> 31.676934 | H16: Uppsala | I16: 43127
A17: 11 | B17: 11 | C17: 7.12 | D17: Julian | E17: Benites | F17: 25364 | G17: =(I17-F17)/365.25 -> 26.622861 | H17: Solna | I17: 35088
A18: 12 | B18: 11 | C18: 7.12 | D18: Timothy | E18: Lundqvist | F18: 33784 | G18: =(I18-F18)/365.25 -> 18.622861 | H18: Sätra | I18: 40586
... A96: 90 | B96: 90 | C96: 7.75 | D96: Edvin | E96: Unger | F96: 38378 | G96: =(I96-F96)/365.25 -> 17.048597 | H96: Sätra | I96: 44605
A98: 60m, manuell tidtagning
A99: # | B99: Rank | C99: Resultat | D99: Förnamn | E99: Efternamn | F99: DOB | G99: Ålder | H99: Plats | I99: Datum
A100: 1 | B100: 1 | C100: 6.9 | D100: Bo | E100: Söderberg | F100: 19521 | G100: =(I100-F100)/365.25 -> 16.736482 | H100: Göteborg/S | I100: 25634
A101: 2 | B101: 1 | C101: 6.9 | D101: Holger | E101: Schwalbe | F101: 19369 | G101: =(I101-F101)/365.25 -> 17.152635 | H101: Göteborg/S | I101: 25634
A102: 3 | B102: 1 | C102: 6.9 | D102: Björn | E102: Wilhelmsson | F102: 20961 | G102: =(I102-F102)/365.25 -> 21.68104 | H102: Sundbyberg | I102: 28880
A103: 4 | B103: 4 | C103: 7 | D103: Anders | E103: Jacobsson | F103: 19166 | G103: =(I103-F103)/365.25 -> 16.717317 | H103: Göteborg/S | I103: 25272
A104: 5 | B104: 4 | C104: 7 | D104: Peter | E104: Hoogeveen | F104: 19438 | G104: =(I104-F104)/365.25 -> 18.902122 | H104: Göteborg/S | I104: 26342
A105: 6 | B105: 6 | C105: 7.1 | D105: Gunnar | E105: Nilsson | F105: 21071 | G105: =(I105-F105)/365.25 -> 17.475702 | H105: Göteborg/S | I105: 27454
A106: 7 | B106: 6 | C106: 7.1 | D106: Göran | E106: Åslev | F106: 20221 | G106: =(I106-F106)/365.25 -> 16.758385 | H106: Göteborg/S | I106: 26342
A107: 8 | B107: 6 | C107: 7.1 | D107: Åke | E107: Rosenius | F107: 20833 | G107: =(I107-F107)/365.25 -> 22.031485 | H107: Sundbyberg | I107: 28880
A108: 9 | B108: 9 | C108: 7.2 | D108: Nicholaus | E108: Diedrichsen | F108: 22094 | G108: =(I108-F108)/365.25 -> 18.579055 | H108: Sundbyberg | I108: 28880
A109: 10 | B109: 9 | C109: 7.2 | D109: Anders | E109: Rosell | F109: 23921 | G109: =(I109-F109)/365.25 -> 15.608487 | H109: Södertälje | I109: 29622
A110: 11 | B110: 11 | C110: 7.4 | D110: Johan | E110: Ruthberg | F110: 19648 | G110: =(I110-F110)/365.25 -> 16.388775 | H110: Göteborg/S | I110: 25634
A111: 12 | B111: 11 | C111: 7.4 | D111: Ulrik | E111: Sköldkvist | F111: 34564 | G111: =(I111-F111)/365.25 -> 15.597536 | H111: Lidingö/B | I111: 40261
... A152: 53 | B152: 52 | C152: 9 | D152: Erik | E152: Marton-Åsgrim | F152: 36528 | G152: =(I152-F152)/365.25 -> 10.220397 | H152: Lidingö/B | I152: 40261
A154: 200m, automatisk tidtagning
A155: # | B155: Rank | C155: Resultat | D155: Förnamn | E155: Efternamn | F155: DOB | G155: Ålder | H155: Plats | I155: Datum
A156: 1 | B156: 1 | C156: 21.37 | D156: Mattias | E156: Sunneborn | F156: 25838 | G156: =(I156-F156)/365.25 -> 26.329911 | H156: Malmö/A | I156: 35455
A157: 2 | B157: 2 | C157: 21.68 | D157: Joakim | E157: Öhman | F157: 27241 | G157: =(I157-F157)/365.25 -> 22.507871 | H157: Göteborg/FH | I157: 35462
A158: 3 | B158: 3 | C158: 22.52 | D158: Martin | E158: Enholm | F158: 23780 | G158: =(I158-F158)/365.25 -> 20.898015 | H158: Lidingö/B | I158: 31413
A159: 4 | B159: 4 | C159: 22.54 | D159: Julian | E159: Benites | F159: 25364 | G159: =(I159-F159)/365.25 -> 29.678303 | H159: Sätra | I159: 36204
A160: 5 | B160: 5 | C160: 22.56 | D160: Robert | E160: Illes | F160: 23237 | G160: =(I160-F160)/365.25 -> 25.494867 | H160: Lidingö/B | I160: 32549
...

Sheet Män mångkamp
A1: 85 – bästa genom tiderna inomhus 2022, mångkamp
A2: Män
A3: =Kvinnor!$A$3 -> Rev. 2023-04-15
A5: Sjukamp
A6: # | B6: Rank | C6: Resultat | D6: Förnamn | E6: Efternamn | F6: DOB | G6: Ålder | H6: Plats | I6: Datum | J6: Delresultat
A7: 1 | B7: 1 | C7: 5811 | D7: Michael | E7: Hoffer | F7: 26486 | G7: =(I7-F7)/365.25 -> 26.590007 | H7: Karlstad | I7: 36198 | J7: (7,14-709-1400-203-8,10-478-2.48,23)
A8: 2 | B8: 2 | C8: 5682 | D8: Fredrick | E8: Ekholm | F8: 34500 | G8: =(I8-F8)/365.25 -> 23.660507 | H8: Norrköping | I8: 43142 | J8: (7,00-700-1313-205-7,98-475-3.02,45)
A9: 3 | B9: 3 | C9: 5258 | D9: Stefan | E9: Henriksson | F9: 23496 | G9: =(I9-F9)/365.25 -> 23.756331 | H9: Karlstad | I9: 32173 | J9: (7,52-659-1300-205-8,51-410-2.45,46)
A10: 4 | B10: 4 | C10: 5138 | D10: Jonathan | E10: Hallgren | F10: 29661 | G10: =(I10-F10)/365.25 -> 20.963723 | H10: Sätra | I10: 37318 | J10: (7,17-701-1131-204-8,40-386-3.03,41)
A11: 5 | B11: 5 | C11: 5043 | D11: Håkan | E11: Fjaestad | F11: 23063 | G11: =(I11-F11)/365.25 -> 21.0705 | H11: Solna | I11: 30759 | J11: (7,43-678-1379-194-8,82-350,2.45,52)
A12: 6 | B12: 6 | C12: 4954 | D12: David | E12: Dunér | F12: 25583 | G12: =(I12-F12)/365.25 -> 23.04449 | H12: Malmö/A | I12: 34000 | J12: (7,65-647-1123-194-8,70-465-2.59,26)
A13: 7 | B13: 7 | C13: 4900 | D13: Fredrik | E13: Skoglund | F13: 29656 | G13: =(I13-F13)/365.25 -> 20.977413 | H13: Sätra | I13: 37318 | J13: (7,19-665-1110-180-9,29-476-3.01,13)
A14: 8 | B14: 8 | C14: 4774 | D14: Andreas | E14: Wågberg | F14: 28026 | G14: =(I14-F14)/365.25 -> 22.373717 | H14: Karlstad | I14: 36198 | J14: (7,68-615-1198-188-8,74-448-3.02,48)
A15: 9 | B15: 9 | C15: 4714 | D15: Klas | E15: Persson | F15: 29189 | G15: =(I15-F15)/365.25 -> 22.255989 | H15: Sätra | I15: 37318 | J15: (7,60-643-981-189-9,50-466-2.53,87)
A16: 10 | B16: 10 | C16: 4556 | D16: Håkan | E16: Setthammar | F16: 26623 | G16: =(I16-F16)/365.25 -> 20.197125 | H16: Malmö | I16: 34000 | J16: (9,20-375-???)
A17: 11 | B17: 11 | C17: 4293 | D17: Thomas | E17: Gustavsson | F17: 21276 | G17: =(I17-F17)/365.25 -> 23.838467 | H17: Stockholm | I17: 29983 | J17: (delresultat saknas)
A19: Sjukamp, P18/19
A20: # | B20: Rank | C20: Resultat | D20: Förnamn | E20: Efternamn | F20: DOB | G20: Ålder | H20: Plats | I20: Datum | J20: Delresultat
A21: 1 | B21: 1 | C21: 5033 | D21: Michael | E21: Hoffer | F21: 26486 | G21: =(I21-F21)/365.25 -> 17.582478 | H21: Karlstad | I21: 32908 | J21: (7,42-400-655-8,45-200-1210-2.58,55)
A22: 2 | B22: 2 | C22: 4931 | D22: Robin | E22: Isaksson | F22: 37432 | G22: =(I22-F22)/365.25 -> 17.607118 | H22: Sollentuna | I22: 43863 | J22: (7,38-415-669-8,97-174-1185-2.41,81)
A23: 3 | B23: 3 | C23: 4912 | D23: Patrik | E23: Keskitalo | F23: 26894 | G23: =(I23-F23)/365.25 -> 17.456537 | H23: Växjö | I23: 33270 | J23: (7,50-441-665-8,67-191-??-3.00,76)
A24: 4 | B24: 4 | C24: 4882 | D24: David | E24: Dunér | F24: 25584 | G24: =(I24-F24)/365.25 -> 18.039699 | H24: Karlstad | I24: 32173 | J24: (delresultat saknas)
A25: 5 | B25: 5 | C25: 4823 | D25: Fredrik | E25: Bäckström | F25: 28729 | G25: =(I25-F25)/365.25 -> 17.44011 | H25: Göteborg | I25: 35099 | J25: (7,50-402-653-8,72-192-1095-2.56,39)
A26: 6 | B26: 6 | C26: 4172 | D26: Johan | E26: Helin | F26: 28913 | G26: =(I26-F26)/365.25 -> 16.936345 | H26: Göteborg | I26: 35099 | J26: (7,48-292-605-9,44-177-1103-2.54,82)
A28: Sjukamp, P16/17
A29: # | B29: Rank | C29: Resultat | D29: Förnamn | E29: Efternamn | F29: DOB | G29: Ålder | H29: Plats | I29: Datum | J29: Delresultat
A30: 1 | B30: 1 | C30: 4734 | D30: Michael | E30: Hoffer | F30: 26486 | G30: =(I30-F30)/365.25 -> 15.731691 | H30: Solna | I30: 32232 | J30: (7,93-340-583-9,10-180-1102-1.41,27/600m)
A31: 2 | B31: 2 | C31: 4293 | D31: Robin | E31: Isaksson | F31: 37432 | G31: =(I31-F31)/365.25 -> 15.556468 | H31: Sätra | I31: 43114 | J31: (7,55-322-590-9,03-161-1196-2.07,16/800m)
A32: 3 | B32: 3 | C32: 3790 | D32: Johan | E32: Strand | F32: 27208 | G32: =(I32-F32)/365.25 -> 15.701574 | H32: Solna | I32: 32943 | J32: (7,91-243-557-9,77-157-894-1.46,15/600m)
A33: 4 | B33: 4 | C33: 3742 | D33: Carl | E33: Frisk | F33: 27496 | G33: =(I33-F33)/365.25 -> 14.913073 | H33: Solna | I33: 32943 | J33: (9,33-263-530-10,98-169-833-1.36,22/600m)
A35: Sjukamp, P15
A36: # | B36: Rank | C36: Resultat | D36: Förnamn | E36: Efternamn | F36: DOB | G36: Ålder | H36: Plats | I36: Datum | J36: Delresultat
A37: 1 | B37: 1 | C37: 3 651 | D37: Erik | E37: Hermelin | F37: 35174 | G37: =(I37-F37)/365.25 -> 14.817248 | H37: Norrköping | I37: 40586 | J37: (7,82-285-505-9,29-163-995-1.33,09)
A38: 2 | B38: 2 | C38: 3 292 | D38: Arvid | E38: Askensjö | F38: 36895 | G38: =(I38-F38)/365.25 -> 15.186858 | H38: Göteborg | I38: 42442 | J38: (8,14-294-514-9,70-152-1025-1.41,57)
A39: 3 | B39: 3 | C39: 2 395 | D39: Albin | E39: Andersson | F39: 36565 | G39: =(I39-F39)/365.25 -> 13.924709 | H39: Sätra | I39: 41651 | J39: (8,47-251-466-10,09-142-565-1.54,38)
A40: 4 | B40: 4 | C40: 2 ??? | D40: Julius | E40: Mördrup | F40: 37376 | G40: =(I40-F40)/365.25 -> 13.697467 | H40: Sätra | I40: 42379 | J40: (9,39-154-405-11,42-148-777-1.??)
A42: Femkamp
A43: # | B43: Rank | C43: Resultat | D43: Förnamn | E43: Efternamn | F43: DOB | G43: Ålder | H43: Plats | I43: Datum | J43: Delresultat
A44: 1 | B44: 1 | C44: 3856 | D44: Michael | E44: Hoffer | F44: 26486 | G44: =(I44-F44)/365.25 -> 20.659822 | H44: Manhattan, US | I44: 34032 | J44: (?-1306-459-?-?)
A46: Femkamp, M35/40 (60h(1,00)-längd-kula-höjd-1000)
...

Sheet Män stafett
A1: 85 – bästa genom tiderna inomhus 2022, Stafett
A2: Män
A3: =Kvinnor!$A$3 -> Rev. 2023-04-15
A5: 4x200m
A6: # | B6: Rank | C6: Resultat | D6: Klass | E6: Plats | F6: Datum | G6: Lag
A7: 1 | B7: 1 | C7: 0.001037037 | D7: MS | E7: Lidingö | F7: 32891 | G7: (Berhane Haile, Mikael Ekman, Martin Enholm, Stefan Nilsson)
A8: 2 | B8: 2 | C8: 0.0010635417 | D8: MS | E8: Lidingö | F8: 33645 | G8: (Håkan Fjaestad, Christer Larsson, Johan Strand, Martin Enholm)
A9: 3 | B9: 3 | C9: 0.0010836806 | D9: MS | E9: Lidingö | F9: 34745 | G9: (Martin Theander, Jonas Brodén, John Norling, Niclas Norling)
A10: 4 | B10: 4 | C10: 0.0010846065 | D10: MS | E10: Lidingö | F10: 34381 | G10: (Håkan Setthammar, Martin Theander, Christer Larsson, Yavar Moazzami)
A11: 5 | B11: 5 | C11: 0.001093287 | D11: MS | E11: Lidingö | F11: 32891 | G11: (Martin Frodlund, Christer Larsson, Johan Lindén, Allan Kaweesa)
A12: 6 | B12: 6 | C12: 0.0011046296 | D12: MS | E12: Lidingö | F12: 34745 | G12: (Anders Johansson, Göran Blomqvist, Andreas Wågberg, Peter Eriksson)
A13: 7 | B13: 7 | C13: 0.0011232639 | D13: MS | E13: Göteborg | F13: 33614 | G13: (Mattias Lindholm, Johan Strand, Carl Frisk, Jesper Arkinger)
A14: 8 | B14: 8 | C14: 0.0012311343 | D14: MS | E14: Sätra | F14: 36604 | G14: (Leif Eklund, Rezze Aboreslan, Ingvar Lindqvist, Majid Al-Jaderi)
A15: 9 | B15: 9 | C15: 0.0012358796 | D15: MS | E15: Göteborg | F15: 33614 | G15: (Martin Theander, Mikael Theander, Andreas Wågberg, Tobias Nordqvist)
A16: 10 | B16: 10 | C16: 0.0012890046 | D16: VET | E16: Borås | F16: 42071 | G16: (Dick Levin, Peter Wergens, Anthony Treacher, Magnus Nilsson)

Sheet Män övriga grenar
A1: 85 – bästa genom tiderna inomhus 2022, Övriga grenar
A2: Män
A3: =Kvinnor!$A$3 -> Rev. 2023-04-15
A5: 30m, automatisk tidtagning
A6: # | B6: Rank | C6: Resultat | D6: Förnamn | E6: Efternamn | F6: DOB | G6: Ålder | H6: Plats | I6: Datum
A7: 1 | B7: 1 | C7: 4.16 | D7: David | E7: Århammar | F7: 37326 | G7: =(I7-F7)/365.25 -> 17.763176 | H7: Sätra | I7: 43814
A8: 2 | B8: 2 | C8: 4.19 | D8: Adam | E8: Lindhe | F8: 34372 | G8: =(I8-F8)/365.25 -> 21.842574 | H8: Sätra | I8: 42350
A9: 3 | B9: 3 | C9: 4.26 | D9: Erik | E9: Lidén | F9: 35418 | G9: =(I9-F9)/365.25 -> 17.984942 | H9: Sätra | I9: 41987
A10: 4 | B10: 4 | C10: 4.27 | D10: Måns | E10: Boshuis | F10: 37406 | G10: =(I10-F10)/365.25 -> 17.544148 | H10: Sätra | I10: 43814
A11: 5 | B11: 5 | C11: 4.32 | D11: Maximus | E11: Jansson | F11: 37922 | G11: =(I11-F11)/365.25 -> 15.134839 | H11: Sätra | I11: 43450
A12: 6 | B12: 6 | C12: 4.33 | D12: Rafael | E12: Askros | F12: 29873 | G12: =(I12-F12)/365.25 -> 34.160164 | H12: Sätra | I12: 42350
A13: 7 | B13: 7 | C13: 4.35 | D13: Carl | E13: Bühlman | F13: 33828 | G13: =(I13-F13)/365.25 -> 21.322382 | H13: Sätra | I13: 41616
A14: 8 | B14: 8 | C14: 4.37 | D14: Erik | E14: Hermelin | F14: 35174 | G14: =(I14-F14)/365.25 -> 17.637235 | H14: Sätra | I14: 41616
A15: 9 | B15: 9 | C15: 4.39 | D15: Andreas | E15: Movin | F15: 35267 | G15: =(I15-F15)/365.25 -> 18.398357 | H15: Sätra | I15: 41987
A16: 10 | B16: 10 | C16: 4.4 | D16: Albin | E16: Andersson | F16: 36565 | G16: =(I16-F16)/365.25 -> 16.835044 | H16: Sätra | I16: 42714
A17: 11 | B17: 11 | C17: 4.41 | D17: Sebastian | E17: Landström | F17: 34428 | G17: =(I17-F17)/365.25 -> 21.689254 | H17: Sätra | I17: 42350
A18: 12 | B18: 11 | C18: 4.41 | D18: Malte | E18: Åhman | F18: 36262 | G18: =(I18-F18)/365.25 -> 15.646817 | H18: Sätra | I18: 41977
... A24: 18 | B24: 18 | C24: 4.64 | D24: Erik | E24: Lindfors | F24: 36101 | G24: =(I24-F24)/365.25 -> 15.099247 | H24: Sätra | I24: 41616
A26: 40m, manuell tidtagning
A27: # | B27: Rank | C27: Resultat | D27: Förnamn | E27: Efternamn | F27: DOB | G27: Ålder | H27: Plats | I27: Datum
A28: 1 | B28: 1 | C28: 4.8 | D28: Bo | E28: Söderberg | F28: 19521 | G28: =(I28-F28)/365.25 -> 16.654346 | H28: Stockholm/J | I28: 25604
A29: 2 | B29: 1 | C29: 4.8 | D29: Holger | E29: Schwalbe | F29: 19369 | G29: =(I29-F29)/365.25 -> 17.0705 | H29: Stockholm/J | I29: 25604
A31: 50m, automatisk tidtagning
A32: # | B32: Rank | C32: Resultat | D32: Förnamn | E32: Efternamn | F32: DOB | G32: Ålder | H32: Plats | I32: Datum
A33: 1 | B33: 1 | C33: 7.18 | D33: Niklas | E33: Klerstad | F33: 24191 | G33: =(I33-F33)/365.25 -> 13.954825 | H33: Katrineholm | I33: 29288
A35: 2x40m, automatisk tidtagning
A36: # | B36: Rank | C36: Resultat | D36: Förnamn | E36: Efternamn | F36: DOB | G36: Ålder | H36: Plats | I36: Datum
A37: 1 | B37: 1 | C37: 13.09 | D37: Mattias | E37: Lindholm | F37: 27800 | G37: =(I37-F37)/365.25 -> 14.105407 | H37: Stockholm/D | I37: 32952
A38: 2 | B38: 2 | C38: 15.45 | D38: Mattias | E38: Åkerlund | F38: 28118 | G38: =(I38-F38)/365.25 -> 13.234771 | H38: Stockholm/D | I38: 32952
A40: 2x40m, manuell tidtagning
A41: # | B41: Rank | C41: Resultat | D41: Förnamn | E41: Efternamn | F41: DOB | G41: Ålder | H41: Plats | I41: Datum
A42: 1 | B42: 1 | C42: 9.9 | D42: Bo | E42: Söderberg | F42: 19521 | G42: =(I42-F42)/365.25 -> 16.654346 | H42: Stockholm/J | I42: 25604
A43: 2 | B43: 1 | C43: 9.9 | D43: Holger | E43: Schwalbe | F43: 19369 | G43: =(I43-F43)/365.25 -> 17.0705 | H43: Stockholm/J | I43: 25604
A44: 3 | B44: 3 | C44: 10 | D44: Anders | E44: Jacobsson | F44: 19166 | G44: =(I44-F44)/365.25 -> 17.675565 | H44: Stockholm/SM | I44: 25622
A45: 4 | B45: 3 | C45: 10 | D45: Gunnar | E45: Nilsson | F45: 21436 | G45: =(I45-F45)/365.25 -> 16.361396 | H45: Nyboda | I45: 27412
A46: 5 | B46: 5 | C46: 10.2 | D46: Hans | E46: Bergwall | F46: 18169 | G46: =(I46-F46)/365.25 -> 18.258727 | H46: Stockholm | I46: 24838
A47: 6 | B47: 5 | C47: 10.2 | D47: Johan | E47: Ruthberg | F47: 19283 | G47: =(I47-F47)/365.25 -> 17.355236 | H47: Stockholm/SM | I47: 25622
A48: 7 | B48: 7 | C48: 10.3 | D48: Göran | E48: Åslev | F48: 20221 | G48: =(I48-F48)/365.25 -> 14.737851 | H48: Stockholm/J | I48: 25604
A49: 8 | B49: 8 | C49: 10.5 | D49: Roland | E49: Ljungberg | F49: 22289 | G49: =(I49-F49)/365.25 -> 16.117728 | H49: Sundbyberg | I49: 28176
A50: 9 | B50: 8 | C50: 10.5 | D50: Peter | E50: Bjersten | F50: 22488 | G50: =(I50-F50)/365.25 -> 15.55373 | H50: Sundbyberg | I50: 28169
...

Sheet Stafett mixade lag
B1: 85 – bästa genom tiderna, Mixade lag, stafett inomhus 2021
A3: 4x200m(mixade lag)
A4: # | B4: Resultat | C4: Klass | D4: Plats | E4: Datum | F4: Lag
A5: 1 | B5: 0.0012174769 | C5: F/P15 | D5: Sätra | E5: 42412 | F5: (Elisabeth Hvalgren, Jonathan Westerberg, Vendela Wahlberg, Oscar Taha)
A6: 2 | B6: 0.0012447917 | C6: F/P14 | D6: Nyköping | E6: 42421 | F6: (Elisabeth Hvalgren, Julius Mördrup, Vendela Wahlberg, Oscar Taha)
A7: 3 | B7: 0.0012570602 | C7: F/P15 | D7: Sätra | E7: 42351 | F7: (Sara Svalberg, Jonathan Westerberg, Nike Isaksson, Robin Isaksson)
A8: 4 | B8: 0.0012652778 | C8: F/P15 | D8: Västerås | E8: 40923 | F8: (Ellen Oweling, Therese Hermelin, Hjalmar Åhman, Albin Boestad)
A9: 5 | B9: 0.0012739583 | C9: F/P13 | D9: Sätra | E9: 42036 | F9: (Madeleine Aulio, Robin Isaksson, Lisa Fröberg, Oscar Taha)
A10: 6 | B10: 0.0012821759 | C10: F/P15 | D10: Sätra | E10: 42412 | F10: (Madeleine Aulio, Gustav Andersson, Sara Svalberg, Måns Boshuis)
A11: 7 | B11: 0.0012931713 | C11: F/P13 | D11: Sätra | E11: 42036 | F11: (Sara Svalberg, Jonathan Westerberg, Vendela Wahlberg, Max Malmsten)
A12: 8 | B12: 0.0012934028 | C12: F/P13 | D12: Sätra | E12: 42050 | F12: (Lisa Fröberg, Max Malmsten, Vendela Wahlberg, Jonathan Westerberg)
A13: 9 | B13: 0.0012936343 | C13: F/P15 | D13: Västerås | E13: 40923 | F13: (Sara Hermansson, Amanda Bjersér, Tobias Månsson, Eric Lindfors)
A14: 10 | B14: 0.001297338 | C14: F/P15 | D14: Sätra | E14: 41616 | F14: (Matilde Lundström, Malte Åhman, Vilma Runestam, Jacob Krumlinde)
A15: 11 | B15: 0.0013046296 | C15: F/P13 | D15: Sätra | E15: 41987 | F15: (Sara Svalberg, Robin Isaksson, Vendela Wahlberg, Jonathan Westerberg)
A16: 12 | B16: 0.0013123843 | C16: F/P15 | D16: Sätra | E16: 40887 | F16: (Amanda Bjersér, Erik Lindfors, Sara Hermansson, Alfred Deutgen)
... A86: 82 | B86: 0.0018064815 | C86: F/P10 | D86: Sätra | E86: 40888 | F86: (Hedvig Fredriksson, Axel Rabe, Mimmi Sand, Felix Stenberg)
A88: 4x200m (mixade lag) - Lagmedlemmar okända
A89: # | B89: Resultat | C89: Klass | D89: Plats | E89: Datum | F89: Lag
A90: 1 | B90: 0.0013743056 | C90: LAG | D90: Stockholm/G | E90: 39499 | F90: (++++)
A91: 2 | B91: 0.0013767361 | C91: LAG | D91: Sätra | E91: 39796 | F91: (++++)
A92: 3 | B92: 0.0013908565 | C92: LAG | D92: Sätra | E92: 39796 | F92: (++++)
A93: 4 | B93: 0.0013952546 | C93: LAG | D93: Sätra | E93: 39796 | F93: (++++)
A94: 5 | B94: 0.0014143519 | C94: LAG I | D94: Sätra | E94: 38017 | F94: (++++)
A95: 6 | B95: 0.0014274306 | C95: LAG | D95: Sätra | E95: 39795 | F95: (++++)
A96: 7 | B96: 0.0014378472 | C96: LAG | D96: Stockholm/G | E96: 39499 | F96: (++++)
A97: 8 | B97: 0.001453125 | C97: LAG | D97: Sätra | E97: 39795 | F97: (++++)
A98: 9 | B98: 0.0014627315 | C98: LAG II | D98: Sätra | E98: 38017 | F98: (++++)
A99: 10 | B99: 0.0014731481 | C99: LAG III | D99: Sätra | E99: 39123 | F99: (++++)
A100: 11 | B100: 0.0015703704 | C100: LAG V | D100: Sätra | E100: 39123 | F100: (++++)
