Workbook

Sheet Kvinnor
A1: 90 – bästa genom tiderna inomhus 2022
A2: Kvinnor
A3: Rev. 2023-04-15
A5: 60m, automatisk tidtagning
A6: # | B6: Rank | C6: Resultat | D6: Förnamn | E6: Efternamn | F6: DOB | G6: Ålder | H6: Plats | I6: Datum
A7: 1 | B7: 1 | C7: 7.52 | D7: Vicky | E7: Ljungberg | F7: 26231 | G7: =(I7-F7)/365.25 -> 18.316222 | H7: Göteborg/FH | I7: 32921
A8: 2 | B8: 2 | C8: 7.6 | D8: Hanna | E8: Adriansson-Nordberg | F8: 33919 | G8: =(I8-F8)/365.25 -> 24.213552 | H8: Norrköping | I8: 42763
A9: 3 | B9: 3 | C9: 7.64 | D9: Maria | E9: Gustavsson | F9: 32269 | G9: =(I9-F9)/365.25 -> 25.779603 | H9: Göteborg/FH | I9: 41685
A10: 4 | B10: 4 | C10: 7.66 | D10: Sara | E10: Wiss | F10: 31811 | G10: =(I10-F10)/365.25 -> 32.035592 | H10: Kuopio, FIN | I10: 43512
A11: 5 | B11: 5 | C11: 7.69 | D11: Madeleine | E11: Eriksson | F11: 33971 | G11: =(I11-F11)/365.25 -> 21.138946 | H11: Göteborg/FH | I11: 41692
A12: 6 | B12: 6 | C12: 7.7 | D12: Ylva | E12: Mattiasson | F12: 27527 | G12: =(I12-F12)/365.25 -> 17.7577 | H12: Göteborg/FH | I12: 34013
A13: 7 | B13: 6 | C13: 7.7 | D13: Agneta | E13: Rosenblad | F13: 28359 | G13: =(I13-F13)/365.25 -> 19.468857 | H13: Örebro | I13: 35470
A14: 8 | B14: 8 | C14: 7.79 | D14: Marie | E14: Westerlund | F14: 27463 | G14: =(I14-F14)/365.25 -> 18.921287 | H14: Solna | I14: 34374
A15: 9 | B15: 9 | C15: 7.83 | D15: Jessica | E15: Lindén | F15: 25245 | G15: =(I15-F15)/365.25 -> 20.919918 | H15: Falun | I15: 32886
A16: 10 | B16: 9 | C16: 7.83 | D16: Nadja | E16: Casadei | F16: 30409 | G16: =(I16-F16)/365.25 -> 24.835044 | H16: Sätra | I16: 39480
A17: 11 | B17: 9 | C17: 7.83 | D17: Malin | E17: Olsson | F17: 33109 | G17: =(I17-F17)/365.25 -> 24.418891 | H17: Malmö/A | I17: 42028
A18: 12 | B18: 12 | C18: 7.85 | D18: Susanne | E18: Meckbach | F18: 29843 | G18: =(I18-F18)/365.25 -> 19.370294 | H18: Sätra | I18: 36918
... A46: 40 | B46: 39 | C46: 8.19 | D46: Kirti | E46: Lickfett | F46: 35588 | G46: =(I46-F46)/365.25 -> 17.670089 | H46: Sätra | I46: 42042
A47: 41 | B47: 41 | C47: 8.2 | D47: Katharina | E47: Andersson | F47: 23578 | G47: =1986-1964 -> 22 | H47: Lidingö/B | I47: 1986
A48: 42 | B48: 41 | C48: 8.2 | D48: Mellanie | E48: Neudinger-Nellmer | F48: 38427 | G48: =(I48-F48)/365.25 -> 14.721424 | H48: Sätra | I48: 43804
A49: 43 | B49: 43 | C49: 8.22 | D49: Maria | E49: Eriksson | F49: 1979 | G49: =2000-1979 -> 21 | H49: Sätra | I49: 36541
A50: 44 | B50: 44 | C50: 8.26 | D50: Ida | E50: Egnell | F50: 38512 | G50: =(I50-F50)/365.25 -> 13.615332 | H50: Sätra | I50: 43485
A51: 45 | B51: 45 | C51: 8.27 | D51: Anna | E51: Jacobsson | F51: 33627 | G51: =(I51-F51)/365.25 -> 15.126626 | H51: Malmö/A | I51: 39152
A52: 46 | B52: 45 | C52: 8.27 | D52: Madeleine | E52: Aulio | F52: 37373 | G52: =(I52-F52)/365.25 -> 14.644764 | H52: Uppsala | I52: 42722
A53: 47 | B53: 47 | C53: 8.29 | D53: Lena | E53: Stenbrink | F53: 25616 | G53: =(I53-F53)/365.25 -> 20.985626 | H53: Solna | I53: 33281
A54: 48 | B54: 47 | C54: 8.29 | D54: Ida | E54: Sjöling | F54: 29895 | G54: =(I54-F54)/365.25 -> 15.263518 | H54: Solna | I54: 35470
A55: 49 | B55: 47 | C55: 8.29 | D55: Hanna | E55: Johnsson | F55: 35153 | G55: =(I55-F55)/365.25 -> 18.841889 | H55: Sätra | I55: 42035
A56: 50 | B56: 50 | C56: 8.3 | D56: Amanda | E56: Bjersér | F56: 35964 | G56: =(I56-F56)/365.25 -> 12.752909 | H56: Örebro | I56: 40622
A57: 51 | B57: 51 | C57: 8.31 | D57: Moa | E57: Holm | F57: 36759 | G57: =(I57-F57)/365.25 -> 16.553046 | H57: Sollentuna | I57: 42805
A58: 52 | B58: 51 | C58: 8.31 | D58: Amanda | E58: Jerner | F58: 38473 | G58: =(I58-F58)/365.25 -> 13.626283 | H58: Sätra | I58: 43450
A59: 53 | B59: 53 | C59: 8.33 | D59: Anna | E59: Gate | F59: 24206 | G59: =(I59-F59)/365.25 -> 13.730322 | H59: Falun | I59: 29221
A60: 54 | B60: 53 | C60: 8.33 | D60: Anette | E60: Sandberg | F60: 25904 | G60: =(I60-F60)/365.25 -> 18.157426 | H60: Haninge | I60: 32536
A61: 55 | B61: 55 | C61: 8.34 | D61: Susanna | E61: Möller | F61: 24847 | G61: =(I61-F61)/365.25 -> 21.916496 | H61: Lidingö/B | I61: 32852
... A96: 90 | B96: 90 | C96: 8.73 | D96: Sofia | E96: Fröberg | F96: 39045 | G96: =(I96-F96)/365.25 -> 15.33744 | H96: Sollentuna | I96: 44647
A98: 60m, manuell tidtagning
A99: # | B99: Rank | C99: Resultat | D99: Förnamn | E99: Efternamn | F99: DOB | G99: Ålder | H99: Plats | I99: Datum
A100: 1 | B100: 1 | C100: 7.9 | D100: Lena | E100: Stenbrink | F100: 25616 | G100: =(I100-F100)/365.25 -> 20.919918 | H100: Solna | I100: 33257
A101: 2 | B101: 2 | C101: 8.1 | D101: Elisabeth | E101: Östberg | F101: 14852 | G101: =(I101-F101)/365.25 -> 28.506502 | H101: Stockholm/J | I101: 25264
A102: 3 | B102: 2 | C102: 8.1 | D102: Mirja | E102: Hagar | F102: 19838 | G102: =(I102-F102)/365.25 -> 15.868583 | H102: Göteborg | I102: 25634
A103: 4 | B103: 2 | C103: 8.1 | D103: Marianne | E103: Fabricius | F103: 19543 | G103: =(I103-F103)/365.25 -> 17.653662 | H103: Stockholm/J | I103: 25991
A104: 5 | B104: 2 | C104: 8.1 | D104: Anna | E104: Gate | F104: 24206 | G104: =(I104-F104)/365.25 -> 13.894593 | H104: Stockholm | I104: 29281
A105: 6 | B105: 6 | C105: 8.2 | D105: Monika | E105: Lindberg | F105: 19468 | G105: =(I105-F105)/365.25 -> 17.859001 | H105: Stockholm/J | I105: 25991
A106: 7 | B106: 6 | C106: 8.2 | D106: Helene | E106: Tappert | F106: 19513 | G106: =(I106-F106)/365.25 -> 17.735797 | H106: Stockholm/J | I106: 25991
A107: 8 | B107: 6 | C107: 8.2 | D107: Christine | E107: Tappert | F107: 20059 | G107: =(I107-F107)/365.25 -> 15.263518 | H107: Göteborg/S | I107: 25634
A108: 9 | B108: 6 | C108: 8.2 | D108: Jessica | E108: Granqvist | F108: 28281 | G108: =(I108-F108)/365.25 -> 13.467488 | H108: Lidingö | I108: 33200
A109: 10 | B109: 6 | C109: 8.2 | D109: Emma | E109: Axelsson | F109: 34965 | G109: =(I109-F109)/365.25 -> 14.499658 | H109: Lidingö/B | I109: 40261
A110: 11 | B110: 11 | C110: 8.3 | D110: Helen | E110: Skårman | F110: 8726 | G110: =(I110-F110)/365.25 -> 44.112252 | H110: Stockholm/J | I110: 24838
A111: 12 | B111: 11 | C111: 8.3 | D111: Susanne | E111: Embe | F111: 24193 | G111: =(I111-F111)/365.25 -> 15.780972 | H111: Sundbyberg | I111: 29957
... A113: 14 | B113: 11 | C113: 8.3 | D113: Elisabeth | E113: Anderzén | F113: 27975 | G113: =(I113-F113)/365.25 -> 13.308693 | H113: Lidingö | I113: 32836
A114: 15 | B114: 15 | C114: 8.4 | D114: Maria | E114: Aspen | F114: 1969 | G114: =1983-1969 -> 14 | H114: Solna | I114: 30345
A115: 16 | B115: 15 | C115: 8.4 | D115: Chloë | E115: Hjertén | F115: 19369 | G115: =(I115-F115)/365.25 -> 16.161533 | H115: Göteborg | I115: 25272
A116: 17 | B116: 15 | C116: 8.4 | D116: Maria | E116: Gate | F116: 24206 | G116: =(I116-F116)/365.25 -> 15.74538 | H116: Sundbyberg | I116: 29957
A117: 18 | B117: 15 | C117: 8.4 | D117: Susanne | E117: Erixon | F117: 25984 | G117: =(I117-F117)/365.25 -> 12.91718 | H117: Sundbyberg | I117: 30702
A118: 19 | B118: 15 | C118: 8.4 | D118: Helena | E118: Björk | F118: 27889 | G118: =(I118-F118)/365.25 -> 13.544148 | H118: Lidingö | I118: 32836
A119: 20 | B119: 20 | C119: 8.5 | D119: Karin | E119: Lundgren | F119: 24692 | G119: =(I119-F119)/365.25 -> 14.414784 | H119: Sundyberg | I119: 29957
A120: 21 | B120: 20 | C120: 8.5 | D120: Charlotta | E120: Nordström | F120: 1954 | G120: =1974-1954 -> 20 | H120: Falun | I120: 27092
A121: 22 | B121: 20 | C121: 8.5 | D121: Katarina | E121: Huttner | F121: 24163 | G121: =(I121-F121)/365.25 -> 14.01232 | H121: Stockholm | I121: 29281
A122: 23 | B122: 20 | C122: 8.5 | D122: Sophie | E122: Andersson | F122: 27787 | G122: =(I122-F122)/365.25 -> 13.823409 | H122: Lidingö | I122: 32836
A123: 24 | B123: 20 | C123: 8.5 | D123: Martina | E123: Sandvall | F123: 29663 | G123: =(I123-F123)/365.25 -> 13.848049 | H123: Haninge | I123: 34721
A124: 25 | B124: 20 | C124: 8.5 | D124: Hedda | E124: Hanner | F124: 35307 | G124: =(I124-F124)/365.25 -> 13.563313 | H124: Lidingö/B | I124: 40261
A125: 26 | B125: 20 | C125: 8.5 | D125: Emma | E125: Nilsson-Tengstrand | F125: 34861 | G125: =(I125-F125)/365.25 -> 14.784394 | H125: Lidingö/B | I125: 40261
A126: 27 | B126: 20 | C126: 8.5 | D126: Agnes | E126: Källström | F126: 34945 | G126: =(I126-F126)/365.25 -> 14.554415 | H126: Lidingö/B | I126: 40261
A129: 200m, automatisk tidtagning (Finns inga manuella tider som är bättre än de automatiska!)
A130: # | B130: Rank | C130: Resultat | D130: Förnamn | E130: Efternamn | F130: DOB | G130: Ålder | H130: Plats | I130: Datum
A131: 1 | B131: 1 | C131: 23.66 | D131: Ludmila | E131: Engquist | F131: 23488 | G131: =(I131-F131)/365.25 -> 32.783025 | H131: Göteborg/FH | I131: 35462
A132: 2 | B132: 2 | C132: 24.39 | D132: Maria | E132: Gustavsson | F132: 32269 | G132: =(I132-F132)/365.25 -> 25.801506 | H132: Göteborg/FH | I132: 41693
A133: 3 | B133: 3 | C133: 24.47 | D133: Hanna | E133: Adriansson-Nordberg | F133: 33919 | G133: =(I133-F133)/365.25 -> 24.29295 | H133: Växjö | I133: 42792
A134: 4 | B134: 4 | C134: 24.64 | D134: Vicky | E134: Ljungberg | F134: 26231 | G134: =(I134-F134)/365.25 -> 18.250513 | H134: Lidingö/B | I134: 32897
A135: 5 | B135: 5 | C135: 25.07 | D135: Jessica | E135: Lindén | F135: 25245 | G135: =(I135-F135)/365.25 -> 21.916496 | H135: Göteborg/FH | I135: 33250
A136: 6 | B136: 6 | C136: 25.15 | D136: Nadja | E136: Casadei | F136: 30409 | G136: =(I136-F136)/365.25 -> 24.854209 | H136: Göteborg/FH | I136: 39487
A137: 7 | B137: 7 | C137: 25.25 | D137: Agneta | E137: Rosenblad | F137: 28359 | G137: =(I137-F137)/365.25 -> 18.431211 | H137: Eskilstuna | I137: 35091
A138: 8 | B138: 8 | C138: 25.28 | D138: Isabelle | E138: Eriksson | F138: 31713 | G138: =(I138-F138)/365.25 -> 25.212868 | H138: Umeå | I138: 40922
A139: 9 | B139: 9 | C139: 25.32 | D139: Linda | E139: Frödin-Glad | F139: 34139 | G139: =(I139-F139)/365.25 -> 22.59822 | H139: Lidingö/B | I139: 42393
A140: 10 | B140: 10 | C140: 25.39 | D140: Marie | E140: Westerlund | F140: 27463 | G140: =(I140-F140)/365.25 -> 21.891855 | H140: Lidingö/B | I140: 35459
A141: 11 | B141: 11 | C141: 25.42 | D141: Louise | E141: Gundert | F141: 29433 | G141: =(I141-F141)/365.25 -> 23.504449 | H141: Sätra | I141: 38018
A142: 12 | B142: 12 | C142: 25.45 | D142: Madeleine | E142: Eriksson | F142: 33971 | G142: =(I142-F142)/365.25 -> 24.054757 | H142: Sätra | I142: 42757
... A214: 84 | B214: 84 | C214: 28.57 | D214: Charlotta | E214: Thür | F214: 29304 | G214: =(I214-F214)/365.25 -> 14.874743 | H214: Lidingö/B | I214: 34737
A216: 400m, automatisk tidtagning
A217: # | B217: Rank | C217: Resultat | D217: Förnamn | E217: Efternamn | F217: DOB | G217: Ålder | H217: Plats | I217: Datum
A218: 1 | B218: 1 | C218: 53.82 | D218: Louise | E218: Gundert | F218: 29433 | G218: =(I218-F218)/365.25 -> 24.539357 | H218: Malmö/A | I218: 38396
A219: 2 | B219: 2 | C219: 55.35 | D219: Jessica | E219: Lindén | F219: 25245 | G219: =(I219-F219)/365.25 -> 21.015743 | H219: Göteborg/FH | I219: 32921
A220: 3 | B220: 3 | C220: 56.06 | D220: Charlotte | E220: Schönbeck | F220: 31038 | G220: =(I220-F220)/365.25 -> 18.16564 | H220: Västerås | I220: 37673
A221: 4 | B221: 4 | C221: 56.18 | D221: Pia | E221: Welin | F221: 27951 | G221: =(I221-F221)/365.25 -> 21.598905 | H221: Eskilstuna | I221: 35840
A222: 5 | B222: 4 | C222: 56.18 | D222: Anna | E222: Silvander | F222: 34142 | G222: =(I222-F222)/365.25 -> 21.629021 | H222: Sätra | I222: 42042
A223: 6 | B223: 6 | C223: 56.66 | D223: Sofia | E223: Öberg | F223: 33023 | G223: =(I223-F223)/365.25 -> 17.661875 | H223: Sätra | I223: 39474
A224: 7 | B224: 7 | C224: 56.85 | D224: Nike | E224: Isaksson | F224: 38206 | G224: =(I224-F224)/365.25 -> 15.583847 | H224: Örebro | I224: 43898
A225: 8 | B225: 8 | C225: 56.93 | D225: Therese | E225: Jernbeck | F225: 33695 | G225: =(I225-F225)/365.25 -> 19.904175 | H225: Bollnäs | I225: 40965
A226: 9 | B226: 9 | C226: 57.29 | D226: Carina | E226: Andersson | F226: 24987 | G226: =(I226-F226)/365.25 -> 17.615332 | H226: Lidingö/B | I226: 31421
A227: 10 | B227: 10 | C227: 57.58 | D227: Julia | E227: Lärkert | F227: 32590 | G227: =(I227-F227)/365.25 -> 16.892539 | H227: Sätra | I227: 38760
A228: 11 | B228: 11 | C228: 57.61 | D228: Isabelle | E228: Eriksson | F228: 31713 | G228: =(I228-F228)/365.25 -> 24.273785 | H228: Sätra | I228: 40579
A229: 12 | B229: 12 | C229: 57.88 | D229: Lisa | E229: Fröberg | F229: 37344 | G229: =(I229-F229)/365.25 -> 16.908966 | H229: Växjö | I229: 43520
A230: 13 | B230: 13 | C230: 58.14 | D230: Linda | E230: Frödin-Glad | F230: 34139 | G230: =(I230-F230)/365.25 -> 24.618754 | H230: Gävle | I230: 43131
A231: 14 | B231: 14 | C231: 58.22 | D231: Maria | E231: Sylwán | F231: 33542 | G231: =(I231-F231)/365.25 -> 16.25462 | H231: Malmö/A | I231: 2008-02
A232: 15 | B232: 15 | C232: 58.36 | D232: Annika | E232: Vänje | F232: 23187 | G232: =(I232-F232)/365.25 -> 24.561259 | H232: Lidingö/B | I232: 32158
A233: 16 | B233: 16 | C233: 58.38 | D233: Christina | E233: Offnegårdh | F233: 24183 | G233: =(I233-F233)/365.25 -> 20.898015 | H233: Luleå | I233: 31816
A234: 17 | B234: 17 | C234: 58.59 | D234: Charlotte | E234: Johansson | F234: 31580 | G234: =(I234-F234)/365.25 -> 19.676934 | H234: Göteborg/FH | I234: 38767
A235: 18 | B235: 18 | C235: 58.68 | D235: Jennie | E235: Hurkmans | F235: 30740 | G235: =(I235-F235)/365.25 -> 24.947296 | H235: Sätra | I235: 39852
A236: 19 | B236: 19 | C236: 58.77 | D236: Cecilia | E236: Häggmark | F236: 25693 | G236: =(I236-F236)/365.25 -> 14.694045 | H236: Lidingö/B | I236: 31060
A237: 20 | B237: 20 | C237: 59.94 | D237: Louise | E237: Austern | F237: 28608 | G237: =(I237-F237)/365.25 -> 17.760438 | H237: Lidingö/B | I237: 35095
A238: 21 | B238: 21 | C238: 59.59 | D238: Lisa | E238: Erkander | F238: 33719 | G238: =(I238-F238)/365.25 -> 18.819986 | H238: Sätra | I238: 40593
...

Sheet Kvinnor mångkamp
A1: 90 – bästa genom tiderna inomhus 2022, mångkamp
A2: Kvinnor
A3: =Kvinnor!$A$3 -> Rev. 2023-04-15
A5: Femkamp
A6: # | B6: Rank | C6: Resultat | D6: Förnamn | E6: Efternamn | F6: DOB | G6: Ålder | H6: Plats | I6: Datum | J6: Delresultat
A7: 1 | B7: 1 | C7: 4190 | D7: Nadja | E7: Casadei | F7: 30409 | G7: =(I7-F7)/365.25 -> 24.952772 | H7: Göteborg/FH | I7: 39523 | J7: (8,83-170-1320-584-2.18,31)
A8: 2 | B8: 2 | C8: 4016 | D8: Jessica | E8: Lindén* | F8: 25245 | G8: =(I8-F8)/365.25 -> 21.971253 | H8: Växjö | I8: 33270 | J8: (9,00-180-978-576-2.19,05)
A9: 3 | B9: 3 | C9: 4002 | D9: Katarina | E9: Hållberg | F9: 24530 | G9: =(I9-F9)/365.25 -> 22.995209 | H9: Gainsvi, US | I9: 32929 | J9: (9,04-167-1127-580-2.15,89)
A10: 4 | B10: 4 | C10: 3864 | D10: Therese | E10: Jernbeck | F10: 33695 | G10: =(I10-F10)/365.25 -> 20.821355 | H10: Fayettevi, US | I10: 41300 | J10: (9,36-163-1263-550-2.15,99)
A11: 5 | B11: 5 | C11: 3678 | D11: Lena | E11: Stenbrink* | F11: 25616 | G11: =(I11-F11)/365.25 -> 20.95551 | H11: Växjö | I11: 33270 | J11: (9,4?-168-9??-?-2.24,63)
A12: 6 | B12: 6 | C12: 3636 | D12: Ida | E12: Sjöling | F12: 29895 | G12: =(I12-F12)/365.25 -> 20.323066 | H12: Sätra | I12: 37318 | J12: (9,22-161-1111-554-2.28,61)
A13: 7 | B13: 7 | C13: 3539 | D13: Annette | E13: Ekberg** | F13: 29932 | G13: =(I13-F13)/365.25 -> 23.227926 | H13: Johnson C, US | I13: 38416 | J13: (8,48/55 mh/ - 154-1129-549-2.32,46)
A14: 8 | B14: 8 | C14: 3239 | D14: Jeanette | E14: Hansson | F14: 28962 | G14: =(I14-F14)/365.25 -> 22.877481 | H14: Sätra | I14: 37318 | J14: (9,44-155-869-533-2.33,84)
A15: 9 | B15: 9 | C15: 3143 | D15: Annette | E15: Ekberg | F15: 29932 | G15: =(I15-F15)/365.25 -> 21.078713 | H15: Vermilli, US | I15: 37631 | J15: (9,46(60 häck)-154-909-533-2.42,93)
A16: 10 | B16: 10 | C16: 3016 | D16: Madeleine | E16: Serenhov | F16: 33433 | G16: =(I16-F16)/365.25 -> 27.501711 | H16: Sätra | I16: 43478 | J16: (10,29-169-902-449-2.35,66)
A17: 11 | B17: 11 | C17: 2705 | D17: Anna | E17: Bergö | F17: 28175 | G17: =(I17-F17)/365.25 -> 20.906229 | H17: Solna | I17: 35811 | J17: (delresultat saknas)
E18: *Överlång bana
E19: *55m häck istället för 60m
A21: Sexkamp (ingår även 60m och tvådagarstävling)
A22: # | B22: Rank | C22: Resultat | D22: Förnamn | E22: Efternamn | F22: DOB | G22: Ålder | H22: Plats | I22: Datum | J22: Delresultat
A23: 1 | B23: 1 | C23: 4967 | D23: Jessica | E23: Lindén | F23: 25245 | G23: =(I23-F23)/365.25 -> 20.980151 | H23: Karlstad | I23: 32908 | J23: (8,96-176-1000-7,89-569-1.34,23)
A24: 2 | B24: 2 | C24: 4886 | D24: Kristine | E24: Tånnander | F24: 20414 | G24: =(I24-F24)/365.25 -> 30.193018 | H24: Lidingö/B | I24: 31442 | J24: (8,98-172-1176-7,91-548-1.38,2)
A25: 3 | B25: 3 | C25: 4720 | D25: Katarina | E25: Hållberg | F25: 24530 | G25: =(I25-F25)/365.25 -> 21.98768 | H25: Haparanda | I25: 32561 | J25: (8,90-169-1010-8,12-569-1.39,93)
A26: 4 | B26: 4 | C26: 4487 | D26: Katarina | E26: Andersson | F26: 23578 | G26: =(I26-F26)/365.25 -> 21.530459 | H26: Lidingö/B | I26: 31442 | J26: (delresultat saknas)
A27: 5 | B27: 5 | C27: 4056 | D27: Lena | E27: Stenbrink | F27: 25616 | G27: =(I27-F27)/365.25 -> 19.964408 | H27: Karlstad | I27: 32908 | J27: (9,57-158-852-8,37-538-1.47,12)
A28: 6 | B28: 6 | C28: 3792 | D28: Annica | E28: Sandström | F28: 24893 | G28: =(I28-F28)/365.25 -> 22.039699 | H28: Solna | I28: 32943 | J28: (9,80-148-741-8,41-566-1.53,52)
A29: 7 | B29: 7 | C29: 3234 | D29: Viktoria | E29: Nilsson | F29: 26935 | G29: =(I29-F29)/365.25 -> 16.449008 | H29: Solna | I29: 32943 | J29: (9,96-130-746-8,55-466-1.55,06)
A30: 8 | B30: 8 | C30: 3181 | D30: Anna | E30: Willberg | F30: 26742 | G30: =(I30-F30)/365.25 -> 16.977413 | H30: Solna | I30: 32943 | J30: (10,80-139-709-8,57-456-1.51,40)
A32: Sexkamp, F16 (60h-kula-längd-60-höjd-600)
A33: # | B33: Rank | C33: Resultat | D33: Förnamn | E33: Efternamn | F33: DOB | G33: Ålder | H33: Plats | I33: Datum | J33: Delresultat
A34: 1 | B34: 1 | C34: 4213 | D34: Ylva | E34: Mattiasson | F34: 27527 | G34: =(I34-F34)/365.25 -> 14.732375 | H34: Karlstad | I34: 32908 | J34: (8,97-921-532-7,9m-155-1.48,80)
A36: Femkamp, F15/17 (60h-höjd-kula-längd-600)
A37: # | B37: Rank | C37: Resultat | D37: Förnamn | E37: Efternamn | F37: DOB | G37: Ålder | H37: Plats | I37: Datum | J37: Delresultat
A38: 1 | B38: 1 | C38: 3483 | D38: Ida | E38: Sjöling | F38: 29895 | G38: =(I38-F38)/365.25 -> 15.238877 | H38: Karlstad | I38: 35461 | J38: (9,31-145-892-519-1.41,83)
A39: 2 | B39: 2 | C39: 3393 | D39: Lisa | E39: Fröberg | F39: 37344 | G39: =(I39-F39)/365.25 -> 15.871321 | H39: Norrköping | I39: 43141 | J39: (9,29-160-936-508-1.43,75)
A40: 3 | B40: 3 | C40: 3344 | D40: Charlotte | E40: Brishammar | F40: 32006 | G40: =(I40-F40)/365.25 -> 14.537988 | H40: Sätra | I40: 37316 | J40: (9,72-139-920-466-1.55,30)
A41: 4 | B41: 4 | C41: 3272 | D41: Madeleine | E41: Aulio | F41: 37373 | G41: =(I41-F41)/365.25 -> 14.795346 | H41: Uddevalla | I41: 42777 | J41: (9,38-155-820-533-1.45,58)
A42: 5 | B42: 5 | C42: 3051 | D42: Martina | E42: Sandvall | F42: 29663 | G42: =(I42-F42)/365.25 -> 15.874059 | H42: Karlstad | I42: 35461 | J42: (10,46-160-847-497-1.55,80)
A43: 6 | B43: 6 | C43: 3005 | D43: Victoria | E43: Psilander | F43: 37811 | G43: =(I43-F43)/365.25 -> 15.5154 | H43: Sätra | I43: 43478 | J43: (10,06-154-799-477-1.43,61)
A44: 7 | B44: 7 | C44: 2892 | D44: Alice | E44: Eriksson | F44: 35416 | G44: =(I44-F44)/365.25 -> 14.151951 | H44: Norrköping | I44: 40585 | J44: (9,42-148-823-502-1.58,21)
A45: 8 | B45: 8 | C45: 2820 | D45: Sara | E45: Svalberg | F45: 37378 | G45: =(I45-F45)/365.25 -> 14.688569 | H45: Sätra | I45: 42743 | J45: (10,35-155-804-445-1.47,16)
A46: 9 | B46: 9 | C46: 2718 | D46: Mellanie | E46: Nilsson-Nellner | F46: 38427 | G46: =(I46-F46)/365.25 -> 14.039699 | H46: Växjö | I46: 43555 | J46: (9,82-145-825-419-1.49,27)
A47: 10 | B47: 10 | C47: 2052 | D47: Tyra | E47: Hedin | F47: 38461 | G47: =(I47-F47)/365.25 -> 13.735797 | H47: Sätra | I47: 43478 | J47: (12,02-130-706-443-1.56,42)
A48: 11 | B48: 11 | C48: 2019 | D48: Rebecka | E48: Hagardt | F48: 37680 | G48: =(I48-F48)/365.25 -> 13.861739 | H48: Sätra | I48: 42743 | J48: (10,15-130-655-399-2.10,67)
A49: 12 | B49: 12 | C49: 1666 | D49: Elsa | E49: Preber | F49: 37545 | G49: =(I49-F49)/365.25 -> 13.234771 | H49: Sätra | I49: 42379 | J49: (12,82-121-552-384-1.54,10)
A51: Fyrkamp, F13/14 (60h-kula-höjd-längd)
A52: # | B52: Rank | C52: Resultat | D52: Förnamn | E52: Efternamn | F52: DOB | G52: Ålder | H52: Plats | I52: Datum | J52: Delresultat
A53: 1 | B53: 1 | C53: 3479 | D53: Lisa | E53: Fröberg | F53: 37344 | G53: =(I53-F53)/365.25 -> 12.788501 | H53: Sätra | I53: 42015 | J53: (10,36-145-735-487)
A54: 2 | B54: 2 | C54: 3445 | D54: Sara | E54: Svalberg | F54: 37378 | G54: =(I54-F54)/365.25 -> 12.695414 | H54: Sätra | I54: 42015 | J54: (10,58-139-876-469)
A55: 3 | B55: 3 | C55: 2840 | D55: Nora | E55: Dahle | F55: 37650 | G55: =(I55-F55)/365.25 -> 11.950719 | H55: Sätra | I55: 42015 | J55: (11,08-127-759-402)
A56: 4 | B56: 4 | C56: 2794 | D56: Victoria | E56: Psilander | F56: 37811 | G56: =(I56-F56)/365.25 -> 11.509925 | H56: Sätra | I56: 42015 | J56: (10,58-127-601-412)
A57: 5 | B57: 5 | C57: 2572 | D57: Elisabeth | E57: Hvalgren | F57: 37404 | G57: =(I57-F57)/365.25 -> 12.62423 | H57: Sätra | I57: 42015 | J57: (12,95-133-635-437)
A58: 6 | B58: 6 | C58: 2506 | D58: Carolina | E58: Skoglund | F58: 31254 | G58: =(I58-F58)/365.25 -> 13.478439 | H58: Sätra | I58: 36177 | J58: (12,06-749-156-469)
A59: 7 | B59: 7 | C59: 2425 | D59: Daniela | E59: Trojmar | F59: 31064 | G59: =(I59-F59)/365.25 -> 12.996578 | H59: Solna | I59: 35811 | J59: (11,81-147-457-773)
A60: 8 | B60: 8 | C60: 2443 | D60: Filippa | E60: Almkvist | F60: 37892 | G60: =(I60-F60)/365.25 -> 11.288159 | H60: Sätra | I60: 42015 | J60: (12,09-121-715-376)
A61: 9 | B61: 9 | C61: 2391 | D61: Rebecka | E61: Hagardt | F61: 37680 | G61: =(I61-F61)/365.25 -> 11.868583 | H61: Sätra | I61: 42015 | J61: (11,99-112-662-403)
A62: 10 | B62: 10 | C62: 2029 | D62: Elsa | E62: Preber | F62: 37545 | G62: =(I62-F62)/365.25 -> 12.238193 | H62: Sätra | I62: 42015 | J62: (13,68-121-564-379)
A63: 11 | B63: 11 | C63: 1761 | D63: Karina | E63: Töndevold | F63: 29299 | G63: =(I63-F63)/365.25 -> 13.982204 | H63: Stockholm/D | I63: 34406 | J63: (15,18-416-688-129)
A64: 12 | B64: 12 | C64: 1679 | D64: Ann-Christine | E64: Hägglund | F64: 27476 | G64: =(I64-F64)/365.25 -> 13.010267 | H64: Stockholm/D | I64: 32228 | J64: (15,7-413-649-129)
A65: 13 | B65: 13 | C65: 1236 | D65: Fanny | E65: Wijkström | F65: 37867 | G65: =(I65-F65)/365.25 -> 11.356605 | H65: Sätra | I65: 42015 | J65: (X-112-490-342)
A67: Fyrkamp, F14 (2x40,längd, kula, höjd)
A68: # | B68: Rank | C68: Resultat | D68: Förnamn | E68: Efternamn | F68: DOB | G68: Ålder | H68: Plats | I68: Datum | J68: Delresultat
A69: 1 | B69: 1 | C69: 2158 | D69: Karin | E69: Lundgren | F69: 24692 | G69: =(I69-F69)/365.25 -> 12.563997 | H69: Solna | I69: 29281 | J69: (14,0-486-593-145)
A70: 2 | B70: 2 | C70: 1897 | D70: Catharina | E70: Wester | F70: 24226 | G70: =(I70-F70)/365.25 -> 13.839836 | H70: Solna | I70: 29281 | J70: (15,0-419-813-130)
A71: nn | C71: DNF | D71: Katarina | E71: Huttner | F71: 24163 | G71: =(I71-F71)/365.25 -> 14.01232 | H71: Solna | I71: 29281 | J71: (14,5-465-X-X)
A73: Fyrkamp, F11/12 (60h-höjd-kula-längd)
A74: # | B74: Rank | C74: Resultat | D74: Förnamn | E74: Efternamn | F74: DOB | G74: Ålder | H74: Plats | I74: Datum | J74: Delresultat
A75: 1 | B75: 1 | C75: 3105 | D75: Victoria | E75: Psilander | F75: 37811 | G75: =(I75-F75)/365.25 -> 12.506502 | H75: Sätra | I75: 42379 | J75: (10,47-136-756-414)
A76: 2 | B76: 2 | C76: 2280 | D76: Nike | E76: Isaksson | F76: 38206 | G76: =(I76-F76)/365.25 -> 10.428474 | H76: Sätra | I76: 42015 | J76: (13,26-118-687-401)
A77: 3 | B77: 3 | C77: 1??? | D77: Ebba | E77: Ekström | F77: 38438 | G77: =(I77-F77)/365.25 -> 10.78987 | H77: Sätra | I77: 42379 | J77: (12,93-121-693-355)
A79: Trekamp (40 häck-längd-kula)
A80: # | B80: Rank | C80: Resultat | D80: Förnamn | E80: Efternamn | F80: DOB | G80: Ålder | H80: Plats | I80: Datum | J80: Delresultat
A81: 1 | B81: 1 | C81: 2307 | D81: Annette | E81: Henriksson | F81: 21174 | G81: =(I81-F81)/365.25 -> 20.128679 | H81: Stockholm | I81: 28526 | J81: (delresultat saknas)
A83: Trekamp F14 (längd-60h-kula)
A84: # | B84: Rank | C84: Resultat | D84: Förnamn | E84: Efternamn | F84: DOB | G84: Ålder | H84: Plats | I84: Datum | J84: Delresultat
A85: 1 | B85: 1 | C85: 2143 | D85: Martina | E85: Sandvall | F85: 29663 | G85: =(I85-F85)/365.25 -> 13.883641 | H85: Solna | I85: 34734 | J85: (delresultat saknas)
A86: 2 | B86: 2 | C86: 2038 | D86: Lina | E86: Skoglund | F86: 31254 | G86: =(I86-F86)/365.25 -> 11.479808 | H86: Solna | I86: 35447 | J86: (delresultat saknas)
A87: 3 | B87: 3 | C87: 1598 | D87: Johanna | E87: Hansson | F87: 31166 | G87: =(I87-F87)/365.25 -> 11.720739 | H87: Solna | I87: 35447 | J87: (delresultat saknas)
A88: 4 | B88: 4 | C88: 1219 | D88: Anna | E88: Fagerlind | F88: 31256 | G88: =(I88-F88)/365.25 -> 11.474333 | H88: Solna | I88: 35447 | J88: (delresultat saknas)
A89: 5 | B89: 5 | C89: 1108 | D89: Emma | E89: Lundin | F89: 32407 | G89: =(I89-F89)/365.25 -> 11.331964 | H89: Sätra | I89: 36546 | J89: (3,54 -10,30-515)

Sheet Kvinnor stafett
A1: 90 – bästa genom tiderna inomhus 2022, mångkamp
A2: Kvinnor
A3: =Kvinnor!$A$3 -> Rev. 2023-04-15
A5: 4x200m
A6: # | B6: Rank | C6: Resultat | D6: Klass | E6: Plats | F6: Datum | G6: Lag
A7: 1 | B7: 1 | C7: 0.0011693287 | D7: KS | E7: Örebro | F7: 40958 | G7: (Therese Jernbeck, Isabelle Eriksson, Maria Gustafsson, Hanna Adriansson-Norberg)
A8: 2 | B8: 2 | C8: 0.001174537 | D8: KS | E8: Lidingö/B | F8: 32891 | G8: (Vicky Ljungberg, Berit Lignercrona, Sofi Alfredson, Jessica Lindén)
A9: 3 | B9: 3 | C9: 0.001178588 | D9: KS | E9: Norrköping | F9: 41322 | G9: (Madeleine Eriksson, Isabelle Eriksson, Charlotte Schönbeck, Hanna Adriansson-Norberg)
A10: 4 | B10: 4 | C10: 0.0012060185 | D10: KS | E10: Lidingö/B | F10: 34381 | G10: (Agneta Rosenblad, Marie Westerlund, Mithoo Theander, Petra Palmqvist)
A11: 5 | B11: 5 | C11: 0.001206713 | D11: KS | E11: Göteborg/FH | F11: 33250 | G11: (Anna Wiberg, Tanja Wickström, Annica Sandström, Jessica Lindén)
A12: 6 | B12: 6 | C12: 0.0012114583 | D12: KS | E12: Lidingö/B | F12: 33274 | G12: (Tanja Wickström, Anna Wiberg, Ylva Mattiasson, Jessica Lindén)
A13: 7 | B13: 7 | C13: 0.0012603009 | D13: KS | E13: Göteborg/FH | F13: 33614 | G13: (Anna Helin, Anna Wiberg, Lena Stenbrink, Sandra Akinlaja)
A14: 8 | B14: 8 | C14: 0.0012664352 | D14: KS | E14: Lidingö/B | F14: 32891 | G14: (Annica Sandström, Pernilla Manneryd, Lena Stenbrink, Ylva Mattiasson)
A15: 9 | B15: 9 | C15: 0.001271412 | D15: F17 | E15: Sätra | F15: 40944 | G15: (Ellen Oweling, Linda Skantze, Josefine Havdelin, Hedda Hanner)
A16: 10 | B16: 10 | C16: 0.001278125 | D16: KS | E16: Göteborg/FH | F16: 33978 | G16: (Jessica Granqvist, Jenny Engström, Agneta Rosenblad, Mithoo Theander)
A17: 11 | B17: 11 | C17: 0.0012788194 | D17: KS | E17: Lidingö/B | F17: 33274 | G17: (Sandra Akinlaja, Lena Stenbrink, Anna Helin, Petra Palmqvist)
A18: 12 | B18: 12 | C18: 0.0012949074 | D18: KS | E18: Lidingö/B | F18: 34010 | G18: (Linda Akinlaja, Jessica Granqvist, Jenny Engström, Mithoo Theander)
... A35: 29 | B35: 29 | C35: 0.0015087963 | D35: KS | E35: Sätra | F35: 39062 | G35: (Johanna Briet, Anna Westfelt, Jenny Öster, Sara Neijber)
A37: 5x200m
A38: # | B38: Rank | C38: Resultat | D38: Klass | E38: Plats | F38: Datum | G38: Lag
A39: 1 | B39: 1 | C39: 0.0017177083 | D39: F13 | E39: Sollentuna | F39: 42827 | G39: (Nike Isaksson, Sophie Bandh, Estelle Strand, Alice Larsten, Tyra C.Tunander)
A40: 2 | B40: 2 | C40: 0.001734375 | D40: F13 | E40: Sätra | F40: 42477 | G40: (Rakel Wahlberg, Sara Ringqvist, Re Sandström, Fanny Wijkström, Victoria Psilander)
A41: 3 | B41: 3 | C41: 0.0017833333 | D41: F13 | E41: Sollentuna | F41: 43562 | G41: (Sofia Fröberg, Isabelle Ahnmé, Filippa Månsson, Lova Mattson, Maya Swedin)
A42: 4 | B42: 4 | C42: 0.0017925926 | D42: F12 | E42: Sätra | F42: 42477 | G42: (Alicia Larsten, Stella Sajdak, Tyra T-Cedrenius, Liv Gantelius, Nike Isaksson)
A43: 5 | B43: 5 | C43: 0.0018302083 | D43: F13 | E43: Sätra | F43: 42477 | G43: (Rebecka Hagardt, Nora Dahle, Thyra Arnhult, Filippa Almkvist, Tilda Kjerfve)
A44: 6 | B44: 6 | C44: 0.0018408565 | D44: F12 | E44: Sollentuna | F44: 42827 | G44: (Ida Frykhammar, Tyra C-Tunander, Alice Ringqvist, Greta Wedell, Ingrid Kirstein)
A45: 7 | B45: 7 | C45: 0.0018559028 | D45: F12 | E45: Sollentuna | F45: 43205 | G45: (Sofia Fröberg, Ella Thunell, Filippa Månsson, Ester Arkinger, Lova Mattsson)
A46: 8 | B46: 8 | C46: 0.0018626157 | D46: F13 | E46: Sollentuna | F46: 43205 | G46: (Greta Wedell, Cornelia Larsten, Helena Hvalgren, Maria irestedt, Emma Grefberg)
A47: 9 | B47: 9 | C47: 0.0018628472 | D47: F12 | E47: Sollentuna | F47: 42827 | G47: (Ida Egnell, Anja Egnell, Hedda Holmqvist, Ebba Ekström, Ellinor Brinnen)
A48: 10 | B48: 10 | C48: 0.0018693287 | D48: F13 | E48: Sollentuna | F48: 42827 | G48: (Emilie Englund, Malin Fröberg, Maja Hebeler, Emelie Majby, Felicia Majby)
A49: 11 | B49: 11 | C49: 0.0018710648 | D49: F12 | E49: Sollentuna | F49: 42827 | G49: (Alice Lindgren, Amanda Jerner, Cornelia Larsten, Jasmine Holmberg, Julia Barkman)
A50: 12 | B50: 12 | C50: 0.0018972222 | D50: F12 | E50: Sätra | F50: 42477 | G50: (Selma Bruun, Felicia Majby, Emilie Majby, Eleonor Engström, Emilia Englund)
... A53: 15 | B53: 15 | C53: 0.0019636574 | D53: F12 | E53: Sollentuna | F53: 43562 | G53: (Natalie Nordström, Vera Oskarsson, Smilla Ludau, Anja T-Schäder, M.Christernsson)

Sheet Kvinnor övriga grenar
A1: 90 – bästa genom tiderna inomhus 2022, Övriga grenar
A2: Kvinnor
A3: =Kvinnor!$A$3 -> Rev. 2023-04-15
A5: 30m
A6: # | B6: Rank | C6: Resultat | D6: Förnamn | E6: Efternamn | F6: DOB | G6: Ålder | H6: Plats | I6: Datum
A7: 1 | B7: 1 | C7: 4.72 | D7: Kirti | E7: Lickfett | F7: 35588 | G7: =(I7-F7)/365.25 -> 17.519507 | H7: Sätra | I7: 41987
A8: 2 | B8: 1 | C8: 4.72 | D8: Moa | E8: Holm | F8: 36759 | G8: =(I8-F8)/365.25 -> 16.303901 | H8: Sätra | I8: 42714
A9: 3 | B9: 3 | C9: 4.78 | D9: Hanna | E9: Johnsson | F9: 35153 | G9: =(I9-F9)/365.25 -> 18.710472 | H9: Sätra | I9: 41987
A10: 4 | B10: 4 | C10: 4.82 | D10: Ellinor | E10: Lindén | F10: 35673 | G10: =(I10-F10)/365.25 -> 16.271047 | H10: Sätra | I10: 41616
A11: 5 | B11: 5 | C11: 4.82 | D11: Amanda | E11: Bjersér | F11: 35964 | G11: =(I11-F11)/365.25 -> 15.474333 | H11: Sätra | I11: 41616
A12: 6 | B12: 6 | C12: 4.85 | D12: Madeleine | E12: Aulio | F12: 37373 | G12: =(I12-F12)/365.25 -> 15.622177 | H12: Sätra | I12: 43079
A13: 7 | B13: 7 | C13: 4.91 | D13: Moa | E13: Sellergren | F13: 37176 | G13: =(I13-F13)/365.25 -> 15.162218 | H13: Sätra | I13: 42714
A14: 8 | B14: 8 | C14: 4.94 | D14: Fanny | E14: Walldén | F14: 36993 | G14: =(I14-F14)/365.25 -> 15.663244 | H14: Sätra | I14: 42714
A15: 9 | B15: 9 | C15: 4.98 | D15: AnnaSara | E15: Tunelli | F15: 37058 | G15: =(I15-F15)/365.25 -> 18.49692 | H15: Sätra | I15: 43814
A16: 10 | B16: 10 | C16: 5.07 | D16: Alice | E16: Eriksson | F16: 35416 | G16: =(I16-F16)/365.25 -> 16.974675 | H16: Sätra | I16: 41616
A17: 11 | B17: 11 | C17: 5.08 | D17: Amanda | E17: Wictorin | F17: 36956 | G17: =(I17-F17)/365.25 -> 15.764545 | H17: Sätra | I17: 42714
A18: 12 | B18: 12 | C18: 5.19 | D18: Astrid | E18: Bobeck | F18: 36595 | G18: =(I18-F18)/365.25 -> 16.752909 | H18: Sätra | I18: 42714
A20: 40m
A21: # | B21: Rank | C21: Resultat | D21: Förnamn | E21: Efternamn | F21: DOB | G21: Ålder | H21: Plats | I21: Datum
A22: 1 | B22: 1 | C22: 8.78 | D22: Sofia | E22: Fröberg | F22: 39045 | G22: =(I22-F22)/365.25 -> 5.982204 | H22: Huddinge | I22: 41230
A23: 2 | B23: 2 | C23: 10.04 | D23: Live | E23: Holm | F23: 39219 | G23: =(I23-F23)/365.25 -> 5.5058179 | H23: Huddinge | I23: 41230
A25: 2 x 40m, manuella tider
A26: # | B26: Rank | C26: Resultat | D26: Förnamn | E26: Efternamn | F26: DOB | G26: Ålder | H26: Plats | I26: Datum
A27: 1 | B27: 1 | C27: 11.1 | D27: Mirja | E27: Hagar | F27: 19838 | G27: =(I27-F27)/365.25 -> 15.835729 | H27: Stockh/SM | I27: 25622
A28: 2 | B28: 2 | C28: 11.3 | D28: Christine | E28: Tappert | F28: 20059 | G28: =(I28-F28)/365.25 -> 15.230664 | H28: Stockh/SM | I28: 25622
A29: 3 | B29: 3 | C29: 11.4 | D29: Susanne | E29: Embe | F29: 24193 | G29: =(I29-F29)/365.25 -> 15.849418 | H29: Haninge | I29: 29982
A30: 4 | B30: 4 | C30: 11.6 | D30: Anna | E30: Gate | F30: 24206 | G30: =(I30-F30)/365.25 -> 15.813826 | H30: Haninge | I30: 29982
A31: 5 | B31: 4 | C31: 11.6 | D31: Cecilia | E31: Löfgren | F31: 22125 | G31: =(I31-F31)/365.25 -> 14.53525 | H31: Stockholm/D | I31: 27434
A32: 6 | B32: 4 | C32: 11.6 | D32: Christine | E32: Malmenström | F32: 22155 | G32: =(I32-F32)/365.25 -> 14.453114 | H32: Stockholm/D | I32: 27434
A33: 7 | B33: 7 | C33: 11.7 | D33: Charlotta | E33: Nordström | F33: 19725 | G33: =(I33-F33)/365.25 -> 20.093087 | H33: Stockholm/D | I33: 27064
A34: 8 | B34: 7 | C34: 11.7 | D34: Marie | E34: Swartz | F34: 20575 | G34: =(I34-F34)/365.25 -> 17.765914 | H34: Stockholm/D | I34: 27064
A35: 9 | B35: 7 | C35: 11.7 | D35: Karin | E35: Lundgren | F35: 24168 | G35: =(I35-F35)/365.25 -> 15.917864 | H35: Haninge | I35: 29982
A36: 10 | B36: 7 | C36: 11.7 | D36: Lou | E36: Brundin | F36: 21575 | G36: =(I36-F36)/365.25 -> 15.028063 | H36: Stockholm/D | I36: 27064
A37: 11 | B37: 11 | C37: 11.8 | D37: Christina | E37: Andersson | F37: 8629 | G37: =(I37-F37)/365.25 -> 51.463381 | H37: Spårvägshall | I37: 27426
A38: 12 | B38: 11 | C38: 11.8 | D38: Helene | E38: Tappert | F38: 19513 | G38: =(I38-F38)/365.25 -> 16.72553 | H38: Stockh/SM | I38: 25622
... A71: 45 | B71: 45 | C71: 17.6 | D71: Ann | E71: Laurin | F71: 13881 | G71: =(I71-F71)/365.25 -> 16.161533 | H71: Lidingö | I71: 19784
A73: 4 x 40m, manuella tider
A74: # | B74: Rank | C74: Resultat | D74: Förnamn | E74: Efternamn | F74: DOB | G74: Ålder | H74: Plats | I74: Datum
A75: 1 | B75: 1 | C75: 22.1 | D75: Mirja | E75: Hagar | F75: 19838 | G75: =(I75-F75)/365.25 -> 16.689938 | H75: Stockholm | I75: 25934
A76: 2 | B76: 2 | C76: 22.4 | D76: Monika | E76: Lindberg | F76: 19468 | G76: =(I76-F76)/365.25 -> 17.702943 | H76: Stockholm | I76: 25934
A77: 3 | B77: 2 | C77: 22.4 | D77: Marianne | E77: Fabricius | F77: 19543 | G77: =(I77-F77)/365.25 -> 17.497604 | H77: Stockholm | I77: 25934
A78: 4 | B78: 4 | C78: 22.6 | D78: Chloë | E78: Hjertén | F78: 19369 | G78: =(I78-F78)/365.25 -> 16.060233 | H78: Stockholm | I78: 25235
A79: 5 | B79: 5 | C79: 22.8 | D79: Christine | E79: Tappert | F79: 20059 | G79: =(I79-F79)/365.25 -> 16.084873 | H79: Stockholm | I79: 25934
A80: 6 | B80: 6 | C80: 22.9 | D80: Helene | E80: Tappert | F80: 19513 | G80: =(I80-F80)/365.25 -> 17.57974 | H80: Stockholm | I80: 25934
A82: 45m, manuella tider
A83: # | B83: Rank | C83: Resultat | D83: Förnamn | E83: Efternamn | F83: DOB | G83: Ålder | H83: Plats | I83: Datum
A84: 1 | B84: 1 | C84: 6.5 | D84: Sigun | E84: Bjurel | F84: 16240 | G84: =(I84-F84)/365.25 -> 16.703628 | H84: Västerås | I84: 22341
A85: 2 | B85: 2 | C85: 6.6 | D85: Inga | E85: Ohlsson | F85: 15985 | G85: =(I85-F85)/365.25 -> 17.40178 | H85: Västerås | I85: 22341
A86: 3 | B86: 3 | C86: 6.7 | D86: Ingrid | E86: Hasselgren | F86: 15154 | G86: =(I86-F86)/365.25 -> 19.676934 | H86: Västerås | I86: 22341
A87: 4 | B87: 3 | C87: 6.7 | D87: Susanne | E87: Grönberg | F87: 16462 | G87: =(I87-F87)/365.25 -> 16.095825 | H87: Västerås | I87: 22341
A88: 5 | B88: 3 | C88: 6.7 | D88: Anita | E88: Winqvist | F88: 16072 | G88: =(I88-F88)/365.25 -> 17.163587 | H88: Västerås | I88: 22341
A89: 6 | B89: 6 | C89: 6.8 | D89: Simone | E89: Uttergård | F89: 17166 | G89: =(I89-F89)/365.25 -> 14.168378 | H89: Västerås | I89: 22341
A90: 7 | B90: 7 | C90: 7 | D90: Ingrid | E90: Thydén | F90: 18431 | G90: =(I90-F90)/365.25 -> 10.704997 | H90: Västerås | I90: 22341
A91: 8 | B91: 7 | C91: 7 | D91: Maud | E91: Schöld | F91: 15707 | G91: =(I91-F91)/365.25 -> 18.162902 | H91: Västerås | I91: 22341
A92: 9 | B92: 9 | C92: 7.1 | D92: Kerstin | E92: Josefsson | F92: 15707 | G92: =(I92-F92)/365.25 -> 18.162902 | H92: Västerås | I92: 22341
A93: 10 | B93: 9 | C93: 7.1 | D93: Gunnel | E93: Thorén | F93: 15971 | G93: =(I93-F93)/365.25 -> 17.44011 | H93: Västerås | I93: 22341
A94: 11 | B94: 11 | C94: 7.2 | D94: Eva | E94: Drangel | F94: 16546 | G94: =(I94-F94)/365.25 -> 15.865845 | H94: Västerås | I94: 22341
A95: 12 | B95: 11 | C95: 7.2 | D95: Elisabeth | E95: Stigberg | F95: 16898 | G95: =(I95-F95)/365.25 -> 14.902122 | H95: Västerås | I95: 22341
A97: 50m, manuella tider
A98: # | B98: Rank | C98: Resultat | D98: Förnamn | E98: Efternamn | F98: DOB | G98: Ålder | H98: Plats | I98: Datum
A99: 1 | B99: 1 | C99: 6.7 | D99: Anna | E99: Gate | F99: 24206 | G99: =(I99-F99)/365.25 -> 13.913758 | H99: Katrineholm | I99: 29288
A101: 55m, manuella tider
A102: # | B102: Rank | C102: Resultat | D102: Förnamn | E102: Efternamn | F102: DOB | G102: Ålder | H102: Plats | I102: Datum
A103: 1 | B103: 1 | C103: 7.2 | D103: Agneta | E103: Rosenblad | F103: 28359 | G103: =(I103-F103)/365.25 -> 22.398357 | H103: Pullman, US | I103: 36540
A105: 150m
A106: # | B106: Rank | C106: Resultat | D106: Förnamn | E106: Efternamn | F106: DOB | G106: Ålder | H106: Plats | I106: Datum
A107: 1 | B107: 1 | C107: 22.14 | D107: Emelie | E107: Gustafsson | F107: 34760 | G107: =(I107-F107)/365.25 -> 22.869268 | H107: Piteå | I107: 43113
A109: 300m, blandade tider
A110: # | B110: Rank | C110: Resultat | D110: Förnamn | E110: Efternamn | F110: DOB | G110: Ålder | H110: Plats | I110: Datum
A111: 1 | B111: 1 | C111: 41.32 | D111: Charlotte | E111: Schönbeck | F111: 31038 | G111: =(I111-F111)/365.25 -> 18.110883 | H111: Bollnäs | I111: 37653
A112: 2 | B112: 2 | C112: 42.93 | D112: Hanna | E112: Johnsson | F112: 35153 | G112: =(I112-F112)/365.25 -> 18.710472 | H112: Sätra | I112: 41987
A113: 3 | B113: 3 | C113: 43.22 | D113: Nike | E113: Isaksson | F113: 38206 | G113: =(I113-F113)/365.25 -> 12.344969 | H113: Sätra | I113: 42715
A114: 4 | B114: 4 | C114: 43.32 | D114: Madeleine | E114: Aulio | F114: 37373 | G114: =(I114-F114)/365.25 -> 15.622177 | H114: Sätra | I114: 43079
A115: 5 | B115: 5 | C115: 43.48 | D115: Annika | E115: Vänje | F115: 23187 | G115: =(I115-F115)/365.25 -> 23.616701 | H115: Lidingö/B | I115: 31813
A116: 6 | B116: 6 | C116: 43.52 | D116: Elisabeth | E116: Hvalgren | F116: 37405 | G116: =(I116-F116)/365.25 -> 15.534565 | H116: Sätra | I116: 43079
A117: 7 | B117: 7 | C117: 44 | D117: Josefine | E117: Havdelin | F117: 34859 | G117: =(I117-F117)/365.25 -> 20.511978 | H117: Sätra | I117: 42351
A118: 8 | B118: 8 | C118: 40.7 | D118: Pia | E118: Welin | F118: 27951 | G118: =(I118-F118)/365.25 -> 19.589322 | H118: Malmö/A | I118: 35106
A119: 9 | B119: 9 | C119: 41.4 | D119: Carina | E119: Andersson | F119: 24987 | G119: =(I119-F119)/365.25 -> 27.712526 | H119: Lidingö/B | I119: 35109
A120: 10 | B120: 10 | C120: 44.24 | D120: Victoria | E120: Psilander | F120: 37811 | G120: =(I120-F120)/365.25 -> 15.438741 | H120: Sätra | I120: 43450
A121: 11 | B121: 11 | C121: 45.48 | D121: Marika | E121: Nilsonne | F121: 35237 | G121: =(I121-F121)/365.25 -> 16.465435 | H121: Sätra | I121: 41251
A122: 12 | B122: 12 | C122: 45.78 | D122: Alice | E122: Eriksson | F122: 35416 | G122: =(I122-F122)/365.25 -> 16.971937 | H122: Sätra | I122: 41615
... A133: 23 | B133: 23 | C133: 58.45 | D133: Karin | E133: Bohman | F133: 32288 | G133: =(I133-F133)/365.25 -> 10.551677 | H133: Sätra | I133: 36142
A135: 600m, blandade tider
A136: # | B136: Rank | C136: Resultat | D136: Förnamn | E136: Efternamn | F136: DOB | G136: Ålder | H136: Plats | I136: Datum
A137: 1 | B137: 1 | C137: 0.001075463 | D137: Anna | E137: Silvander | F137: 34142 | G137: =(I137-F137)/365.25 -> 24.487337 | H137: Manchester ENG | I137: 43086
A138: 2 | B138: 2 | C138: 0.001090625 | D138: Jessica | E138: Lindén | F138: 25245 | G138: =(I138-F138)/365.25 -> 20.980151 | H138: Karlstad | I138: 32908
A139: 3 | B139: 3 | C139: 0.0011365741 | D139: Kristine | E139: Tånnander | F139: 20414 | G139: =(I139-F139)/365.25 -> 30.193018 | H139: Lidingö/B | I139: 31442
A140: 4 | B140: 4 | C140: 0.0011565972 | D140: Katarina | E140: Hållberg | F140: 24589 | G140: =(I140-F140)/365.25 -> 21.741273 | H140: Haparanda | I140: 32530
A141: 5 | B141: 5 | C141: 0.0011641204 | D141: Lisa | E141: Fröberg | F141: 37344 | G141: =(I141-F141)/365.25 -> 15.701574 | H141: Sätra | I141: 43079
A142: 6 | B142: 6 | C142: 0.0011678241 | D142: Gunilla | E142: Holmqvist | F142: 19925 | G142: =(I142-F142)/365.25 -> 15.63039 | H142: Göteborg/S | I142: 25634
A143: 7 | B143: 7 | C143: 0.001178588 | D143: Ida | E143: Sjöling | F143: 29895 | G143: =(I143-F143)/365.25 -> 15.238877 | H143: Karlstad | I143: 35461
A144: 8 | B144: 8 | C144: 0.0011920139 | D144: Nike | E144: Isaksson | F144: 38206 | G144: =(I144-F144)/365.25 -> 12.498289 | H144: Sätra | I144: 42771
A145: 9 | B145: 9 | C145: 0.0011930556 | D145: Victoria | E145: Psilander | F145: 37811 | G145: =(I145-F145)/365.25 -> 14.518823 | H145: Sätra | I145: 43114
A146: 10 | B146: 10 | C146: 0.0012094907 | D146: Lena | E146: Kriström | F146: 19463 | G146: =(I146-F146)/365.25 -> 17.801506 | H146: Stockholm | I146: 25965
A147: 11 | B147: 11 | C147: 0.0012113426 | D147: Linn | E147: Alness-Borg | F147: 36845 | G147: =(I147-F147)/365.25 -> 16.068446 | H147: Sätra | I147: 42714
A148: 12 | B148: 12 | C148: 0.0012219907 | D148: Madeleine | E148: Aulio | F148: 37373 | G148: =(I148-F148)/365.25 -> 14.795346 | H148: Uddevalla | I148: 42777
... A218: 82 | B218: 82 | C218: 0.0014619213 | D218: Anna | E218: Jacobsson | F218: 33627 | G218: =(I218-F218)/365.25 -> 11.04449 | H218: Sätra | I218: 37661
A221: 1000m, blandade tider
A222: # | B222: Rank | C222: Resultat | D222: Förnamn | E222: Efternamn | F222: DOB | G222: Ålder | H222: Plats | I222: Datum
A223: 1 | B223: 1 | C223: 0.0019224537 | D223: Annika | E223: Ericson | F223: 22132 | G223: =(I223-F223)/365.25 -> 26.609172 | H223: Cosford, EN | I223: 31851
...

Sheet Män
A1: 85 – bästa genom tiderna inomhus 2022
A2: Män
A3: =Kvinnor!$A$3 -> Rev. 2023-04-15
A5: 60m, automatisk tidtagning
A6: # | B6: Rank | C6: Resultat | D6: Förnamn | E6: Efternamn | F6: DOB | G6: Ålder | H6: Plats | I6: Datum
A7: 1 | B7: 1 | C7: 6.8 | D7: Berhane | E7: Haile | F7: 25204 | G7: =(I7-F7)/365.25 -> 22.023272 | H7: Solna | I7: 33248
A8: 2 | B8: 1 | C8: 6.8 | D8: Joakim | E8: Öhman | F8: 27060 | G8: =(I8-F8)/365.25 -> 23.022587 | H8: Göteborg/FH | I8: 35469
A9: 3 | B9: 3 | C9: 6.97 | D9: Mattias | E9: Sunneborn | F9: 25838 | G9: =(I9-F9)/365.25 -> 27.307324 | H9: Solna | I9: 35812
A10: 4 | B10: 4 | C10: 6.99 | D10: Robert | E10: Illes | F10: 23237 | G10: =(I10-F10)/365.25 -> 25.453799 | H10: Solna | I10: 32534
A11: 5 | B11: 4 | C11: 6.99 | D11: Adam | E11: Lindhe | F11: 34431 | G11: =(I11-F11)/365.25 -> 23.827515 | H11: Sätra | I11: 43134
A12: 6 | B12: 6 | C12: 7 | D12: Fredrick | E12: Ekholm | F12: 34500 | G12: =(I12-F12)/365.25 -> 23.660507 | H12: Norrköping | I12: 43142
A13: 7 | B13: 7 | C13: 7.04 | D13: Håkan | E13: Setthammar | F13: 26623 | G13: =(I13-F13)/365.25 -> 22.201232 | H13: Solna | I13: 34732
A14: 8 | B14: 8 | C14: 7.06 | D14: Fredrik | E14: Skoglund | F14: 29656 | G14: =(I14-F14)/365.25 -> 23.983573 | H14: Karlskrona | I14: 38416
A15: 9 | B15: 9 | C15: 7.07 | D15: Johan | E15: Forsberg | F15: 33736 | G15: =(I15-F15)/365.25 -> 19.802875 | H15: Göteborg/FH | I15: 40969
A16: 10 | B16: 10 | C16: 7.09 | D16: Andreas | E16: Otterling | F16: 31557 | G16: =(I16-F16)/365.25 -> 31.676934 | H16: Uppsala | I16: 43127
A17: 11 | B17: 11 | C17: 7.12 | D17: Julian | E17: Benites | F17: 25364 | G17: =(I17-F17)/365.25 -> 26.622861 | H17: Solna | I17: 35088
A18: 12 | B18: 11 | C18: 7.12 | D18: Timothy | E18: Lundqvist | F18: 33784 | G18: =(I18-F18)/365.25 -> 18.622861 | H18: Sätra | I18: 40586
... A96: 90 | B96: 90 | C96: 7.75 | D96: Edvin | E96: Unger | F96: 38378 | G96: =(I96-F96)/365.25 -> 17.048597 | H96: Sätra | I96: 44605
A98: 60m, manuell tidtagning
A99: # | B99: Rank | C99: Resultat | D99: Förnamn | E99: Efternamn | F99: DOB | G99: Ålder | H99: Plats | I99: Datum
A100: 1 | B100: 1 | C100: 6.9 | D100: Bo | E100: Söderberg | F100: 19521 | G100: =(I100-F100)/365.25 -> 16.736482 | H100: Göteborg/S | I100: 25634
A101: 2 | B101: 1 | C101: 6.9 | D101: Holger | E101: Schwalbe | F101: 19369 | G101: =(I101-F101)/365.25 -> 17.152635 | H101: Göteborg/S | I101: 25634
A102: 3 | B102: 1 | C102: 6.9 | D102: Björn | E102: Wilhelmsson | F102: 20961 | G102: =(I102-F102)/365.25 -> 21.68104 | H102: Sundbyberg | I102: 28880
A103: 4 | B103: 4 | C103: 7 | D103: Anders | E103: Jacobsson | F103: 19166 | G103: =(I103-F103)/365.25 -> 16.717317 | H103: Göteborg/S | I103: 25272
A104: 5 | B104: 4 | C104: 7 | D104: Peter | E104: Hoogeveen | F104: 19438 | G104: =(I104-F104)/365.25 -> 18.902122 | H104: Göteborg/S | I104: 26342
A105: 6 | B105: 6 | C105: 7.1 | D105: Gunnar | E105: Nilsson | F105: 21071 | G105: =(I105-F105)/365.25 -> 17.475702 | H105: Göteborg/S | I105: 27454
A106: 7 | B106: 6 | C106: 7.1 | D106: Göran | E106: Åslev | F106: 20221 | G106: =(I106-F106)/365.25 -> 16.758385 | H106: Göteborg/S | I106: 26342
A107: 8 | B107: 6 | C107: 7.1 | D107: Åke | E107: Rosenius | F107: 20833 | G107: =(I107-F107)/365.25 -> 22.031485 | H107: Sundbyberg | I107: 28880
A108: 9 | B108: 9 | C108: 7.2 | D108: Nicholaus | E108: Diedrichsen | F108: 22094 | G108: =(I108-F108)/365.25 -> 18.579055 | H108: Sundbyberg | I108: 28880
A109: 10 | B109: 9 | C109: 7.2 | D109: Anders | E109: Rosell | F109: 23921 | G109: =(I109-F109)/365.25 -> 15.608487 | H109: Södertälje | I109: 29622
A110: 11 | B110: 11 | C110: 7.4 | D110: Johan | E110: Ruthberg | F110: 19648 | G110: =(I110-F110)/365.25 -> 16.388775 | H110: Göteborg/S | I110: 25634
A111: 12 | B111: 11 | C111: 7.4 | D111: Ulrik | E111: Sköldkvist | F111: 34564 | G111: =(I111-F111)/365.25 -> 15.597536 | H111: Lidingö/B | I111: 40261
... A152: 53 | B152: 52 | C152: 9 | D152: Erik | E152: Marton-Åsgrim | F152: 36528 | G152: =(I152-F152)/365.25 -> 10.220397 | H152: Lidingö/B | I152: 40261
A154: 200m, automatisk tidtagning
A155: # | B155: Rank | C155: Resultat | D155: Förnamn | E155: Efternamn | F155: DOB | G155: Ålder | H155: Plats | I155: Datum
A156: 1 | B156: 1 | C156: 21.37 | D156: Mattias | E156: Sunneborn | F156: 25838 | G156: =(I156-F156)/365.25 -> 26.329911 | H156: Malmö/A | I156: 35455
A157: 2 | B157: 2 | C157: 21.68 | D157: Joakim | E157: Öhman | F157: 27241 | G157: =(I157-F157)/365.25 -> 22.507871 | H157: Göteborg/FH | I157: 35462
A158: 3 | B158: 3 | C158: 22.52 | D158: Martin | E158: Enholm | F158: 23780 | G158: =(I158-F158)/365.25 -> 20.898015 | H158: Lidingö/B | I158: 31413
A159: 4 | B159: 4 | C159: 22.54 | D159: Julian | E159: Benites | F159: 25364 | G159: =(I159-F159)/365.25 -> 29.678303 | H159: Sätra | I159: 36204
A160: 5 | B160: 5 | C160: 22.56 | D160: Robert | E160: Illes | F160: 23237 | G160: =(I160-F160)/365.25 -> 25.494867 | H160: Lidingö/B | I160: 32549
A161: 6 | B161: 6 | C161: 22.57 | D161: Mikael | E161: Ekman | F161: 24420 | G161: =(I161-F161)/365.25 -> 23.208761 | H161: Lidingö/B | I161: 32897
A162: 7 | B162: 7 | C162: 22.64 | D162: Stefan | E162: Nilsson | F162: 20154 | G162: =(I162-F162)/365.25 -> 34.924025 | H162: Lidingö/B | I162: 32910
A163: 8 | B163: 8 | C163: 22.73 | D163: Ronnie | E163: Sköld | F163: 24947 | G163: =(I163-F163)/365.25 -> 31.761807 | H163: Sätra | I163: 36548
A164: 9 | B164: 9 | C164: 22.78 | D164: Andreas | E164: Movin | F164: 35267 | G164: =(I164-F164)/365.25 -> 19.509925 | H164: Lidingö/B | I164: 42393
A165: 10 | B165: 10 | C165: 22.8 | D165: Erik | E165: Hermelin | F165: 35174 | G165: =(I165-F165)/365.25 -> 19.764545 | H165: Lidingö/B | I165: 42393
A166: 11 | B166: 11 | C166: 22.84 | D166: Martin | E166: Theander | F166: 28386 | G166: =(I166-F166)/365.25 -> 23.323751 | H166: Sätra | I166: 36905
A167: 12 | B167: 12 | C167: 22.87 | D167: Massimo | E167: Bianchessi | F167: 22678 | G167: =(I167-F167)/365.25 -> 28.996578 | H167: Lidingö/B | I167: 33269
... A219: 64 | B219: 64 | C219: 24.91 | D219: Colin | E219: von Hofsten | F219: 37750 | G219: =(I219-F219)/365.25 -> 15.660507 | H219: Uppsala | I219: 43470
A220: 65 | B220: 65 | C220: 24,9e | D220: Thomas | E220: Gustavsson | F220: 24182 | G220: =(I220-F220)/365.25 -> 18.858316 | H220: Lidingö/B | I220: 31070
A221: 66 | B221: 66 | C221: 25.02 | D221: Roger | E221: Granstedt | F221: 23849 | G221: =(I221-F221)/365.25 -> 23.739904 | H221: Lidingö/B | I221: 32520
A222: 67 | B222: 66 | C222: 25.02 | D222: Allan | E222: Sembatimba | F222: 25631 | G222: =(I222-F222)/365.25 -> 19.770021 | H222: Lidingö/B | I222: 32852
A223: 68 | B223: 68 | C223: 25.14 | D223: Thomas | E223: Wendel | F223: 26101 | G223: =(I223-F223)/365.25 -> 19.624914 | H223: Lidingö/B | I223: 33269
A224: 69 | B224: 69 | C224: 25.15 | D224: Anders | E224: Håkansson | F224: 26728 | G224: =(I224-F224)/365.25 -> 15.909651 | H224: Lidingö/B | I224: 32539
A225: 70 | B225: 70 | C225: 25.18 | D225: Joakim | E225: Dahlin | F225: 31373 | G225: =(I225-F225)/365.25 -> 18.132786 | H225: Sätra | I225: 37996
A226: 71 | B226: 71 | C226: 25.2 | D226: Björn | E226: Almström | F226: 33274 | G226: =(I226-F226)/365.25 -> 15.975359 | H226: Karlstad | I226: 39109
A227: 72 | B227: 72 | C227: 25.21 | D227: Fredrik | E227: Bäckström | F227: 28729 | G227: =(I227-F227)/365.25 -> 15.293634 | H227: Lidingö/B | I227: 34315
A228: 73 | B228: 73 | C228: 25.26 | D228: Jens | E228: Wagndal | F228: 26188 | G228: =(I228-F228)/365.25 -> 15.386721 | H228: Solna | I228: 31808
A229: 74 | B229: 74 | C229: 25.32 | D229: Markus | E229: Simko | F229: 31143 | G229: =(I229-F229)/365.25 -> 18.762491 | H229: Sätra | I229: 37996
A230: 75 | B230: 75 | C230: 25.36 | D230: Jakob | E230: Krumlinde | F230: 36173 | G230: =(I230-F230)/365.25 -> 18.023272 | H230: Lidingö/B | I230: 42756
A231: 76 | B231: 76 | C231: 25.38 | D231: Abdullahi | E231: Hassan | F231: 21895 | G231: =(I231-F231)/365.25 -> 28.125941 | H231: Lidingö/B | I231: 32168
A232: 77 | B232: 77 | C232: 25.39 | D232: Kenneth | E232: Dahlin | F232: 24712 | G232: =(I232-F232)/365.25 -> 17.355236 | H232: Lidingö/B | I232: 31051
... A241: 86 | B241: 86 | C241: 26.32 | D241: Tobias | E241: Rauch | F241: 27299 | G241: =(I241-F241)/365.25 -> 47.132101 | H241: Västerås | I241: 44514
A242: 87 | B242: 87 | C242: 26,77 | D242: Björn | E242: Flemsäter | F242: 25033 | G242: =(I242-F242)/365.25 -> 53.336071 | H242: Västerås | I242: 44514
A243: 88 | B243: 88 | C243: 27,45 | D243: Filip | E243: Thunell | F243: 39994 | G243: =(I243-F243)/365.25 -> 12.73922 | H243: Örebro | I243: 44647
A244: 89 | B244: 89 | C244: 27.46 | D244: Anders | E244: Folkesson-Ejendal | F244: 24917 | G244: =(I244-F244)/365.25 -> 53.979466 | H244: Sätra | I244: 44633
A245: 90 | B245: 90 | C245: 27,79 | D245: Magnus | E245: Angenfelt | F245: 22511 | G245: =(I245-F245)/365.25 -> 60.605065 | H245: Västerås | I245: 44647
A247: 400m, automatisk tidtagning
A248: # | B248: Rank | C248: Resultat | D248: Förnamn | E248: Efternamn | F248: DOB | G248: Ålder | H248: Plats | I248: Datum
A249: 1 | B249: 1 | C249: 48.14 | D249: Martin | E249: Enholm | F249: 23780 | G249: =(I249-F249)/365.25 -> 30.05065 | H249: Malmö | I249: 34756
A250: 2 | B250: 2 | C250: 48.91 | D250: Niclas | E250: Norling | F250: 26030 | G250: =(I250-F250)/365.25 -> 23.890486 | H250: Malmö | I250: 34756
A251: 3 | B251: 3 | C251: 49.18 | D251: Anders | E251: Rosell | F251: 23921 | G251: =(I251-F251)/365.25 -> 18.162902 | H251: Lidingö | I251: 30555
A252: 4 | B252: 4 | C252: 49.24 | D252: Martin | E252: Theander | F252: 28386 | G252: =(I252-F252)/365.25 -> 24.416153 | H252: Malmö | I252: 37304
A253: 5 | B253: 5 | C253: 49.5 | D253: Martin | E253: Frodlund | F253: 25685 | G253: =(I253-F253)/365.25 -> 18.740589 | H253: Lidingö | I253: 32530
A254: 6 | B254: 6 | C254: 49.67 | D254: Mikael | E254: Ekman | F254: 24420 | G254: =(I254-F254)/365.25 -> 23.27447 | H254: Göteborg | I254: 32921
A255: 7 | B255: 7 | C255: 50.01 | D255: Peter | E255: Bring | F255: 23845 | G255: =(I255-F255)/365.25 -> 21.746749 | H255: Lidingö | I255: 31788
A256: 8 | B256: 8 | C256: 50.26 | D256: Stefan | E256: Tansbo | F256: 24514 | G256: =(I256-F256)/365.25 -> 21.946612 | H256: Lidingö | I256: 32530
A257: 9 | B257: 9 | C257: 50.29 | D257: Marcus | E257: Mårtensson | F257: 35046 | G257: =(I257-F257)/365.25 -> 16.205339 | H257: Bollnäs | I257: 40965
A258: 10 | B258: 10 | C258: 50.3 | D258: Andreas | E258: Movin | F258: 35267 | G258: =(I258-F258)/365.25 -> 20.583162 | H258: Göteborg/FH | I258: 42785
A259: 11 | B259: 11 | C259: 50.42 | D259: Jan | E259: Erlandsson | F259: 26366 | G259: =(I259-F259)/365.25 -> 24.980151 | H259: Göteborg | I259: 35490
A260: 12 | B260: 12 | C260: 50.46 | D260: David | E260: Scott | F260: 26858 | G260: =(I260-F260)/365.25 -> 24.629706 | H260: Göteborg | I260: 35854
... A334: 86 | B334: 86 | C334: 0.00070034722 | D334: Anders | E334: Hållberg | F334: 30014 | G334: =(I334-F334)/365.25 -> 36 | H334: Västerås | I334: 43163
A336: 400m, manuell tidtagning
A337: # | B337: Rank | C337: Resultat | D337: Förnamn | E337: Efternamn | F337: DOB | G337: Ålder | H337: Plats | I337: Datum
A338: 1 | B338: 1 | C338: 51.5 | D338: Massimo | E338: Bianchessi | F338: 22678 | G338: =(I338-F338)/365.25 -> 22.036961 | H338: Lidingö | I338: 30727
A339: 2 | B339: 2 | C339: 51.8 | D339: Ulf | E339: Saletti | F339: 19088 | G339: =(I339-F339)/365.25 -> 18.902122 | H339: Stockholm/J | I339: 25992
A340: 3 | B340: 3 | C340: 53.5 | D340: Göran | E340: Bylund | F340: 19131 | G340: =(I340-F340)/365.25 -> 26.696783 | H340: Göteborg | I340: 28882
A341: 4 | B341: 4 | C341: 53.8 | D341: Johan | E341: Lindhé | F341: 21385 | G341: =(I341-F341)/365.25 -> 20.525667 | H341: Göteborg | I341: 28882
A342: 5 | B342: 5 | C342: 54.3 | D342: Johnny | E342: Dahlin | F342: 24007 | G342: =(I342-F342)/365.25 -> 18.398357 | H342: Lidingö | I342: 30727
A343: 6 | B343: 6 | C343: 0.0009212963 | D343: Jonathan | E343: Westerberg | F343: 37261 | G343: =(I343-F343)/365.25 -> 9.2594114 | H343: Lidingö/B | I343: 40643
A344: 7 | B344: 7 | C344: 1,20,0 | D344: Filip | E344: Wallin | F344: 37128 | G344: =(I344-F344)/365.25 -> 9.6235455 | H344: Lidingö/B | I344: 40643
A345: 8 | B345: 8 | C345: 1,20,6 | D345: Jacob | E345: Klinth | F345: 37128 | G345: =(I345-F345)/365.25 -> 9.6235455 | H345: Lidingö/B | I345: 40643
A346: 9 | B346: 9 | C346: 0.00099074074 | D346: Erik | E346: Hägge-Lundberg | F346: 37391 | G346: =(I346-F346)/365.25 -> 8.9034908 | H346: Lidingö/B | I346: 40643
A347: 10 | B347: 10 | C347: 0.00099537037 | D347: Sven | E347: Dahlman | F347: 37195 | G347: =(I347-F347)/365.25 -> 9.4401095 | H347: Lidingö/B | I347: 40643
A348: 11 | B348: 11 | C348: 0.0011145833 | D348: Ludvig | E348: Wistam | F348: 37563 | G348: =(I348-F348)/365.25 -> 8.4325804 | H348: Lidingö/B | I348: 40643
A349: 12 | B349: 12 | C349: 0.0011168981 | D349: Gustav | E349: Andersson | F349: 37360 | G349: =(I349-F349)/365.25 -> 8.9883641 | H349: Lidingö/B | I349: 40643
A351: 800m, blandade tider
A352: # | B352: Rank | C352: Resultat | D352: Förnamn | E352: Efternamn | F352: DOB | G352: Ålder | H352: Plats | I352: Datum
A353: 1 | B353: 1 | C353: 0.0012258102 | D353: Martin | E353: Enholm | F353: 23780 | G353: =(I353-F353)/365.25 -> 27.039014 | H353: Birming, ENG | I353: 33656
A354: 2 | B354: 2 | C354: 0.0012936343 | D354: Pär | E354: Nilsson | F354: 24517 | G354: =(I354-F354)/365.25 -> 20.947296 | H354: Lidingö | I354: 32168
A355: 3 | B355: 3 | C355: 0.0013033565 | D355: Magnus | E355: Falk | F355: 26466 | G355: =(I355-F355)/365.25 -> 23.671458 | H355: USL, US | I355: 35112
...

Sheet Män mångkamp
A1: 85 – bästa genom tiderna inomhus 2022, mångkamp
A2: Män
A3: =Kvinnor!$A$3 -> Rev. 2023-04-15
A5: Sjukamp
A6: # | B6: Rank | C6: Resultat | D6: Förnamn | E6: Efternamn | F6: DOB | G6: Ålder | H6: Plats | I6: Datum | J6: Delresultat
A7: 1 | B7: 1 | C7: 5811 | D7: Michael | E7: Hoffer | F7: 26486 | G7: =(I7-F7)/365.25 -> 26.590007 | H7: Karlstad | I7: 36198 | J7: (7,14-709-1400-203-8,10-478-2.48,23)
A8: 2 | B8: 2 | C8: 5682 | D8: Fredrick | E8: Ekholm | F8: 34500 | G8: =(I8-F8)/365.25 -> 23.660507 | H8: Norrköping | I8: 43142 | J8: (7,00-700-1313-205-7,98-475-3.02,45)
A9: 3 | B9: 3 | C9: 5258 | D9: Stefan | E9: Henriksson | F9: 23496 | G9: =(I9-F9)/365.25 -> 23.756331 | H9: Karlstad | I9: 32173 | J9: (7,52-659-1300-205-8,51-410-2.45,46)
A10: 4 | B10: 4 | C10: 5138 | D10: Jonathan | E10: Hallgren | F10: 29661 | G10: =(I10-F10)/365.25 -> 20.963723 | H10: Sätra | I10: 37318 | J10: (7,17-701-1131-204-8,40-386-3.03,41)
A11: 5 | B11: 5 | C11: 5043 | D11: Håkan | E11: Fjaestad | F11: 23063 | G11: =(I11-F11)/365.25 -> 21.0705 | H11: Solna | I11: 30759 | J11: (7,43-678-1379-194-8,82-350,2.45,52)
A12: 6 | B12: 6 | C12: 4954 | D12: David | E12: Dunér | F12: 25583 | G12: =(I12-F12)/365.25 -> 23.04449 | H12: Malmö/A | I12: 34000 | J12: (7,65-647-1123-194-8,70-465-2.59,26)
A13: 7 | B13: 7 | C13: 4900 | D13: Fredrik | E13: Skoglund | F13: 29656 | G13: =(I13-F13)/365.25 -> 20.977413 | H13: Sätra | I13: 37318 | J13: (7,19-665-1110-180-9,29-476-3.01,13)
A14: 8 | B14: 8 | C14: 4774 | D14: Andreas | E14: Wågberg | F14: 28026 | G14: =(I14-F14)/365.25 -> 22.373717 | H14: Karlstad | I14: 36198 | J14: (7,68-615-1198-188-8,74-448-3.02,48)
A15: 9 | B15: 9 | C15: 4714 | D15: Klas | E15: Persson | F15: 29189 | G15: =(I15-F15)/365.25 -> 22.255989 | H15: Sätra | I15: 37318 | J15: (7,60-643-981-189-9,50-466-2.53,87)
A16: 10 | B16: 10 | C16: 4556 | D16: Håkan | E16: Setthammar | F16: 26623 | G16: =(I16-F16)/365.25 -> 20.197125 | H16: Malmö | I16: 34000 | J16: (9,20-375-???)
A17: 11 | B17: 11 | C17: 4293 | D17: Thomas | E17: Gustavsson | F17: 21276 | G17: =(I17-F17)/365.25 -> 23.838467 | H17: Stockholm | I17: 29983 | J17: (delresultat saknas)
A19: Sjukamp, P18/19
A20: # | B20: Rank | C20: Resultat | D20: Förnamn | E20: Efternamn | F20: DOB | G20: Ålder | H20: Plats | I20: Datum | J20: Delresultat
A21: 1 | B21: 1 | C21: 5033 | D21: Michael | E21: Hoffer | F21: 26486 | G21: =(I21-F21)/365.25 -> 17.582478 | H21: Karlstad | I21: 32908 | J21: (7,42-400-655-8,45-200-1210-2.58,55)
A22: 2 | B22: 2 | C22: 4931 | D22: Robin | E22: Isaksson | F22: 37432 | G22: =(I22-F22)/365.25 -> 17.607118 | H22: Sollentuna | I22: 43863 | J22: (7,38-415-669-8,97-174-1185-2.41,81)
A23: 3 | B23: 3 | C23: 4912 | D23: Patrik | E23: Keskitalo | F23: 26894 | G23: =(I23-F23)/365.25 -> 17.456537 | H23: Växjö | I23: 33270 | J23: (7,50-441-665-8,67-191-??-3.00,76)
A24: 4 | B24: 4 | C24: 4882 | D24: David | E24: Dunér | F24: 25584 | G24: =(I24-F24)/365.25 -> 18.039699 | H24: Karlstad | I24: 32173 | J24: (delresultat saknas)
A25: 5 | B25: 5 | C25: 4823 | D25: Fredrik | E25: Bäckström | F25: 28729 | G25: =(I25-F25)/365.25 -> 17.44011 | H25: Göteborg | I25: 35099 | J25: (7,50-402-653-8,72-192-1095-2.56,39)
A26: 6 | B26: 6 | C26: 4172 | D26: Johan | E26: Helin | F26: 28913 | G26: =(I26-F26)/365.25 -> 16.936345 | H26: Göteborg | I26: 35099 | J26: (7,48-292-605-9,44-177-1103-2.54,82)
A28: Sjukamp, P16/17
A29: # | B29: Rank | C29: Resultat | D29: Förnamn | E29: Efternamn | F29: DOB | G29: Ålder | H29: Plats | I29: Datum | J29: Delresultat
A30: 1 | B30: 1 | C30: 4734 | D30: Michael | E30: Hoffer | F30: 26486 | G30: =(I30-F30)/365.25 -> 15.731691 | H30: Solna | I30: 32232 | J30: (7,93-340-583-9,10-180-1102-1.41,27/600m)
A31: 2 | B31: 2 | C31: 4293 | D31: Robin | E31: Isaksson | F31: 37432 | G31: =(I31-F31)/365.25 -> 15.556468 | H31: Sätra | I31: 43114 | J31: (7,55-322-590-9,03-161-1196-2.07,16/800m)
A32: 3 | B32: 3 | C32: 3790 | D32: Johan | E32: Strand | F32: 27208 | G32: =(I32-F32)/365.25 -> 15.701574 | H32: Solna | I32: 32943 | J32: (7,91-243-557-9,77-157-894-1.46,15/600m)
A33: 4 | B33: 4 | C33: 3742 | D33: Carl | E33: Frisk | F33: 27496 | G33: =(I33-F33)/365.25 -> 14.913073 | H33: Solna | I33: 32943 | J33: (9,33-263-530-10,98-169-833-1.36,22/600m)
A35: Sjukamp, P15
A36: # | B36: Rank | C36: Resultat | D36: Förnamn | E36: Efternamn | F36: DOB | G36: Ålder | H36: Plats | I36: Datum | J36: Delresultat
A37: 1 | B37: 1 | C37: 3 651 | D37: Erik | E37: Hermelin | F37: 35174 | G37: =(I37-F37)/365.25 -> 14.817248 | H37: Norrköping | I37: 40586 | J37: (7,82-285-505-9,29-163-995-1.33,09)
A38: 2 | B38: 2 | C38: 3 292 | D38: Arvid | E38: Askensjö | F38: 36895 | G38: =(I38-F38)/365.25 -> 15.186858 | H38: Göteborg | I38: 42442 | J38: (8,14-294-514-9,70-152-1025-1.41,57)
A39: 3 | B39: 3 | C39: 2 395 | D39: Albin | E39: Andersson | F39: 36565 | G39: =(I39-F39)/365.25 -> 13.924709 | H39: Sätra | I39: 41651 | J39: (8,47-251-466-10,09-142-565-1.54,38)
A40: 4 | B40: 4 | C40: 2 ??? | D40: Julius | E40: Mördrup | F40: 37376 | G40: =(I40-F40)/365.25 -> 13.697467 | H40: Sätra | I40: 42379 | J40: (9,39-154-405-11,42-148-777-1.??)
A42: Femkamp
A43: # | B43: Rank | C43: Resultat | D43: Förnamn | E43: Efternamn | F43: DOB | G43: Ålder | H43: Plats | I43: Datum | J43: Delresultat
A44: 1 | B44: 1 | C44: 3856 | D44: Michael | E44: Hoffer | F44: 26486 | G44: =(I44-F44)/365.25 -> 20.659822 | H44: Manhattan, US | I44: 34032 | J44: (?-1306-459-?-?)
A46: Femkamp, M35/40 (60h(1,00)-längd-kula-höjd-1000)
A47: # | B47: Rank | C47: Resultat | D47: Förnamn | E47: Efternamn | F47: DOB | G47: Ålder | H47: Plats | I47: Datum | J47: Delresultat
A48: 1 | B48: 1 | C48: 2506 | D48: Peter | E48: Blom | F48: 29134 | G48: =(I48-F48)/365.25 -> 36.358658 | H48: Nyköping | I48: 42414 | J48: (10,66-592785-186-3.37,31)
A49: 2 | B49: 2 | C49: 2419 | D49: Jens | E49: Falk | F49: 26530 | G49: =(I49-F49)/365.25 -> 44.481862 | H49: Nyköping | I49: 42777 | J49: (11,27-453-796-152-3.34,23)
A51: Femkamp, M70
A52: # | B52: Rank | C52: Resultat | D52: Förnamn | E52: Efternamn | F52: DOB | G52: Ålder | H52: Plats | I52: Datum | J52: Delresultat
A53: 1 | B53: 1 | C53: 2 696 | D53: Inge | E53: Hermansson | F53: 16665 | G53: =(I53-F53)/365.25 -> 73.273101 | H53: Linköping | I53: 43428 | J53: (12,65-329-847-124-4.49,39)
A55: Fyrkamp, P13/14 (60 häck,kula (3,0), längd, höjd)
A56: # | B56: Rank | C56: Resultat | D56: Förnamn | E56: Efternamn | F56: DOB | G56: Ålder | H56: Plats | I56: Datum | J56: Delresultat
A57: 1 | B57: 1 | C57: 3483 | D57: Elias | E57: Sahlin | F57: 36903 | G57: =(I57-F57)/365.25 -> 12.999316 | H57: Sätra | I57: 41651 | J57: (10,36-489-821-160)
A58: 2 | B58: 2 | C58: 3156 | D58: Arvid | E58: Askensjö | F58: 37260 | G58: =(I58-F58)/365.25 -> 12.021903 | H58: Sätra | I58: 41651 | J58: (10,40-479-808-136)
A59: 3 | B59: 3 | C59: 3002 | D59: Robin | E59: Isaksson | F59: 37432 | G59: =(I59-F59)/365.25 -> 12.54757 | H59: Sätra | I59: 42015 | J59: (10,49-459-955-118)
A60: 4 | B60: 4 | C60: 2684 | D60: Albin | E60: Andersson | F60: 36565 | G60: =(I60-F60)/365.25 -> 12.925394 | H60: Sätra | I60: 41286 | J60: (10,72-517-452-137)
A61: 5 | B61: 5 | C61: 2572 | D61: Per | E61: Söderqvist | F61: 27036 | G61: =(I61-F61)/365.25 -> 14.214921 | H61: Stockholm/D | I61: 32228 | J61: (15,0-1177-467-156)
A62: 6 | B62: 6 | C62: 2456 | D62: Carl | E62: Frisk | F62: 27496 | G62: =(I62-F62)/365.25 -> 12.95551 | H62: Stockholm/D | I62: 32228 | J62: ( ?-867-467-164)
A63: 7 | B63: 7 | C63: 2406 | D63: Julius | E63: Mördrup | F63: 37376 | G63: =(I63-F63)/365.25 -> 12.70089 | H63: Sätra | I63: 42015 | J63: (11,79-395-612-136)
A64: 8 | B64: 8 | C64: 2210 | D64: Mattias | E64: Lindholm | F64: 27800 | G64: =(I64-F64)/365.25 -> 14.105407 | H64: Stockholm/D | I64: 32952 | J64: (13,09-862-529-141)
A65: 9 | B65: 9 | C65: 2127 | D65: Elias | E65: Belfrage | F65: 37841 | G65: =(I65-F65)/365.25 -> 11.427789 | H65: Sätra | I65: 42015 | J65: (12,12-380-645-118)
A66: 10 | B66: 10 | C66: 1632 | D66: Mattias | E66: Åkerlund | F66: 28118 | G66: =(I66-F66)/365.25 -> 13.234771 | H66: Stockholm/D | I66: 32952 | J66: (15,45-806-440-153)
A68: Fyrkamp (2x40 häck, längd, kula, höjd)
A69: # | B69: Rank | C69: Resultat | D69: Förnamn | E69: Efternamn | F69: DOB | G69: Ålder | H69: Plats | I69: Datum | J69: Delresultat
A70: 1 | B70: 1 | C70: 3000 | D70: Torkel | E70: Brismar | F70: 25718 | G70: =(I70-F70)/365.25 -> 13.724846 | H70: Stockholm/D | I70: 30731 | J70: (13,6-523-920-151)
A71: 2 | B71: 2 | C71: 1667 | D71: Daniel | E71: Berglund | F71: 24358 | G71: =(I71-F71)/365.25 -> 13.478439 | H71: Stockholm | I71: 29281 | J71: (15,5-435-610-125)
A73: Fyrkamp, P11 (60h-längd-kula-höjd)
A74: # | B74: Rank | C74: Resultat | D74: Förnamn | E74: Efternamn | F74: DOB | G74: Ålder | H74: Plats | I74: Datum | J74: Delresultat
A75: 1 | B75: 1 | C75: 1 954 | D75: Fabian | E75: Gyldén-Svensson | F75: 38567 | G75: =(I75-F75)/365.25 -> 10.436687 | H75: Sätra | I75: 42379 | J75: (13,54-366-745-139)
A77: Trekamp, P12 (60 häck, höjd, längd)
A78: # | B78: Rank | C78: Resultat | D78: Förnamn | E78: Efternamn | F78: DOB | G78: Ålder | H78: Plats | I78: Datum | J78: Delresultat
A79: 1 | B79: 1 | C79: 3147 | D79: Erik | E79: Hermelin | F79: 35165 | G79: =(I79-F79)/365.25 -> 12.963723 | H79: Nyköping | I79: 39900 | J79: (10,63-145-458)
A81: Trekamp, P12 (60 häck, höjd, längd)
A82: # | B82: Rank | C82: Resultat | D82: Förnamn | E82: Efternamn | F82: DOB | G82: Ålder | H82: Plats | I82: Datum | J82: Delresultat
A83: 1 | B83: 1 | C83: 1612 | D83: Joakim | E83: Dahlin | F83: 31373 | G83: =(I83-F83)/365.25 -> 11.154004 | H83: Solna | I83: 35447 | J83: (?-?-685)
A84: 2 | B84: 2 | C84: 1296 | D84: Marcus | E84: Holmström | F84: 32320 | G84: =(I84-F84)/365.25 -> 11.570157 | H84: Sätra | I84: 36546 | J84: (9,77-383-528)

Sheet Män stafett
A1: 85 – bästa genom tiderna inomhus 2022, Stafett
A2: Män
A3: =Kvinnor!$A$3 -> Rev. 2023-04-15
A5: 4x200m
A6: # | B6: Rank | C6: Resultat | D6: Klass | E6: Plats | F6: Datum | G6: Lag
A7: 1 | B7: 1 | C7: 0.001037037 | D7: MS | E7: Lidingö | F7: 32891 | G7: (Berhane Haile, Mikael Ekman, Martin Enholm, Stefan Nilsson)
A8: 2 | B8: 2 | C8: 0.0010635417 | D8: MS | E8: Lidingö | F8: 33645 | G8: (Håkan Fjaestad, Christer Larsson, Johan Strand, Martin Enholm)
A9: 3 | B9: 3 | C9: 0.0010836806 | D9: MS | E9: Lidingö | F9: 34745 | G9: (Martin Theander, Jonas Brodén, John Norling, Niclas Norling)
A10: 4 | B10: 4 | C10: 0.0010846065 | D10: MS | E10: Lidingö | F10: 34381 | G10: (Håkan Setthammar, Martin Theander, Christer Larsson, Yavar Moazzami)
A11: 5 | B11: 5 | C11: 0.001093287 | D11: MS | E11: Lidingö | F11: 32891 | G11: (Martin Frodlund, Christer Larsson, Johan Lindén, Allan Kaweesa)
A12: 6 | B12: 6 | C12: 0.0011046296 | D12: MS | E12: Lidingö | F12: 34745 | G12: (Anders Johansson, Göran Blomqvist, Andreas Wågberg, Peter Eriksson)
A13: 7 | B13: 7 | C13: 0.0011232639 | D13: MS | E13: Göteborg | F13: 33614 | G13: (Mattias Lindholm, Johan Strand, Carl Frisk, Jesper Arkinger)
A14: 8 | B14: 8 | C14: 0.0012311343 | D14: MS | E14: Sätra | F14: 36604 | G14: (Leif Eklund, Rezze Aboreslan, Ingvar Lindqvist, Majid Al-Jaderi)
A15: 9 | B15: 9 | C15: 0.0012358796 | D15: MS | E15: Göteborg | F15: 33614 | G15: (Martin Theander, Mikael Theander, Andreas Wågberg, Tobias Nordqvist)
A16: 10 | B16: 10 | C16: 0.0012890046 | D16: VET | E16: Borås | F16: 42071 | G16: (Dick Levin, Peter Wergens, Anthony Treacher, Magnus Nilsson)

Sheet Män övriga grenar
A1: 85 – bästa genom tiderna inomhus 2022, Övriga grenar
A2: Män
A3: =Kvinnor!$A$3 -> Rev. 2023-04-15
A5: 30m, automatisk tidtagning
A6: # | B6: Rank | C6: Resultat | D6: Förnamn | E6: Efternamn | F6: DOB | G6: Ålder | H6: Plats | I6: Datum
A7: 1 | B7: 1 | C7: 4.16 | D7: David | E7: Århammar | F7: 37326 | G7: =(I7-F7)/365.25 -> 17.763176 | H7: Sätra | I7: 43814
A8: 2 | B8: 2 | C8: 4.19 | D8: Adam | E8: Lindhe | F8: 34372 | G8: =(I8-F8)/365.25 -> 21.842574 | H8: Sätra | I8: 42350
A9: 3 | B9: 3 | C9: 4.26 | D9: Erik | E9: Lidén | F9: 35418 | G9: =(I9-F9)/365.25 -> 17.984942 | H9: Sätra | I9: 41987
A10: 4 | B10: 4 | C10: 4.27 | D10: Måns | E10: Boshuis | F10: 37406 | G10: =(I10-F10)/365.25 -> 17.544148 | H10: Sätra | I10: 43814
A11: 5 | B11: 5 | C11: 4.32 | D11: Maximus | E11: Jansson | F11: 37922 | G11: =(I11-F11)/365.25 -> 15.134839 | H11: Sätra | I11: 43450
A12: 6 | B12: 6 | C12: 4.33 | D12: Rafael | E12: Askros | F12: 29873 | G12: =(I12-F12)/365.25 -> 34.160164 | H12: Sätra | I12: 42350
A13: 7 | B13: 7 | C13: 4.35 | D13: Carl | E13: Bühlman | F13: 33828 | G13: =(I13-F13)/365.25 -> 21.322382 | H13: Sätra | I13: 41616
A14: 8 | B14: 8 | C14: 4.37 | D14: Erik | E14: Hermelin | F14: 35174 | G14: =(I14-F14)/365.25 -> 17.637235 | H14: Sätra | I14: 41616
A15: 9 | B15: 9 | C15: 4.39 | D15: Andreas | E15: Movin | F15: 35267 | G15: =(I15-F15)/365.25 -> 18.398357 | H15: Sätra | I15: 41987
A16: 10 | B16: 10 | C16: 4.4 | D16: Albin | E16: Andersson | F16: 36565 | G16: =(I16-F16)/365.25 -> 16.835044 | H16: Sätra | I16: 42714
A17: 11 | B17: 11 | C17: 4.41 | D17: Sebastian | E17: Landström | F17: 34428 | G17: =(I17-F17)/365.25 -> 21.689254 | H17: Sätra | I17: 42350
A18: 12 | B18: 11 | C18: 4.41 | D18: Malte | E18: Åhman | F18: 36262 | G18: =(I18-F18)/365.25 -> 15.646817 | H18: Sätra | I18: 41977
... A24: 18 | B24: 18 | C24: 4.64 | D24: Erik | E24: Lindfors | F24: 36101 | G24: =(I24-F24)/365.25 -> 15.099247 | H24: Sätra | I24: 41616
A26: 40m, manuell tidtagning
A27: # | B27: Rank | C27: Resultat | D27: Förnamn | E27: Efternamn | F27: DOB | G27: Ålder | H27: Plats | I27: Datum
A28: 1 | B28: 1 | C28: 4.8 | D28: Bo | E28: Söderberg | F28: 19521 | G28: =(I28-F28)/365.25 -> 16.654346 | H28: Stockholm/J | I28: 25604
A29: 2 | B29: 1 | C29: 4.8 | D29: Holger | E29: Schwalbe | F29: 19369 | G29: =(I29-F29)/365.25 -> 17.0705 | H29: Stockholm/J | I29: 25604
A31: 50m, automatisk tidtagning
A32: # | B32: Rank | C32: Resultat | D32: Förnamn | E32: Efternamn | F32: DOB | G32: Ålder | H32: Plats | I32: Datum
A33: 1 | B33: 1 | C33: 7.18 | D33: Niklas | E33: Klerstad | F33: 24191 | G33: =(I33-F33)/365.25 -> 13.954825 | H33: Katrineholm | I33: 29288
A35: 2x40m, automatisk tidtagning
A36: # | B36: Rank | C36: Resultat | D36: Förnamn | E36: Efternamn | F36: DOB | G36: Ålder | H36: Plats | I36: Datum
A37: 1 | B37: 1 | C37: 13.09 | D37: Mattias | E37: Lindholm | F37: 27800 | G37: =(I37-F37)/365.25 -> 14.105407 | H37: Stockholm/D | I37: 32952
A38: 2 | B38: 2 | C38: 15.45 | D38: Mattias | E38: Åkerlund | F38: 28118 | G38: =(I38-F38)/365.25 -> 13.234771 | H38: Stockholm/D | I38: 32952
A40: 2x40m, manuell tidtagning
A41: # | B41: Rank | C41: Resultat | D41: Förnamn | E41: Efternamn | F41: DOB | G41: Ålder | H41: Plats | I41: Datum
A42: 1 | B42: 1 | C42: 9.9 | D42: Bo | E42: Söderberg | F42: 19521 | G42: =(I42-F42)/365.25 -> 16.654346 | H42: Stockholm/J | I42: 25604
A43: 2 | B43: 1 | C43: 9.9 | D43: Holger | E43: Schwalbe | F43: 19369 | G43: =(I43-F43)/365.25 -> 17.0705 | H43: Stockholm/J | I43: 25604
A44: 3 | B44: 3 | C44: 10 | D44: Anders | E44: Jacobsson | F44: 19166 | G44: =(I44-F44)/365.25 -> 17.675565 | H44: Stockholm/SM | I44: 25622
A45: 4 | B45: 3 | C45: 10 | D45: Gunnar | E45: Nilsson | F45: 21436 | G45: =(I45-F45)/365.25 -> 16.361396 | H45: Nyboda | I45: 27412
A46: 5 | B46: 5 | C46: 10.2 | D46: Hans | E46: Bergwall | F46: 18169 | G46: =(I46-F46)/365.25 -> 18.258727 | H46: Stockholm | I46: 24838
A47: 6 | B47: 5 | C47: 10.2 | D47: Johan | E47: Ruthberg | F47: 19283 | G47: =(I47-F47)/365.25 -> 17.355236 | H47: Stockholm/SM | I47: 25622
A48: 7 | B48: 7 | C48: 10.3 | D48: Göran | E48: Åslev | F48: 20221 | G48: =(I48-F48)/365.25 -> 14.737851 | H48: Stockholm/J | I48: 25604
A49: 8 | B49: 8 | C49: 10.5 | D49: Roland | E49: Ljungberg | F49: 22289 | G49: =(I49-F49)/365.25 -> 16.117728 | H49: Sundbyberg | I49: 28176
A50: 9 | B50: 8 | C50: 10.5 | D50: Peter | E50: Bjersten | F50: 22488 | G50: =(I50-F50)/365.25 -> 15.55373 | H50: Sundbyberg | I50: 28169
A51: 10 | B51: 8 | C51: 10.5 | D51: Nicholaus | E51: Diedrichsen | F51: 22094 | G51: =(I51-F51)/365.25 -> 18.622861 | H51: Hägersten | I51: 28896
A52: 11 | B52: 8 | C52: 10.5 | D52: Peter | E52: Klerstad | F52: 23422 | G52: =(I52-F52)/365.25 -> 15.926078 | H52: Stockholm/D | I52: 29239
A53: 12 | B53: 12 | C53: 10.7 | D53: Berndt | E53: Hansson | F53: 19369 | G53: =(I53-F53)/365.25 -> 14.973306 | H53: Stockholm | I53: 24838
... A81: 40 | B81: 40 | C81: 17.2 | D81: Uno | E81: Jacobsson | F81: 13893 | G81: =(I81-F81)/365.25 -> 16.128679 | H81: Lidingö | I81: 19784
A83: 4x40m, manuell tidtagning
A84: # | B84: Rank | C84: Resultat | D84: Förnamn | E84: Efternamn | F84: DOB | G84: Ålder | H84: Plats | I84: Datum
A85: 1 | B85: 1 | C85: 18.5 | D85: Bo | E85: Söderberg | F85: 19521 | G85: =(I85-F85)/365.25 -> 17.557837 | H85: Stockholm/D | I85: 25934
A86: 2 | B86: 2 | C86: 19.3 | D86: Holger | E86: Schwalbe | F86: 19369 | G86: =(I86-F86)/365.25 -> 17.97399 | H86: Stockholm/D | I86: 25934
A87: 3 | B87: 3 | C87: 19.9 | D87: Anders | E87: Jacobsson | F87: 19166 | G87: =(I87-F87)/365.25 -> 16.531143 | H87: Stockholm | I87: 25204
A88: 4 | B88: 3 | C88: 19.9 | D88: Peter | E88: Hoogeveen | F88: 19438 | G88: =(I88-F88)/365.25 -> 17.785079 | H88: Stockholm/D | I88: 25934
A89: 5 | B89: 5 | C89: 20 | D89: Göran | E89: Åslev | F89: 20221 | G89: =(I89-F89)/365.25 -> 15.641342 | H89: Stockholm/D | I89: 25934
A91: 300m, blandade tider
A92: # | B92: Rank | C92: Resultat | D92: Förnamn | E92: Efternamn | F92: DOB | G92: Ålder | H92: Plats | I92: Datum
A93: 1 | B93: 1 | C93: 36.14 | D93: Andreas | E93: Movin | F93: 35267 | G93: =(I93-F93)/365.25 -> 18.398357 | H93: Sätra | I93: 41987
A94: 2 | B94: 2 | C94: 36.77 | D94: Erik | E94: Hermelin | F94: 35174 | G94: =(I94-F94)/365.25 -> 17.634497 | H94: Sätra | I94: 41615
A95: 3 | B95: 3 | C95: 37.02 | D95: Sebastian | E95: Landström | F95: 34428 | G95: =(I95-F95)/365.25 -> 20.695414 | H95: Sätra | I95: 41987
A96: 4 | B96: 4 | C96: 37.47 | D96: Carl | E96: Bühlman | F96: 33828 | G96: =(I96-F96)/365.25 -> 21.319644 | H96: Sätra | I96: 41615
A97: 5 | B97: 5 | C97: 35.7 | D97: Martin | E97: Enholm* | F97: 23780 | G97: =(I97-F97)/365.25 -> 30.047912 | H97: Malmö | I97: 34755
A98: 6 | B98: 5 | C98: 35.7 | D98: Niclas | E98: Norling* | F98: 24569 | G98: =(I98-F98)/365.25 -> 27.887748 | H98: Malmö | I98: 34755
A99: 7 | B99: 7 | C99: 38 | D99: Fredrik | E99: Lorentzon | F99: 35686 | G99: =(I99-F99)/365.25 -> 17.251198 | H99: Sätra | I99: 41987
A100: 8 | B100: 8 | C100: 38.05 | D100: Erik | E100: Lidén | F100: 35418 | G100: =(I100-F100)/365.25 -> 17.984942 | H100: Sätra | I100: 41987
A101: 9 | B101: 9 | C101: 38.11 | D101: Robin | E101: Isaksson | F101: 37432 | G101: =(I101-F101)/365.25 -> 15.460643 | H101: Sätra | I101: 43079
A102: 10 | B102: 10 | C102: 38.34 | D102: Magnus | E102: Nilsson | F102: 26381 | G102: =(I102-F102)/365.25 -> 45.716632 | H102: Sätra | I102: 43079
A103: 11 | B103: 11 | C103: 39.7 | D103: Michael | E103: Peyron | F103: 33988 | G103: =(I103-F103)/365.25 -> 20.881588 | H103: Sätra | I103: 41615
A104: 12 | B104: 12 | C104: 39.81 | D104: Erik | E104: Lagerlöf | F104: 35590 | G104: =(I104-F104)/365.25 -> 15.498973 | H104: Sätra | I104: 41251
... A110: 18 | B110: 18 | C110: 55.78 | D110: Johan | E110: Dellner | F110: 31855 | G110: =(I110-F110)/365.25 -> 11.734428 | H110: Sätra | I110: 36141
D111: *mellantid på 400 meter
A112: 600m, blandade tider
A113: # | B113: Rank | C113: Resultat | D113: Förnamn | E113: Efternamn | F113: DOB | G113: Ålder | H113: Plats | I113: Datum
A114: 1 | B114: 1 | C114: 0.00092592593 | D114: Niclas | E114: Norling | F114: 26396 | G114: =(I114-F114)/365.25 -> 23.843943 | H114: Lidingö | I114: 35105
A115: 2 | B115: 2 | C115: 0.00095833333 | D115: Peter | E115: Eriksson | F115: 23379 | G115: =(I115-F115)/365.25 -> 32.104038 | H115: Lidingö | I115: 35105
A116: 3 | B116: 3 | C116: 0.00095949074 | D116: Carl-Henrik | E116: Anderzén | F116: 26694 | G116: =(I116-F116)/365.25 -> 23.028063 | H116: Lidingö | I116: 35105
A117: 4 | B117: 4 | C117: 0.00096180556 | D117: John | E117: Norling | F117: 24906 | G117: =(I117-F117)/365.25 -> 27.92334 | H117: Lidingö | I117: 35105
A118: 5 | B118: 5 | C118: 0.00098263889 | D118: Erik | E118: Hermelin | F118: 35174 | G118: =(I118-F118)/365.25 -> 17.637235 | H118: Sätra | I118: 41616
A119: 6 | B119: 6 | C119: 0.0010217593 | D119: Erik | E119: Lagerlöf | F119: 35620 | G119: =(I119-F119)/365.25 -> 16.416153 | H119: Sätra | I119: 41616
A120: 7 | B120: 7 | C120: 0.0010292824 | D120: Jesper | E120: Arkinger | F120: 27859 | G120: =(I120-F120)/365.25 -> 15.644079 | H120: Lidingö | I120: 33573
A121: 8 | B121: 8 | C121: 0.0010438657 | D121: Julius | E121: Mördrup | F121: 37376 | G121: =(I121-F121)/365.25 -> 15.613963 | H121: Sätra | I121: 43079
A122: 9 | B122: 9 | C122: 0.0010491898 | D122: Mohammed | E122: Loukili | F122: 35103 | G122: =(I122-F122)/365.25 -> 16.835044 | H122: Sätra | I122: 41252
A123: 10 | B123: 10 | C123: 0.001053125 | D123: Fredrik | E123: Lorentzon | F123: 35686 | G123: =(I123-F123)/365.25 -> 16.235455 | H123: Sätra | I123: 41616
A124: 11 | B124: 11 | C124: 0.0010840278 | D124: Carl | E124: Frisk | F124: 27436 | G124: =(I124-F124)/365.25 -> 16.002738 | H124: Lidingö | I124: 33281
A125: 12 | B125: 12 | C125: 0.0010846065 | D125: Ahmed | E125: Demir | F125: 36155 | G125: =(I125-F125)/365.25 -> 14.951403 | H125: Sätra | I125: 41616
... A197: 84 | B197: 84 | C197: 0.001419213 | D197: John | E197: Widenfeldt | F197: 33970 | G197: =(I197-F197)/365.25 -> 10.926762 | H197: Sätra | I197: 37961
A199: 1000 yards, blandade tider
A200: # | B200: Rank | C200: Resultat | D200: Förnamn | E200: Efternamn | F200: DOB | G200: Ålder | H200: Plats | I200: Datum
A201: 1 | B201: 1 | C201: 0.0015393519 | D201: Ingvar | E201: Bengtsson | F201: 8136 | G201: =(I201-F201)/365.25 -> 28.818617 | H201: Boston, US | I201: 18662
A203: 1000m, blandade tider
A204: # | B204: Rank | C204: Resultat | D204: Förnamn | E204: Efternamn | F204: DOB | G204: Ålder | H204: Plats | I204: Datum
A205: 1 | B205: 1 | C205: 0.0018042824 | D205: Kjell | E205: Johansson | F205: 25647 | G205: =(I205-F205)/365.25 -> 17.853525 | H205: Lidingö | I205: 32168
A206: 2 | B206: 2 | C206: 0.0018265046 | D206: Erik | E206: Lagerlöf | F206: 35590 | G206: =(I206-F206)/365.25 -> 16.629706 | H206: Sätra | I206: 41664
A207: 3 | B207: 3 | C207: 0.0018391204 | D207: Dennis | E207: Persson | F207: 23921 | G207: =(I207-F207)/365.25 -> 17.596167 | H207: Södertälje/S | I207: 30348
A208: 4 | B208: 4 | C208: 0.0018497685 | D208: Viktor | E208: Björk | F208: 37712 | G208: =(I208-F208)/365.25 -> 14.921287 | H208: Växjö | I208: 43162
A209: 5 | B209: 5 | C209: 0.0018518519 | D209: Per | E209: Synnerman | F209: 26280 | G209: =(I209-F209)/365.25 -> 16.052019 | H209: Solna | I209: 32143
A210: 6 | B210: 6 | C210: 0.0018728009 | D210: Robin | E210: Isaksson | F210: 37432 | G210: =(I210-F210)/365.25 -> 17.604381 | H210: Sollentuna | I210: 43862
A211: 7 | B211: 7 | C211: 0.0018737269 | D211: Håkan | E211: Persson | F211: 22278 | G211: =(I211-F211)/365.25 -> 25.010267 | H211: Lidingö | I211: 31413
A212: 8 | B212: 8 | C212: 0.0018841435 | D212: Simon | E212: Sundström | F212: 35830 | G212: =(I212-F212)/365.25 -> 14.959617 | H212: Växjö | I212: 41294
A213: 9 | B213: 9 | C213: 0.0018903935 | D213: Jonathan | E213: Kättström | F213: 29400 | G213: =(I213-F213)/365.25 -> 16.553046 | H213: Solna | I213: 35446
A214: 10 | B214: 10 | C214: 0.0019085648 | D214: Johnny | E214: Dahlin | F214: 24007 | G214: =(I214-F214)/365.25 -> 17.360712 | H214: Södertälje/S | I214: 30348
A215: 11 | B215: 11 | C215: 0.0019150463 | D215: Stefan | E215: Henriksson | F215: 23496 | G215: =(I215-F215)/365.25 -> 23.756331 | H215: Karlstad | I215: 32173
A216: 12 | B216: 12 | C216: 0.0019211806 | D216: Olof | E216: Silvander | F216: 36490 | G216: =(I216-F216)/365.25 -> 15.22245 | H216: Sätra | I216: 42050
... A259: 55 | B259: 55 | C259: 0.12780093 | D259: Rasmus | E259: Jönsson | F259: 36719 | G259: =(I259-F259)/365.25 -> 14.422998 | H259: Sätra | I259: 41987
...

Sheet Stafett mixade lag
B1: 85 – bästa genom tiderna, Mixade lag, stafett inomhus 2021
A3: 4x200m(mixade lag)
A4: # | B4: Resultat | C4: Klass | D4: Plats | E4: Datum | F4: Lag
A5: 1 | B5: 0.0012174769 | C5: F/P15 | D5: Sätra | E5: 42412 | F5: (Elisabeth Hvalgren, Jonathan Westerberg, Vendela Wahlberg, Oscar Taha)
A6: 2 | B6: 0.0012447917 | C6: F/P14 | D6: Nyköping | E6: 42421 | F6: (Elisabeth Hvalgren, Julius Mördrup, Vendela Wahlberg, Oscar Taha)
A7: 3 | B7: 0.0012570602 | C7: F/P15 | D7: Sätra | E7: 42351 | F7: (Sara Svalberg, Jonathan Westerberg, Nike Isaksson, Robin Isaksson)
A8: 4 | B8: 0.0012652778 | C8: F/P15 | D8: Västerås | E8: 40923 | F8: (Ellen Oweling, Therese Hermelin, Hjalmar Åhman, Albin Boestad)
A9: 5 | B9: 0.0012739583 | C9: F/P13 | D9: Sätra | E9: 42036 | F9: (Madeleine Aulio, Robin Isaksson, Lisa Fröberg, Oscar Taha)
A10: 6 | B10: 0.0012821759 | C10: F/P15 | D10: Sätra | E10: 42412 | F10: (Madeleine Aulio, Gustav Andersson, Sara Svalberg, Måns Boshuis)
A11: 7 | B11: 0.0012931713 | C11: F/P13 | D11: Sätra | E11: 42036 | F11: (Sara Svalberg, Jonathan Westerberg, Vendela Wahlberg, Max Malmsten)
A12: 8 | B12: 0.0012934028 | C12: F/P13 | D12: Sätra | E12: 42050 | F12: (Lisa Fröberg, Max Malmsten, Vendela Wahlberg, Jonathan Westerberg)
A13: 9 | B13: 0.0012936343 | C13: F/P15 | D13: Västerås | E13: 40923 | F13: (Sara Hermansson, Amanda Bjersér, Tobias Månsson, Eric Lindfors)
A14: 10 | B14: 0.001297338 | C14: F/P15 | D14: Sätra | E14: 41616 | F14: (Matilde Lundström, Malte Åhman, Vilma Runestam, Jacob Krumlinde)
A15: 11 | B15: 0.0013046296 | C15: F/P13 | D15: Sätra | E15: 41987 | F15: (Sara Svalberg, Robin Isaksson, Vendela Wahlberg, Jonathan Westerberg)
A16: 12 | B16: 0.0013123843 | C16: F/P15 | D16: Sätra | E16: 40887 | F16: (Amanda Bjersér, Erik Lindfors, Sara Hermansson, Alfred Deutgen)
... A86: 82 | B86: 0.0018064815 | C86: F/P10 | D86: Sätra | E86: 40888 | F86: (Hedvig Fredriksson, Axel Rabe, Mimmi Sand, Felix Stenberg)
A88: 4x200m (mixade lag) - Lagmedlemmar okända
A89: # | B89: Resultat | C89: Klass | D89: Plats | E89: Datum | F89: Lag
A90: 1 | B90: 0.0013743056 | C90: LAG | D90: Stockholm/G | E90: 39499 | F90: (++++)
A91: 2 | B91: 0.0013767361 | C91: LAG | D91: Sätra | E91: 39796 | F91: (++++)
A92: 3 | B92: 0.0013908565 | C92: LAG | D92: Sätra | E92: 39796 | F92: (++++)
A93: 4 | B93: 0.0013952546 | C93: LAG | D93: Sätra | E93: 39796 | F93: (++++)
A94: 5 | B94: 0.0014143519 | C94: LAG I | D94: Sätra | E94: 38017 | F94: (++++)
A95: 6 | B95: 0.0014274306 | C95: LAG | D95: Sätra | E95: 39795 | F95: (++++)
A96: 7 | B96: 0.0014378472 | C96: LAG | D96: Stockholm/G | E96: 39499 | F96: (++++)
A97: 8 | B97: 0.001453125 | C97: LAG | D97: Sätra | E97: 39795 | F97: (++++)
A98: 9 | B98: 0.0014627315 | C98: LAG II | D98: Sätra | E98: 38017 | F98: (++++)
A99: 10 | B99: 0.0014731481 | C99: LAG III | D99: Sätra | E99: 39123 | F99: (++++)
A100: 11 | B100: 0.0015703704 | C100: LAG V | D100: Sätra | E100: 39123 | F100: (++++)
