Workbook

Sheet Årshjul
B2: INMATNING
B3: Januari | C3: Februari | D3: Mars | E3: April | F3: Maj | G3: Juni | H3: Juli | I3: Augusti | J3: September | K3: Oktober | L3: November | M3: December
A4: 1
A5: 2
A6: 3
A7: 4
A8: 5

Sheet Diagramdata
B2: DIAGRAMDATA | E2: HJÄLPKOLUMNER
B3: Månad | C3: Aktivitet | D3: Värde | E3: Månad2 | F3: Akt.nummer
B4: =IF(OR(Tabell136[[#This Row],[Aktivitet]]<>"",E4<>E5),E4,"") | C4: =TEXT(OFFSET(Årshjul!$B$3,F4,MATCH(E4,Årshjul!$B$3:$M$3,0)-1),"") | D4: =IF(Tabell136[[#This Row],[Månad]]<>"",IFERROR(1/COUNTIF(Tabell136[Månad],Tabell136[[#This Row],[Månad]]),""),"") | E4: December | F4: 5
B5: =IF(OR(Tabell136[[#This Row],[Aktivitet]]<>"",E5<>E6),E5,"") | C5: =TEXT(OFFSET(Årshjul!$B$3,F5,MATCH(E5,Årshjul!$B$3:$M$3,0)-1),"") | D5: =IF(Tabell136[[#This Row],[Månad]]<>"",IFERROR(1/COUNTIF(Tabell136[Månad],Tabell136[[#This Row],[Månad]]),""),"") | E5: December | F5: 4
B6: =IF(OR(Tabell136[[#This Row],[Aktivitet]]<>"",E6<>E7),E6,"") | C6: =TEXT(OFFSET(Årshjul!$B$3,F6,MATCH(E6,Årshjul!$B$3:$M$3,0)-1),"") | D6: =IF(Tabell136[[#This Row],[Månad]]<>"",IFERROR(1/COUNTIF(Tabell136[Månad],Tabell136[[#This Row],[Månad]]),""),"") | E6: December | F6: 3
B7: =IF(OR(Tabell136[[#This Row],[Aktivitet]]<>"",E7<>E8),E7,"") | C7: =TEXT(OFFSET(Årshjul!$B$3,F7,MATCH(E7,Årshjul!$B$3:$M$3,0)-1),"") | D7: =IF(Tabell136[[#This Row],[Månad]]<>"",IFERROR(1/COUNTIF(Tabell136[Månad],Tabell136[[#This Row],[Månad]]),""),"") | E7: December | F7: 2
B8: =IF(OR(Tabell136[[#This Row],[Aktivitet]]<>"",E8<>E9),E8,"") -> December | C8: =TEXT(OFFSET(Årshjul!$B$3,F8,MATCH(E8,Årshjul!$B$3:$M$3,0)-1),"") | D8: =IF(Tabell136[[#This Row],[Månad]]<>"",IFERROR(1/COUNTIF(Tabell136[Månad],Tabell136[[#This Row],[Månad]]),""),"") -> 1 | E8: December | F8: 1
B9: =IF(OR(Tabell136[[#This Row],[Aktivitet]]<>"",E9<>E10),E9,"") | C9: =TEXT(OFFSET(Årshjul!$B$3,F9,MATCH(E9,Årshjul!$B$3:$M$3,0)-1),"") | D9: =IF(Tabell136[[#This Row],[Månad]]<>"",IFERROR(1/COUNTIF(Tabell136[Månad],Tabell136[[#This Row],[Månad]]),""),"") | E9: November | F9: 5
B10: =IF(OR(Tabell136[[#This Row],[Aktivitet]]<>"",E10<>E11),E10,"") | C10: =TEXT(OFFSET(Årshjul!$B$3,F10,MATCH(E10,Årshjul!$B$3:$M$3,0)-1),"") | D10: =IF(Tabell136[[#This Row],[Månad]]<>"",IFERROR(1/COUNTIF(Tabell136[Månad],Tabell136[[#This Row],[Månad]]),""),"") | E10: November | F10: 4
B11: =IF(OR(Tabell136[[#This Row],[Aktivitet]]<>"",E11<>E12),E11,"") | C11: =TEXT(OFFSET(Årshjul!$B$3,F11,MATCH(E11,Årshjul!$B$3:$M$3,0)-1),"") | D11: =IF(Tabell136[[#This Row],[Månad]]<>"",IFERROR(1/COUNTIF(Tabell136[Månad],Tabell136[[#This Row],[Månad]]),""),"") | E11: November | F11: 3
B12: =IF(OR(Tabell136[[#This Row],[Aktivitet]]<>"",E12<>E13),E12,"") | C12: =TEXT(OFFSET(Årshjul!$B$3,F12,MATCH(E12,Årshjul!$B$3:$M$3,0)-1),"") | D12: =IF(Tabell136[[#This Row],[Månad]]<>"",IFERROR(1/COUNTIF(Tabell136[Månad],Tabell136[[#This Row],[Månad]]),""),"") | E12: November | F12: 2
B13: =IF(OR(Tabell136[[#This Row],[Aktivitet]]<>"",E13<>E14),E13,"") -> November | C13: =TEXT(OFFSET(Årshjul!$B$3,F13,MATCH(E13,Årshjul!$B$3:$M$3,0)-1),"") | D13: =IF(Tabell136[[#This Row],[Månad]]<>"",IFERROR(1/COUNTIF(Tabell136[Månad],Tabell136[[#This Row],[Månad]]),""),"") -> 1 | E13: November | F13: 1
B14: =IF(OR(Tabell136[[#This Row],[Aktivitet]]<>"",E14<>E15),E14,"") | C14: =TEXT(OFFSET(Årshjul!$B$3,F14,MATCH(E14,Årshjul!$B$3:$M$3,0)-1),"") | D14: =IF(Tabell136[[#This Row],[Månad]]<>"",IFERROR(1/COUNTIF(Tabell136[Månad],Tabell136[[#This Row],[Månad]]),""),"") | E14: Oktober | F14: 5
B15: =IF(OR(Tabell136[[#This Row],[Aktivitet]]<>"",E15<>E16),E15,"") | C15: =TEXT(OFFSET(Årshjul!$B$3,F15,MATCH(E15,Årshjul!$B$3:$M$3,0)-1),"") | D15: =IF(Tabell136[[#This Row],[Månad]]<>"",IFERROR(1/COUNTIF(Tabell136[Månad],Tabell136[[#This Row],[Månad]]),""),"") | E15: Oktober | F15: 4
... B62: =IF(OR(Tabell136[[#This Row],[Aktivitet]]<>"",E62<>E63),E62,"") | C62: =TEXT(OFFSET(Årshjul!$B$3,F62,MATCH(E62,Årshjul!$B$3:$M$3,0)-1),"") | D62: =IF(Tabell136[[#This Row],[Månad]]<>"",IFERROR(1/COUNTIF(Tabell136[Månad],Tabell136[[#This Row],[Månad]]),""),"") | E62: Januari | F62: 2
B63: =IF(OR(Tabell136[[#This Row],[Aktivitet]]<>"",E63<>Årshjul!V64),E63,"") -> Januari | C63: =TEXT(OFFSET(Årshjul!$B$3,F63,MATCH(E63,Årshjul!$B$3:$M$3,0)-1),"") | D63: =IF(Tabell136[[#This Row],[Månad]]<>"",IFERROR(1/COUNTIF(Tabell136[Månad],Tabell136[[#This Row],[Månad]]),""),"") -> 1 | E63: Januari | F63: 1
