Workbook

Sheet Tonårsklass
A1: Tonårsklass
A3: Deltagare | B3: 1m | H3: 3m | N3: Höga | T3: Poäng
A4: Carl Larmark | B4: 103c ö | C4: 1.8 | E4: 5322d | F4: 1.8 | H4: 113c | I4: 1.7 | K4: 5311a | L4: 2 | N4: 202c ö 5m | O4: 2.3 | Q4: 612c 5m | R4: 1.2 | T4: =((B5+C5+D5)*C4)+((E5+F5+G5)*F4)+((H5+I5+J5)*I4)+((K5+L5+M5)*L4)+((N5+O5+P5)*O4)+((Q5+R5+S5)*R4) -> 115.1
B5: 4.5 | C5: 5 | D5: 4 | E5: 0 | F5: 0 | G5: 0.5 | H5: 4 | I5: 4 | J5: 4 | K5: 5.5 | L5: 5.5 | M5: 6 | N5: 4.5 | O5: 4 | P5: 2.5 | Q5: 4.5 | R5: 4 | S5: 0
A6: William Ekenstierna | B6: 103c ö | C6: 1.8 | E6: 401a | F6: 1.7 | H6: 103a | I6: 1.8 | K6: 302c | L6: 1.7 | N6: 103b 7m | O6: 1.3 | Q6: 612b 10m | R6: 1.6 | T6: =((B7+C7+D7)*C6)+((E7+F7+G7)*F6)+((H7+I7+J7)*I6)+((K7+L7+M7)*L6)+((N7+O7+P7)*O6)+((Q7+R7+S7)*R6) -> 134.45
B7: 6.5 | C7: 5.5 | D7: 6 | E7: 6.5 | F7: 6 | G7: 6.5 | H7: 4.5 | I7: 4.5 | J7: 3.5 | K7: 2.5 | L7: 2 | M7: 2 | N7: 4 | O7: 3 | P7: 3 | Q7: 5 | R7: 4.5 | S7: 5
A8: Elna Wiberg | B8: 102b ö | C8: 2.1 | E8: 401c ö | F8: 1.9 | H8: 201b | I8: 1.8 | K8: 102c | L8: 1.8 | N8: 103c 5 | O8: 1.6 | Q8: 612c 5m | R8: 1.5 | T8: =((B9+C9+D9)*C8)+((E9+F9+G9)*F8)+((H9+I9+J9)*I8)+((K9+L9+M9)*L8)+((N9+O9+P9)*O8)+((Q9+R9+S9)*R8) -> 158.6
B9: 7 | C9: 7 | D9: 7.5 | E9: 1.5 | F9: 2 | G9: 1.5 | H9: 7 | I9: 6.5 | J9: 6.5 | K9: 3 | L9: 4 | M9: 3 | N9: 6.5 | O9: 6 | P9: 7 | Q9: 4 | R9: 4 | S9: 4.5
A10: My Tufvesson | B10: 201b | C10: 1.6 | E10: 5122d | F10: 2 | H10: 201a | I10: 2.1 | K10: 401c | L10: 1.3 | N10: 102c 5m | O10: 1.9 | Q10: 103c 5m | R10: 1.6 | T10: =((B11+C11+D11)*C10)+((E11+F11+G11)*F10)+((H11+I11+J11)*I10)+((K11+L11+M11)*L10)+((N11+O11+P11)*O10)+((Q11+R11+S11)*R10) -> 157.9
B11: 5.5 | C11: 6 | D11: 4 | E11: 4 | F11: 3 | G11: 2 | H11: 6.5 | I11: 5.5 | J11: 5 | K11: 5 | L11: 5 | M11: 5 | N11: 7 | O11: 6.5 | P11: 7.5 | Q11: 4.5 | R11: 4 | S11: 4
A12: Tove Ekstrand | B12: 202c ö | C12: 1.8 | E12: 5211a ö | F12: 2.2 | H12: 103a | I12: 1.8 | K12: 201a | L12: 1.8 | N12: 101a 5m | O12: 1.3 | Q12: 401b 5m | R12: 1.2 | T12: =((B13+C13+D13)*C12)+((E13+F13+G13)*F12)+((H13+I13+J13)*I12)+((K13+L13+M13)*L12)+((N13+O13+P13)*O12)+((Q13+R13+S13)*R12) -> 95.85
B13: 3 | C13: 3 | D13: 4.5 | E13: 1 | F13: 1.5 | G13: 0 | H13: 3.5 | I13: 4 | J13: 2 | K13: 5 | L13: 4.5 | M13: 4 | N13: 4.5 | O13: 4.5 | P13: 3.5 | Q13: 4 | R13: 4 | S13: 3.5
A14: Ingeborg Larsson | B14: 102c ö | C14: 2 | E14: 202c | F14: 1.6 | H14: 101a | I14: 1.8 | K14: 201a | L14: 2.1 | N14: 101b 5m | O14: 1.3 | Q14: 401b 5m | R14: 1.5 | T14: =((B15+C15+D15)*C14)+((E15+F15+G15)*F14)+((H15+I15+J15)*I14)+((K15+L15+M15)*L14)+((N15+O15+P15)*O14)+((Q15+R15+S15)*R14) -> 160
B15: 5 | C15: 6.5 | D15: 5 | E15: 4 | F15: 3 | G15: 3.5 | H15: 5 | I15: 4.5 | J15: 4.5 | K15: 6.5 | L15: 5.5 | M15: 7 | N15: 4.5 | O15: 5 | P15: 5 | Q15: 5 | R15: 5.5 | S15: 7
A16: Leia Olsson-Schönhult | B16: 201b | C16: 1.3 | E16: 104c | F16: 2 | H16: 301b | I16: 1.9 | K16: 102b ö | L16: 2.1 | N16: 103b 5m | O16: 1.4 | Q16: 612b 7m | R16: 1.5 | T16: =((B17+C17+D17)*C16)+((E17+F17+G17)*F16)+((H17+I17+J17)*I16)+((K17+L17+M17)*L16)+((N17+O17+P17)*O16)+((Q17+R17+S17)*R16) -> 107.35
B17: 4 | C17: 3.5 | D17: 4.5 | E17: 3.5 | F17: 3 | G17: 3 | H17: 3 | I17: 3 | J17: 2 | K17: 4 | L17: 3.5 | M17: 1.5 | N17: 3.5 | O17: 4 | P17: 3.5 | Q17: 5 | R17: 5 | S17: 5.5
A18: Lilly Månsson | B18: 201a | C18: 1.6 | E18: 202c ö | F18: 1.8 | H18: 103a | I18: 1.8 | K18: 402c | L18: 1.4 | N18: 101b 5m | O18: 1 | Q18: 103b | R18: 1.4 | T18: =((B19+C19+D19)*C18)+((E19+F19+G19)*F18)+((H19+I19+J19)*I18)+((K19+L19+M19)*L18)+((N19+O19+P19)*O18)+((Q19+R19+S19)*R18) -> 108.4
B19: 4 | C19: 4 | D19: 4.5 | E19: 5 | F19: 4.5 | G19: 4 | H19: 4 | I19: 4 | J19: 2.5 | K19: 5 | L19: 4.5 | M19: 4 | N19: 1 | O19: 1 | P19: 0.5 | Q19: 6.5 | R19: 5.5 | S19: 5
A20: Elsa Wähler | B20: 203c | C20: 1.7 | E20: 401a | F20: 1.7 | H20: 103a | I20: 1.8 | K20: 201b | L20: 1.5 | N20: 102c 5m | O20: 1.6 | Q20: 402c 5m | R20: 1.8 | T20: =((B21+C21+D21)*C20)+((E21+F21+G21)*F20)+((H21+I21+J21)*I20)+((K21+L21+M21)*L20)+((N21+O21+P21)*O20)+((Q21+R21+S21)*R20) -> 141.95
B21: 4.5 | C21: 4 | D21: 4 | E21: 4 | F21: 1.5 | G21: 4 | H21: 5.5 | I21: 5.5 | J21: 4.5 | K21: 5.5 | L21: 6 | M21: 5 | N21: 5 | O21: 5 | P21: 5 | Q21: 5 | R21: 6 | S21: 4.5
A22: Elna Widerström | B22: 5223d ö | C22: 2.4 | E22: 104b | F22: 1.8 | H22: 104c | I22: 1.7 | K22: 5333 | L22: 1.9 | N22: 623b 5m | O22: 2.3 | Q22: 112c 10m | R22: 2.5 | T22: =((B23+C23+D23)*C22)+((E23+F23+G23)*F22)+((H23+I23+J23)*I22)+((K23+L23+M23)*L22)+((N23+O23+P23)*O22)+((Q23+R23+S23)*R22) -> 210.1
B23: 6 | C23: 5.5 | D23: 6.5 | E23: 7 | F23: 6 | G23: 7 | H23: 4 | I23: 4.5 | J23: 5 | K23: 7.5 | L23: 6.5 | M23: 6.5 | N23: 2.5 | O23: 1 | P23: 1.5 | Q23: 8 | R23: 7.5 | S23: 7.5
A24: Ella Bergdahl | B24: 201a | C24: 1.6 | E24: 212c | F24: 1.7 | H24: 5223d (1m) | I24: 2.2 | K24: 102c | L24: 1.5 | N24: 102a | O24: 1.9 | Q24: 402c 3m | R24: 1.4 | T24: =((B25+C25+D25)*C24)+((E25+F25+G25)*F24)+((H25+I25+J25)*I24)+((K25+L25+M25)*L24)+((N25+O25+P25)*O24)+((Q25+R25+S25)*R24) -> 131.7
B25: 6.5 | C25: 6.5 | D25: 7 | E25: 5 | F25: 4.5 | G25: 3.5 | H25: 1 | I25: 0.5 | J25: 0 | K25: 7 | L25: 6 | M25: 6.5 | N25: 5.5 | O25: 4 | P25: 5 | Q25: 4 | R25: 4 | S25: 4.5
A26: Nina Janmyr | B26: 103a | C26: 1.6 | E26: 5223d ö | F26: 2.4 | H26: 5333d | I26: 1.9 | K26: 304c | L26: 1.8 | N26: 623b 5m | O26: 2.3 | Q26: 112c 10m | R26: 2.5 | T26: =((B27+C27+D27)*C26)+((E27+F27+G27)*F26)+((H27+I27+J27)*I26)+((K27+L27+M27)*L26)+((N27+O27+P27)*O26)+((Q27+R27+S27)*R26) -> 199.55
B27: 6.5 | C27: 6 | D27: 7 | E27: 4 | F27: 3.5 | G27: 2 | H27: 7.5 | I27: 5.5 | J27: 6 | K27: 7 | L27: 7 | M27: 7 | N27: 4 | O27: 3 | P27: 3.5 | Q27: 6 | R27: 6.5 | S27: 6.5
A28: Ally Widerström | B28: 102c ö | C28: 1.7 | E28: 302c | F28: 1.4 | H28: 403b | I28: 1.8 | K28: 103a | L28: 1.8 | N28: 612b 7m | O28: 1.5 | Q28: 401b 7m | R28: 1.1 | T28: =((B29+C29+D29)*C28)+((E29+F29+G29)*F28)+((H29+I29+J29)*I28)+((K29+L29+M29)*L28)+((N29+O29+P29)*O28)+((Q29+R29+S29)*R28) -> 136.3
B29: 6 | C29: 5.5 | D29: 6 | E29: 6.5 | F29: 6 | G29: 5.5 | H29: 5.5 | I29: 5 | J29: 6 | K29: 4 | L29: 5.5 | M29: 3.5 | N29: 2 | O29: 2 | P29: 2 | Q29: 6 | R29: 5 | S29: 6.5
A30: Iga Jackowicz-Korczynska | B30: 103c ö | C30: 1.8 | E30: 5223d | F30: 2.1 | H30: 5221d | I30: 1.8 | K30: 104c | L30: 2 | N30: 202c 5m | O30: 1.7 | Q30: 611a 5m | R30: 2 | T30: =((B31+C31+D31)*C30)+((E31+F31+G31)*F30)+((H31+I31+J31)*I30)+((K31+L31+M31)*L30)+((N31+O31+P31)*O30)+((Q31+R31+S31)*R30) -> 178.95
B31: 6.5 | C31: 5.5 | D31: 5.5 | E31: 3.5 | F31: 4 | G31: 3.5 | H31: 6 | I31: 6.5 | J31: 7 | K31: 6 | L31: 5.5 | M31: 5.5 | N31: 4 | O31: 5 | P31: 3.5 | Q31: 5 | R31: 6 | S31: 6
T32: =((B33+C33+D33)*C32)+((E33+F33+G33)*F32)+((H33+I33+J33)*I32)+((K33+L33+M33)*L32)+((N33+O33+P33)*O32)+((Q33+R33+S33)*R32) -> 0
T34: =((B35+C35+D35)*C34)+((E35+F35+G35)*F34)+((H35+I35+J35)*I34)+((K35+L35+M35)*L34)+((N35+O35+P35)*O34)+((Q35+R35+S35)*R34) -> 0
T36: =((B37+C37+D37)*C36)+((E37+F37+G37)*F36)+((H37+I37+J37)*I36)+((K37+L37+M37)*L36)+((N37+O37+P37)*O36)+((Q37+R37+S37)*R36) -> 0
T38: =((B39+C39+D39)*C38)+((E39+F39+G39)*F38)+((H39+I39+J39)*I38)+((K39+L39+M39)*L38)+((N39+O39+P39)*O38)+((Q39+R39+S39)*R38) -> 0

Sheet Lagtävling
A1: Barnklass
A3: Deltagare | B3: Hoppgrupp 1 | E3: Hoppgrupp 2 | H3: Hoppgrupp 3 | K3: Hoppgrupp 4 | N3: Synchro 1 | Q3: Synchro 2 | T3: Poäng
A4: My - Tuva | B4: 010c 3m | E4: 201b 1m | H4: 301c 5m | K4: 401c 1m | N4: 100c | Q4: 010b
B5: 4.5 | C5: 5 | D5: 5 | E5: 5.5 | F5: 6.5 | G5: 6 | H5: 6 | I5: 6 | J5: 5.5 | K5: 4 | L5: 2 | M5: 3 | N5: 6.5 | O5: 4.5 | P5: 5 | Q5: 4.5 | R5: 5.5 | S5: 5 | T5: =SUM(B5:S5) -> 90
A6: Elna - Greta | B6: 100c 3m | E6: 201b 3m | H6: 301c 1m | K6: 401c 1m | N6: 100a 3m | Q6: 010b 3m
B7: 5 | C7: 4 | D7: 4 | E7: 6 | F7: 7 | G7: 5.5 | H7: 4.5 | I7: 6 | J7: 4 | K7: 4 | L7: 4.5 | M7: 4 | N7: 8 | O7: 7 | P7: 7.5 | Q7: 3 | R7: 4.5 | S7: 4.5 | T7: =SUM(B7:S7) -> 93
A8: Ally - Frida | B8: 103b 1m | E8: 201b 1m | H8: 301c 1m | K8: 403c 3m | N8: 101c | Q8: 401c
B9: 3.5 | C9: 5 | D9: 5 | E9: 5.5 | F9: 7 | G9: 6.5 | H9: 7 | I9: 6 | J9: 7 | K9: 5 | L9: 7 | M9: 5 | N9: 5.5 | O9: 6 | P9: 6.5 | Q9: 4 | R9: 5.5 | S9: 4.5 | T9: =SUM(B9:S9) -> 101.5
A10: Elsa - Moa | B10: 103c 3m | E10: 203c 3m | H10: 301c 3m | K10: 401c 1m | N10: 010b | Q10: 020c
B11: 4.5 | C11: 4 | D11: 3.5 | E11: 5.5 | F11: 5 | G11: 5.5 | H11: 4 | I11: 5 | J11: 4.5 | K11: 6 | L11: 5.5 | M11: 4.5 | N11: 8 | O11: 6.5 | P11: 5.5 | Q11: 4.5 | R11: 6 | S11: 5 | T11: =SUM(B11:S11) -> 93
A12: Leia - Mie | B12: 103c 1m | E12: 201c 1m | H12: 301c 3m | K12: 401c 1m | N12: 103c 3m | Q12: 401c 3m
B13: 7 | C13: 8 | D13: 6.5 | E13: 5.5 | F13: 5.5 | G13: 5.5 | H13: 4.5 | I13: 4.5 | J13: 5 | K13: 6.5 | L13: 6 | M13: 4.5 | N13: 4 | O13: 4.5 | P13: 4 | Q13: 7 | R13: 7 | S13: 6.5 | T13: =SUM(B13:S13) -> 102
A14: Olle - Felix Jä | B14: 101c 5m | E14: 201c 5m | H14: 301c 5m | K14: 401c 5m | N14: 102a | Q14: 101a
B15: 5 | C15: 5.5 | D15: 4.5 | E15: 4.5 | F15: 5.5 | G15: 5 | H15: 3 | I15: 2.5 | J15: 2.5 | K15: 4 | L15: 5.5 | M15: 4 | N15: 5 | O15: 7 | P15: 6.5 | Q15: 6 | R15: 6.5 | S15: 7 | T15: =SUM(B15:S15) -> 89.5
A16: Ingeborg - Olivia | B16: 102b 1m | E16: 020c 1m | H16: 301c 5m | K16: 403c 3m | N16: 010 c 3m | Q16: 100a 3m
B17: 3.5 | C17: 3.5 | D17: 4 | E17: 5 | F17: 6 | G17: 4.5 | H17: 6.5 | I17: 6 | J17: 6 | K17: 5.5 | L17: 4.5 | M17: 6 | N17: 7 | O17: 9 | P17: 7.5 | Q17: 6 | R17: 5.5 | S17: 6 | T17: =SUM(B17:S17) -> 102
A18: Lilly - Alice | B18: 103c 1m | E18: 201 c 1m | H18: 301 c 1m | K18: 403c 3m | N18: 010a 3m | Q18: 103c 3m
B19: 8 | C19: 7.5 | D19: 7.5 | E19: 5 | F19: 7 | G19: 5.5 | H19: 3 | I19: 2.5 | J19: 2.5 | K19: 3 | L19: 3.5 | M19: 3 | N19: 4 | O19: 6 | P19: 5 | Q19: 6.5 | R19: 7.5 | S19: 6.5 | T19: =SUM(B19:S19) -> 93.5
A20: Maja - Sammi | B20: 010c 5m | E20: 200a 3m | H20: 301c 1m | K20: 403c 3m | N20: 010a 3m | Q20: 101c 3m
B21: 6 | C21: 6 | D21: 6 | E21: 4.5 | F21: 5 | G21: 4 | H21: 4.5 | I21: 7 | J21: 6.5 | K21: 6 | L21: 5 | M21: 4.5 | N21: 7 | O21: 7.5 | P21: 6 | Q21: 4.5 | R21: 3 | S21: 4.5 | T21: =SUM(B21:S21) -> 97.5
A22: Lasse - Levi | B22: 103c 3m | E22: 202c 1m | H22: 302c 1m | K22: 401c 3m | N22: 103c 3m | Q22: 401c
B23: 4.5 | C23: 3.5 | D23: 4.5 | E23: 4 | F23: 4 | G23: 3.5 | H23: 4.5 | I23: 3 | J23: 4 | K23: 4.5 | L23: 6 | M23: 4.5 | N23: 3 | O23: 4 | P23: 5.5 | Q23: 3.5 | R23: 3.5 | S23: 4.5 | T23: =SUM(B23:S23) -> 74.5
A24: Agnes - Elsa | B24: 101c 5m | E24: 201b 3m | H24: 301c 1m | K24: 401c 1m | N24: 010a 3m | Q24: 101b
B25: 5 | C25: 5.5 | D25: 5 | E25: 4.5 | F25: 5 | G25: 4 | H25: 5.5 | I25: 5 | J25: 6 | K25: 5 | L25: 5 | M25: 4.5 | N25: 9 | O25: 9 | P25: 7 | Q25: 4 | R25: 4.5 | S25: 4 | T25: =SUM(B25:S25) -> 97.5
A26: Nohelia - Ally | B26: 102c 3m | E26: 201b 1m | H26: 301c 1m | K26: 401c 3m | N26: 101c | Q26: 401c
B27: 4 | C27: 3 | D27: 3 | E27: 3.5 | F27: 6 | G27: 5 | H27: 6.5 | I27: 6 | J27: 5.5 | K27: 5 | L27: 4 | M27: 4.5 | N27: 5.5 | O27: 5 | P27: 5.5 | Q27: 3.5 | R27: 6.5 | S27: 4 | T27: =SUM(B27:S27) -> 86
T29: =SUM(B29:S29) -> 0
T31: =SUM(B31:S31) -> 0
T33: =SUM(B33:S33) -> 0
T35: =SUM(B35:S35) -> 0
T37: =SUM(B37:S37) -> 0
T39: =SUM(B39:S39) -> 0

Sheet Resultat tonår
A1: Resultat tonårsklassen
A3: Deltagare | B3: Poäng
A4: =Tonårsklass!A22 -> Elna Widerström | B4: =Tonårsklass!T22 -> 210.1
A5: =Tonårsklass!A26 -> Nina Janmyr | B5: =Tonårsklass!T26 -> 199.55
A6: =Tonårsklass!A30 -> Iga Jackowicz-Korczynska | B6: =Tonårsklass!T30 -> 178.95
A7: =Tonårsklass!A14 -> Ingeborg Larsson | B7: =Tonårsklass!T14 -> 160
A8: =Tonårsklass!A8 -> Elna Wiberg | B8: =Tonårsklass!T8 -> 158.6
A9: =Tonårsklass!A10 -> My Tufvesson | B9: =Tonårsklass!T10 -> 157.9
A10: =Tonårsklass!A20 -> Elsa Wähler | B10: =Tonårsklass!T20 -> 141.95
A11: =Tonårsklass!A28 -> Ally Widerström | B11: =Tonårsklass!T28 -> 136.3
A12: =Tonårsklass!A6 -> William Ekenstierna | B12: =Tonårsklass!T6 -> 134.45
A13: =Tonårsklass!A24 -> Ella Bergdahl | B13: =Tonårsklass!T24 -> 131.7
A14: =Tonårsklass!A4 -> Carl Larmark | B14: =Tonårsklass!T4 -> 115.1
A15: =Tonårsklass!A18 -> Lilly Månsson | B15: =Tonårsklass!T18 -> 108.4
A16: =Tonårsklass!A16 -> Leia Olsson-Schönhult | B16: =Tonårsklass!T16 -> 107.35
A17: =Tonårsklass!A12 -> Tove Ekstrand | B17: =Tonårsklass!T12 -> 95.85
A18: =Tonårsklass!A32 -> 0 | B18: =Tonårsklass!T32 -> 0
A19: =Tonårsklass!A34 -> 0 | B19: =Tonårsklass!T34 -> 0
A20: =Tonårsklass!A36 -> 0 | B20: =Tonårsklass!T36 -> 0
A21: =Tonårsklass!A38 -> 0 | B21: =Tonårsklass!T38 -> 0

Sheet Resultat lag
A1: Resultat barnklass
A3: Deltagare | B3: Poäng
A4: =Lagtävling!A12 -> Leia - Mie | B4: =Lagtävling!T13 -> 102
A5: =Lagtävling!A16 -> Ingeborg - Olivia | B5: =Lagtävling!T17 -> 102
A6: =Lagtävling!A8 -> Ally - Frida | B6: =Lagtävling!T9 -> 101.5
A7: =Lagtävling!A20 -> Maja - Sammi | B7: =Lagtävling!T21 -> 97.5
A8: =Lagtävling!A24 -> Agnes - Elsa | B8: =Lagtävling!T25 -> 97.5
A9: =Lagtävling!A18 -> Lilly - Alice | B9: =Lagtävling!T19 -> 93.5
A10: =Lagtävling!A6 -> Elna - Greta | B10: =Lagtävling!T7 -> 93
A11: =Lagtävling!A10 -> Elsa - Moa | B11: =Lagtävling!T11 -> 93
A12: =Lagtävling!A4 -> My - Tuva | B12: =Lagtävling!T5 -> 90
A13: =Lagtävling!A14 -> Olle - Felix Jä | B13: =Lagtävling!T15 -> 89.5
A14: =Lagtävling!A26 -> Nohelia - Ally | B14: =Lagtävling!T27 -> 86
A15: =Lagtävling!A22 -> Lasse - Levi | B15: =Lagtävling!T23 -> 74.5
A16: =Lagtävling!A28 -> 0 | B16: =Lagtävling!T29 -> 0
A17: =Lagtävling!A30 -> 0 | B17: =Lagtävling!T31 -> 0
A18: =Lagtävling!A32 -> 0 | B18: =Lagtävling!T33 -> 0
A19: =Lagtävling!A34 -> 0 | B19: =Lagtävling!T35 -> 0
A20: =Lagtävling!A36 -> 0 | B20: =Lagtävling!T37 -> 0
A21: =Lagtävling!A38 -> 0 | B21: =Lagtävling!T39 -> 0
